Workbook

Sheet Deployment Ct Data
A1: Miami Coded ID | B1: Date | C1: Sample | D1: Saliva Result | E1: Referred (yes/no) | F1: Ct MS2 | G1: Ct N | H1: Ct Orf1a | I1: Ct S | J1: dCt N | K1: dCt ORF1a
A2: 148 | B2: 44208 | C2: P6 | D2: Positive | E2: yes | F2: 41.424 | G2: 24.412 | H2: 25.444 | I2: 25.174 | J2: =F2-G2 -> 17.012 | K2: =F2-H2 -> 15.98
A3: 156 | B3: 44209 | C3: O19 | D3: Positive | E3: yes | F3: 31.94 | G3: 24.927 | H3: 26.711 | I3: 27.185 | J3: =F3-G3 -> 7.013 | K3: =F3-H3 -> 5.229
A4: 290 | B4: 44209 | C4: I19 | D4: Positive | E4: yes | F4: 31.492 | G4: 32.172 | H4: 34.098 | I4: 33.639 | J4: =F4-G4 -> -0.68 | K4: =F4-H4 -> -2.606
A5: 231 | B5: 44210 | C5: K2 | D5: Positive | E5: Yes | F5: 28.847 | G5: 35.644 | H5: 37.693 | I5: 46.73 | J5: =F5-G5 -> -6.797 | K5: =F5-H5 -> -8.846
A6: 276 | B6: 44210 | C6: I1 | D6: Positive* | E6: Yes | F6: 28.916 | G6: 34.413 | H6: 36.764 | I6: 51 | J6: =F6-G6 -> -5.497 | K6: =F6-H6 -> -7.848
A7: 283 | B7: 44210 | C7: G1 | D7: Positive* | E7: Yes | F7: 28.485 | G7: 40.477 | H7: 41.443 | I7: 51 | J7: =F7-G7 -> -11.992 | K7: =F7-H7 -> -12.958
A8: 289 | B8: 44210 | C8: A2 | D8: Positive | E8: Yes | F8: 28.814 | G8: 29.007 | H8: 30.345 | I8: 30.668 | J8: =F8-G8 -> -0.193 | K8: =F8-H8 -> -1.531
A9: 343 | B9: 44210 | C9: G2 | D9: Positive | E9: Yes | F9: 30.862 | G9: 33.208 | H9: 35.202 | I9: 36.164 | J9: =F9-G9 -> -2.346 | K9: =F9-H9 -> -4.34
A10: 124 | B10: 44211 | C10: A2 | D10: Positive | E10: Yes | F10: 31.695 | G10: 34.984 | H10: 35.673 | I10: 39.26 | J10: =F10-G10 -> -3.289 | K10: =F10-H10 -> -3.978
A11: 197 | B11: 44211 | C11: C2 | D11: Positive | E11: Yes | F11: 32.618 | G11: 35.676 | H11: 39.271 | I11: 41.556 | J11: =F11-G11 -> -3.058 | K11: =F11-H11 -> -6.653
A12: 300 | B12: 44211 | C12: E2 | D12: Positive | E12: Yes | F12: 51 | G12: 22.019 | H12: 24.263 | I12: 23.029 | J12: =F12-G12 -> 28.981 | K12: =F12-H12 -> 26.737
A13: 329 | B13: 44211 | C13: K2 | D13: Inconclusive | E13: Yes | F13: 51 | G13: 51 | H13: 51 | I13: 51 | J13: =F13-G13 -> 0 | K13: =F13-H13 -> 0
... A382: 306 | B382: 44321 | C382: I2 | D382: Positive* | E382: Yes | F382: 31.981 | G382: 31.446 | H382: 32.366 | I382: 51 | J382: =F382-G382 -> 0.535 | K382: =F382-H382 -> -0.385

Sheet Deployment Dx 2
A1: CODE | B1: Saliva | C1: Abbott | D1: HealthrackRx | E1: Other test | F1: Abbott | G1: HealthTrax | H1: Other
A2: 1 | B2: POSITIVE | C2: pos | F2: =IF(C2="pos",1,0) -> 1 | G2: =IF(D2="pos",1,0) -> 0 | H2: =IF(E2="pos",1,0) -> 0
A3: 2 | B3: POSITIVE | C3: pos | F3: =IF(C3="pos",1,0) -> 1 | G3: =IF(D3="pos",1,0) -> 0 | H3: =IF(E3="pos",1,0) -> 0
A4: 4 | B4: POSITIVE | C4: pos | F4: =IF(C4="pos",1,0) -> 1 | G4: =IF(D4="pos",1,0) -> 0 | H4: =IF(E4="pos",1,0) -> 0
A5: 5 | B5: POSITIVE | C5: pos | F5: =IF(C5="pos",1,0) -> 1 | G5: =IF(D5="pos",1,0) -> 0 | H5: =IF(E5="pos",1,0) -> 0
A6: 6 | B6: POSITIVE | C6: pos | F6: =IF(C6="pos",1,0) -> 1 | G6: =IF(D6="pos",1,0) -> 0 | H6: =IF(E6="pos",1,0) -> 0
A7: 7 | B7: POSITIVE | C7: pos | F7: =IF(C7="pos",1,0) -> 1 | G7: =IF(D7="pos",1,0) -> 0 | H7: =IF(E7="pos",1,0) -> 0
A8: 8 | B8: POSITIVE | C8: pos | F8: =IF(C8="pos",1,0) -> 1 | G8: =IF(D8="pos",1,0) -> 0 | H8: =IF(E8="pos",1,0) -> 0
A9: 9 | B9: POSITIVE | C9: pos | F9: =IF(C9="pos",1,0) -> 1 | G9: =IF(D9="pos",1,0) -> 0 | H9: =IF(E9="pos",1,0) -> 0
A10: 13 | B10: POSITIVE | C10: pos | F10: =IF(C10="pos",1,0) -> 1 | G10: =IF(D10="pos",1,0) -> 0 | H10: =IF(E10="pos",1,0) -> 0
A11: 15 | B11: POSITIVE | C11: pos | F11: =IF(C11="pos",1,0) -> 1 | G11: =IF(D11="pos",1,0) -> 0 | H11: =IF(E11="pos",1,0) -> 0
A12: 16 | B12: POSITIVE | C12: pos | F12: =IF(C12="pos",1,0) -> 1 | G12: =IF(D12="pos",1,0) -> 0 | H12: =IF(E12="pos",1,0) -> 0
A13: 17 | B13: POSITIVE | C13: pos | F13: =IF(C13="pos",1,0) -> 1 | G13: =IF(D13="pos",1,0) -> 0 | H13: =IF(E13="pos",1,0) -> 0
... A291: 374 | B291: POSITVE | C291: pos | F291: =IF(C291="pos",1,0) -> 1 | G291: =IF(D291="pos",1,0) -> 0 | H291: =IF(E291="pos",1,0) -> 0
A292: 124 | B292: Positive | C292: neg | D292: pos | F292: =IF(C292="pos",1,0) -> 0 | G292: =IF(D292="pos",1,0) -> 1 | H292: =IF(E292="pos",1,0) -> 0
A293: 129 | B293: Positive | C293: neg | D293: pos | F293: =IF(C293="pos",1,0) -> 0 | G293: =IF(D293="pos",1,0) -> 1 | H293: =IF(E293="pos",1,0) -> 0
A294: 138 | B294: Positive | C294: neg | D294: pos | F294: =IF(C294="pos",1,0) -> 0 | G294: =IF(D294="pos",1,0) -> 1 | H294: =IF(E294="pos",1,0) -> 0
A295: 144 | B295: POSITIVE | C295: neg | D295: pos | F295: =IF(C295="pos",1,0) -> 0 | G295: =IF(D295="pos",1,0) -> 1 | H295: =IF(E295="pos",1,0) -> 0
A296: 226 | B296: POSITIVE | C296: neg | D296: pos | F296: =IF(C296="pos",1,0) -> 0 | G296: =IF(D296="pos",1,0) -> 1 | H296: =IF(E296="pos",1,0) -> 0
A297: 276 | B297: Positive | C297: neg | D297: pos | F297: =IF(C297="pos",1,0) -> 0 | G297: =IF(D297="pos",1,0) -> 1 | H297: =IF(E297="pos",1,0) -> 0
A298: 12 | B298: POSITIVE | E298: pos | F298: =IF(C298="pos",1,0) -> 0 | G298: =IF(D298="pos",1,0) -> 0 | H298: =IF(E298="pos",1,0) -> 1
A299: 31 | B299: POSITIVE | E299: pos | F299: =IF(C299="pos",1,0) -> 0 | G299: =IF(D299="pos",1,0) -> 0 | H299: =IF(E299="pos",1,0) -> 1
A300: 41 | B300: POSITIVE | E300: pos | F300: =IF(C300="pos",1,0) -> 0 | G300: =IF(D300="pos",1,0) -> 0 | H300: =IF(E300="pos",1,0) -> 1
A301: 87 | B301: POSITIVE | E301: pos | F301: =IF(C301="pos",1,0) -> 0 | G301: =IF(D301="pos",1,0) -> 0 | H301: =IF(E301="pos",1,0) -> 1
A302: 247 | B302: POSITIVE | E302: pos | F302: =IF(C302="pos",1,0) -> 0 | G302: =IF(D302="pos",1,0) -> 0 | H302: =IF(E302="pos",1,0) -> 1
A303: 250 | B303: positive | E303: pos | F303: =IF(C303="pos",1,0) -> 0 | G303: =IF(D303="pos",1,0) -> 0 | H303: =IF(E303="pos",1,0) -> 1
A304: 254 | B304: POSITIVE | E304: pos | F304: =IF(C304="pos",1,0) -> 0 | G304: =IF(D304="pos",1,0) -> 0 | H304: =IF(E304="pos",1,0) -> 1
A305: 332 | B305: POSITIVE | E305: pos | F305: =IF(C305="pos",1,0) -> 0 | G305: =IF(D305="pos",1,0) -> 0 | H305: =IF(E305="pos",1,0) -> 1
A306: 368 | B306: POSITIVE | E306: pos | F306: =IF(C306="pos",1,0) -> 0 | G306: =IF(D306="pos",1,0) -> 0 | H306: =IF(E306="pos",1,0) -> 1
A307: 369 | B307: POSITIVE | E307: pos | F307: =IF(C307="pos",1,0) -> 0 | G307: =IF(D307="pos",1,0) -> 0 | H307: =IF(E307="pos",1,0) -> 1
A308: 167 | B308: POSITVE | E308: pos | F308: =IF(C308="pos",1,0) -> 0 | G308: =IF(D308="pos",1,0) -> 0 | H308: =IF(E308="pos",1,0) -> 1
A309: 353 | B309: POSITIVE | C309: pos | F309: =IF(C309="pos",1,0) -> 1 | G309: =IF(D309="pos",1,0) -> 0 | H309: =IF(E309="pos",1,0) -> 0
A310: 3 | B310: POSITIVE | C310: neg | D310: neg | F310: =IF(C310="pos",1,0) -> 0 | G310: =IF(D310="pos",1,0) -> 0 | H310: =IF(E310="pos",1,0) -> 0
A311: 10 | B311: POSITIVE | C311: neg | D311: neg | F311: =IF(C311="pos",1,0) -> 0 | G311: =IF(D311="pos",1,0) -> 0 | H311: =IF(E311="pos",1,0) -> 0
A312: 11 | B312: POSITIVE | C312: neg | D312: neg | F312: =IF(C312="pos",1,0) -> 0 | G312: =IF(D312="pos",1,0) -> 0 | H312: =IF(E312="pos",1,0) -> 0
A313: 53 | B313: POSITIVE | C313: neg | D313: neg | F313: =IF(C313="pos",1,0) -> 0 | G313: =IF(D313="pos",1,0) -> 0 | H313: =IF(E313="pos",1,0) -> 0
A314: 56 | B314: POSITIVE | C314: neg | D314: neg | F314: =IF(C314="pos",1,0) -> 0 | G314: =IF(D314="pos",1,0) -> 0 | H314: =IF(E314="pos",1,0) -> 0
A315: 65 | B315: POSITIVE | C315: neg | D315: neg | F315: =IF(C315="pos",1,0) -> 0 | G315: =IF(D315="pos",1,0) -> 0 | H315: =IF(E315="pos",1,0) -> 0
A316: 68 | B316: POSITIVE | C316: neg | D316: neg | F316: =IF(C316="pos",1,0) -> 0 | G316: =IF(D316="pos",1,0) -> 0 | H316: =IF(E316="pos",1,0) -> 0
A317: 69 | B317: POSITIVE | C317: neg | D317: neg | F317: =IF(C317="pos",1,0) -> 0 | G317: =IF(D317="pos",1,0) -> 0 | H317: =IF(E317="pos",1,0) -> 0
...

Sheet Deployment Dx results
A1: CODE | B1: Saliva | C1: Abbott | D1: HealthrackRx | E1: Other test | F1: positive | G1: negative | H1: no show | I1: Result | J1: Ct N | K1: dCt N | L1: Ct ORF1a | M1: dCt ORF1a
A2: 39 | B2: INCONCLUSIVE | C2: neg | G2: 1 | I2: =F2-G2 -> -1 | J2: =VLOOKUP(A2,'Deployment Ct Data'!A:K,7,FALSE) -> 42.245 | K2: =VLOOKUP(A2,'Deployment Ct Data'!A:K,10,FALSE) -> -9.519 | L2: =VLOOKUP(A2,'Deployment Ct Data'!A:K,8,FALSE) -> 51 | M2: =VLOOKUP(A2,'Deployment Ct Data'!A:K,11,FALSE) -> -18.274
A3: 48 | B3: INCONCLUSIVE | C3: neg | D3: neg | G3: 1 | I3: =F3-G3 -> -1 | J3: =VLOOKUP(A3,'Deployment Ct Data'!A:K,7,FALSE) -> 51 | K3: =VLOOKUP(A3,'Deployment Ct Data'!A:K,10,FALSE) -> -20.202 | L3: =VLOOKUP(A3,'Deployment Ct Data'!A:K,8,FALSE) -> 41.507 | M3: =VLOOKUP(A3,'Deployment Ct Data'!A:K,11,FALSE) -> -10.709
A4: 170 | B4: INCONCLUSIVE | C4: neg | D4: neg | G4: 1 | I4: =F4-G4 -> -1 | J4: =VLOOKUP(A4,'Deployment Ct Data'!A:K,7,FALSE) -> 51 | K4: =VLOOKUP(A4,'Deployment Ct Data'!A:K,10,FALSE) -> -6.941 | L4: =VLOOKUP(A4,'Deployment Ct Data'!A:K,8,FALSE) -> 51 | M4: =VLOOKUP(A4,'Deployment Ct Data'!A:K,11,FALSE) -> -6.941
A5: 174 | B5: INCONCLUSIVE | C5: neg | D5: neg | G5: 1 | I5: =F5-G5 -> -1 | J5: =VLOOKUP(A5,'Deployment Ct Data'!A:K,7,FALSE) -> 51 | K5: =VLOOKUP(A5,'Deployment Ct Data'!A:K,10,FALSE) -> 0 | L5: =VLOOKUP(A5,'Deployment Ct Data'!A:K,8,FALSE) -> 51 | M5: =VLOOKUP(A5,'Deployment Ct Data'!A:K,11,FALSE) -> 0
A6: 189 | B6: INCONCLUSIVE | C6: neg | D6: neg | G6: 1 | I6: =F6-G6 -> -1 | J6: =VLOOKUP(A6,'Deployment Ct Data'!A:K,7,FALSE) -> 51 | K6: =VLOOKUP(A6,'Deployment Ct Data'!A:K,10,FALSE) -> -21.072 | L6: =VLOOKUP(A6,'Deployment Ct Data'!A:K,8,FALSE) -> 51 | M6: =VLOOKUP(A6,'Deployment Ct Data'!A:K,11,FALSE) -> -21.072
A7: 228 | B7: INCONCLUSIVE | C7: neg | D7: neg | G7: 1 | I7: =F7-G7 -> -1 | J7: =VLOOKUP(A7,'Deployment Ct Data'!A:K,7,FALSE) -> 51 | K7: =VLOOKUP(A7,'Deployment Ct Data'!A:K,10,FALSE) -> 0 | L7: =VLOOKUP(A7,'Deployment Ct Data'!A:K,8,FALSE) -> 51 | M7: =VLOOKUP(A7,'Deployment Ct Data'!A:K,11,FALSE) -> 0
A8: 246 | B8: INCONCLUSIVE | C8: neg | D8: neg | G8: 1 | I8: =F8-G8 -> -1 | J8: =VLOOKUP(A8,'Deployment Ct Data'!A:K,7,FALSE) -> 51 | K8: =VLOOKUP(A8,'Deployment Ct Data'!A:K,10,FALSE) -> 0 | L8: =VLOOKUP(A8,'Deployment Ct Data'!A:K,8,FALSE) -> 51 | M8: =VLOOKUP(A8,'Deployment Ct Data'!A:K,11,FALSE) -> 0
A9: 1 | B9: POSITIVE | C9: pos | F9: 1 | I9: =F9-G9 -> 1 | J9: =VLOOKUP(A9,'Deployment Ct Data'!A:K,7,FALSE) -> 26.51 | K9: =VLOOKUP(A9,'Deployment Ct Data'!A:K,10,FALSE) -> 2.772 | L9: =VLOOKUP(A9,'Deployment Ct Data'!A:K,8,FALSE) -> 27.079 | M9: =VLOOKUP(A9,'Deployment Ct Data'!A:K,11,FALSE) -> 2.203
A10: 2 | B10: POSITIVE | C10: pos | F10: 1 | I10: =F10-G10 -> 1 | J10: =VLOOKUP(A10,'Deployment Ct Data'!A:K,7,FALSE) -> 31.136 | K10: =VLOOKUP(A10,'Deployment Ct Data'!A:K,10,FALSE) -> -0.275 | L10: =VLOOKUP(A10,'Deployment Ct Data'!A:K,8,FALSE) -> 32.277 | M10: =VLOOKUP(A10,'Deployment Ct Data'!A:K,11,FALSE) -> -1.416
A11: 4 | B11: POSITIVE | C11: pos | F11: 1 | I11: =F11-G11 -> 1 | J11: =VLOOKUP(A11,'Deployment Ct Data'!A:K,7,FALSE) -> 33.435 | K11: =VLOOKUP(A11,'Deployment Ct Data'!A:K,10,FALSE) -> -1.228 | L11: =VLOOKUP(A11,'Deployment Ct Data'!A:K,8,FALSE) -> 35.711 | M11: =VLOOKUP(A11,'Deployment Ct Data'!A:K,11,FALSE) -> -3.504
A12: 5 | B12: POSITIVE | C12: pos | F12: 1 | I12: =F12-G12 -> 1 | J12: =VLOOKUP(A12,'Deployment Ct Data'!A:K,7,FALSE) -> 34.018 | K12: =VLOOKUP(A12,'Deployment Ct Data'!A:K,10,FALSE) -> -3.068 | L12: =VLOOKUP(A12,'Deployment Ct Data'!A:K,8,FALSE) -> 36.632 | M12: =VLOOKUP(A12,'Deployment Ct Data'!A:K,11,FALSE) -> -5.682
A13: 6 | B13: POSITIVE | C13: pos | F13: 1 | I13: =F13-G13 -> 1 | J13: =VLOOKUP(A13,'Deployment Ct Data'!A:K,7,FALSE) -> 25.916 | K13: =VLOOKUP(A13,'Deployment Ct Data'!A:K,10,FALSE) -> 4.828 | L13: =VLOOKUP(A13,'Deployment Ct Data'!A:K,8,FALSE) -> 28.367 | M13: =VLOOKUP(A13,'Deployment Ct Data'!A:K,11,FALSE) -> 2.377
A14: 7 | B14: POSITIVE | C14: pos | F14: 1 | I14: =F14-G14 -> 1 | J14: =VLOOKUP(A14,'Deployment Ct Data'!A:K,7,FALSE) -> 27.395 | K14: =VLOOKUP(A14,'Deployment Ct Data'!A:K,10,FALSE) -> 5.048 | L14: =VLOOKUP(A14,'Deployment Ct Data'!A:K,8,FALSE) -> 28.14 | M14: =VLOOKUP(A14,'Deployment Ct Data'!A:K,11,FALSE) -> 4.303
A15: 8 | B15: POSITIVE | C15: pos | F15: 1 | I15: =F15-G15 -> 1 | J15: =VLOOKUP(A15,'Deployment Ct Data'!A:K,7,FALSE) -> 28.336 | K15: =VLOOKUP(A15,'Deployment Ct Data'!A:K,10,FALSE) -> 4.06 | L15: =VLOOKUP(A15,'Deployment Ct Data'!A:K,8,FALSE) -> 29.514 | M15: =VLOOKUP(A15,'Deployment Ct Data'!A:K,11,FALSE) -> 2.882
A16: 9 | B16: POSITIVE | C16: pos | F16: 1 | I16: =F16-G16 -> 1 | J16: =VLOOKUP(A16,'Deployment Ct Data'!A:K,7,FALSE) -> 34.906 | K16: =VLOOKUP(A16,'Deployment Ct Data'!A:K,10,FALSE) -> -5.236 | L16: =VLOOKUP(A16,'Deployment Ct Data'!A:K,8,FALSE) -> 35.496 | M16: =VLOOKUP(A16,'Deployment Ct Data'!A:K,11,FALSE) -> -5.826
A17: 12 | B17: POSITIVE | E17: pos | F17: 1 | I17: =F17-G17 -> 1 | J17: =VLOOKUP(A17,'Deployment Ct Data'!A:K,7,FALSE) -> 31.329 | K17: =VLOOKUP(A17,'Deployment Ct Data'!A:K,10,FALSE) -> 0.437 | L17: =VLOOKUP(A17,'Deployment Ct Data'!A:K,8,FALSE) -> 32.022 | M17: =VLOOKUP(A17,'Deployment Ct Data'!A:K,11,FALSE) -> -0.256
A18: 13 | B18: POSITIVE | C18: pos | F18: 1 | I18: =F18-G18 -> 1 | J18: =VLOOKUP(A18,'Deployment Ct Data'!A:K,7,FALSE) -> 32.077 | K18: =VLOOKUP(A18,'Deployment Ct Data'!A:K,10,FALSE) -> -2.008 | L18: =VLOOKUP(A18,'Deployment Ct Data'!A:K,8,FALSE) -> 33.058 | M18: =VLOOKUP(A18,'Deployment Ct Data'!A:K,11,FALSE) -> -2.989
A19: 15 | B19: POSITIVE | C19: pos | F19: 1 | I19: =F19-G19 -> 1 | J19: =VLOOKUP(A19,'Deployment Ct Data'!A:K,7,FALSE) -> 31.967 | K19: =VLOOKUP(A19,'Deployment Ct Data'!A:K,10,FALSE) -> -2.522 | L19: =VLOOKUP(A19,'Deployment Ct Data'!A:K,8,FALSE) -> 34.849 | M19: =VLOOKUP(A19,'Deployment Ct Data'!A:K,11,FALSE) -> -5.404
A20: 16 | B20: POSITIVE | C20: pos | F20: 1 | I20: =F20-G20 -> 1 | J20: =VLOOKUP(A20,'Deployment Ct Data'!A:K,7,FALSE) -> 25.039 | K20: =VLOOKUP(A20,'Deployment Ct Data'!A:K,10,FALSE) -> 4.659 | L20: =VLOOKUP(A20,'Deployment Ct Data'!A:K,8,FALSE) -> 25.824 | M20: =VLOOKUP(A20,'Deployment Ct Data'!A:K,11,FALSE) -> 3.874
A21: 17 | B21: POSITIVE | C21: pos | F21: 1 | I21: =F21-G21 -> 1 | J21: =VLOOKUP(A21,'Deployment Ct Data'!A:K,7,FALSE) -> 31.516 | K21: =VLOOKUP(A21,'Deployment Ct Data'!A:K,10,FALSE) -> -2.479 | L21: =VLOOKUP(A21,'Deployment Ct Data'!A:K,8,FALSE) -> 32.07 | M21: =VLOOKUP(A21,'Deployment Ct Data'!A:K,11,FALSE) -> -3.033
A22: 18 | B22: POSITIVE | C22: pos | F22: 1 | I22: =F22-G22 -> 1 | J22: =VLOOKUP(A22,'Deployment Ct Data'!A:K,7,FALSE) -> 31.179 | K22: =VLOOKUP(A22,'Deployment Ct Data'!A:K,10,FALSE) -> -0.763 | L22: =VLOOKUP(A22,'Deployment Ct Data'!A:K,8,FALSE) -> 32.276 | M22: =VLOOKUP(A22,'Deployment Ct Data'!A:K,11,FALSE) -> -1.86
A23: 20 | B23: POSITIVE | C23: pos | F23: 1 | I23: =F23-G23 -> 1 | J23: =VLOOKUP(A23,'Deployment Ct Data'!A:K,7,FALSE) -> 33.408 | K23: =VLOOKUP(A23,'Deployment Ct Data'!A:K,10,FALSE) -> -3.89 | L23: =VLOOKUP(A23,'Deployment Ct Data'!A:K,8,FALSE) -> 36.874 | M23: =VLOOKUP(A23,'Deployment Ct Data'!A:K,11,FALSE) -> -7.356
A24: 21 | B24: POSITIVE | C24: pos | F24: 1 | I24: =F24-G24 -> 1 | J24: =VLOOKUP(A24,'Deployment Ct Data'!A:K,7,FALSE) -> 27.525 | K24: =VLOOKUP(A24,'Deployment Ct Data'!A:K,10,FALSE) -> 10.358 | L24: =VLOOKUP(A24,'Deployment Ct Data'!A:K,8,FALSE) -> 28.496 | M24: =VLOOKUP(A24,'Deployment Ct Data'!A:K,11,FALSE) -> 9.387
A25: 22 | B25: POSITIVE | C25: pos | F25: 1 | I25: =F25-G25 -> 1 | J25: =VLOOKUP(A25,'Deployment Ct Data'!A:K,7,FALSE) -> 29.357 | K25: =VLOOKUP(A25,'Deployment Ct Data'!A:K,10,FALSE) -> 1.29 | L25: =VLOOKUP(A25,'Deployment Ct Data'!A:K,8,FALSE) -> 30.326 | M25: =VLOOKUP(A25,'Deployment Ct Data'!A:K,11,FALSE) -> 0.321
A26: 23 | B26: POSITIVE | C26: pos | F26: 1 | I26: =F26-G26 -> 1 | J26: =VLOOKUP(A26,'Deployment Ct Data'!A:K,7,FALSE) -> 31.964 | K26: =VLOOKUP(A26,'Deployment Ct Data'!A:K,10,FALSE) -> -2.392 | L26: =VLOOKUP(A26,'Deployment Ct Data'!A:K,8,FALSE) -> 34.384 | M26: =VLOOKUP(A26,'Deployment Ct Data'!A:K,11,FALSE) -> -4.812
A27: 24 | B27: POSITIVE | C27: pos | F27: 1 | I27: =F27-G27 -> 1 | J27: =VLOOKUP(A27,'Deployment Ct Data'!A:K,7,FALSE) -> 29.275 | K27: =VLOOKUP(A27,'Deployment Ct Data'!A:K,10,FALSE) -> 8.915 | L27: =VLOOKUP(A27,'Deployment Ct Data'!A:K,8,FALSE) -> 30.124 | M27: =VLOOKUP(A27,'Deployment Ct Data'!A:K,11,FALSE) -> 8.066
A28: 25 | B28: POSITIVE | C28: pos | F28: 1 | I28: =F28-G28 -> 1 | J28: =VLOOKUP(A28,'Deployment Ct Data'!A:K,7,FALSE) -> 26.872 | K28: =VLOOKUP(A28,'Deployment Ct Data'!A:K,10,FALSE) -> 5.583 | L28: =VLOOKUP(A28,'Deployment Ct Data'!A:K,8,FALSE) -> 27.111 | M28: =VLOOKUP(A28,'Deployment Ct Data'!A:K,11,FALSE) -> 5.344
A29: 26 | B29: POSITIVE | C29: pos | F29: 1 | I29: =F29-G29 -> 1 | J29: =VLOOKUP(A29,'Deployment Ct Data'!A:K,7,FALSE) -> 16.898 | K29: =VLOOKUP(A29,'Deployment Ct Data'!A:K,10,FALSE) -> 27.735 | L29: =VLOOKUP(A29,'Deployment Ct Data'!A:K,8,FALSE) -> 19.146 | M29: =VLOOKUP(A29,'Deployment Ct Data'!A:K,11,FALSE) -> 25.487
... A33: 30 | B33: POSITIVE | C33: pos | F33: 1 | I33: =F33-G33 -> 1 | J33: =VLOOKUP(A33,'Deployment Ct Data'!A:K,7,FALSE) -> 25.33 | K33: =VLOOKUP(A33,'Deployment Ct Data'!A:K,10,FALSE) -> 6.259 | L33: =VLOOKUP(A33,'Deployment Ct Data'!A:K,8,FALSE) -> 25.739 | M33: =VLOOKUP(A33,'Deployment Ct Data'!A:K,11,FALSE) -> 5.85
A34: 31 | B34: POSITIVE | E34: pos | F34: 1 | I34: =F34-G34 -> 1 | J34: =VLOOKUP(A34,'Deployment Ct Data'!A:K,7,FALSE) -> 31.391 | K34: =VLOOKUP(A34,'Deployment Ct Data'!A:K,10,FALSE) -> -1.902 | L34: =VLOOKUP(A34,'Deployment Ct Data'!A:K,8,FALSE) -> 31.524 | M34: =VLOOKUP(A34,'Deployment Ct Data'!A:K,11,FALSE) -> -2.035
A35: 32 | B35: POSITIVE | C35: pos | F35: 1 | I35: =F35-G35 -> 1 | J35: =VLOOKUP(A35,'Deployment Ct Data'!A:K,7,FALSE) -> 29.752 | K35: =VLOOKUP(A35,'Deployment Ct Data'!A:K,10,FALSE) -> -0.572 | L35: =VLOOKUP(A35,'Deployment Ct Data'!A:K,8,FALSE) -> 30.404 | M35: =VLOOKUP(A35,'Deployment Ct Data'!A:K,11,FALSE) -> -1.224
A36: 33 | B36: POSITIVE | C36: pos | F36: 1 | I36: =F36-G36 -> 1 | J36: =VLOOKUP(A36,'Deployment Ct Data'!A:K,7,FALSE) -> 32.831 | K36: =VLOOKUP(A36,'Deployment Ct Data'!A:K,10,FALSE) -> -2.336 | L36: =VLOOKUP(A36,'Deployment Ct Data'!A:K,8,FALSE) -> 34.173 | M36: =VLOOKUP(A36,'Deployment Ct Data'!A:K,11,FALSE) -> -3.678
A37: 34 | B37: POSITIVE | C37: pos | F37: 1 | I37: =F37-G37 -> 1 | J37: =VLOOKUP(A37,'Deployment Ct Data'!A:K,7,FALSE) -> 28.536 | K37: =VLOOKUP(A37,'Deployment Ct Data'!A:K,10,FALSE) -> 0.978 | L37: =VLOOKUP(A37,'Deployment Ct Data'!A:K,8,FALSE) -> 29.441 | M37: =VLOOKUP(A37,'Deployment Ct Data'!A:K,11,FALSE) -> 0.073
A38: 35 | B38: POSITIVE | C38: pos | F38: 1 | I38: =F38-G38 -> 1 | J38: =VLOOKUP(A38,'Deployment Ct Data'!A:K,7,FALSE) -> 28.798 | K38: =VLOOKUP(A38,'Deployment Ct Data'!A:K,10,FALSE) -> 3.562 | L38: =VLOOKUP(A38,'Deployment Ct Data'!A:K,8,FALSE) -> 28.979 | M38: =VLOOKUP(A38,'Deployment Ct Data'!A:K,11,FALSE) -> 3.381
A39: 36 | B39: POSITIVE | C39: pos | F39: 1 | I39: =F39-G39 -> 1 | J39: =VLOOKUP(A39,'Deployment Ct Data'!A:K,7,FALSE) -> 29.438 | K39: =VLOOKUP(A39,'Deployment Ct Data'!A:K,10,FALSE) -> 0.246 | L39: =VLOOKUP(A39,'Deployment Ct Data'!A:K,8,FALSE) -> 29.78 | M39: =VLOOKUP(A39,'Deployment Ct Data'!A:K,11,FALSE) -> -0.096
A40: 37 | B40: POSITIVE | C40: pos | F40: 1 | I40: =F40-G40 -> 1 | J40: =VLOOKUP(A40,'Deployment Ct Data'!A:K,7,FALSE) -> 25.256 | K40: =VLOOKUP(A40,'Deployment Ct Data'!A:K,10,FALSE) -> 5.219 | L40: =VLOOKUP(A40,'Deployment Ct Data'!A:K,8,FALSE) -> 25.462 | M40: =VLOOKUP(A40,'Deployment Ct Data'!A:K,11,FALSE) -> 5.013
A41: 38 | B41: POSITIVE | C41: pos | F41: 1 | I41: =F41-G41 -> 1 | J41: =VLOOKUP(A41,'Deployment Ct Data'!A:K,7,FALSE) -> 27.403 | K41: =VLOOKUP(A41,'Deployment Ct Data'!A:K,10,FALSE) -> 3.094 | L41: =VLOOKUP(A41,'Deployment Ct Data'!A:K,8,FALSE) -> 29.266 | M41: =VLOOKUP(A41,'Deployment Ct Data'!A:K,11,FALSE) -> 1.231
A42: 40 | B42: POSITIVE | C42: pos | F42: 1 | I42: =F42-G42 -> 1 | J42: =VLOOKUP(A42,'Deployment Ct Data'!A:K,7,FALSE) -> 31.283 | K42: =VLOOKUP(A42,'Deployment Ct Data'!A:K,10,FALSE) -> -0.308 | L42: =VLOOKUP(A42,'Deployment Ct Data'!A:K,8,FALSE) -> 33.223 | M42: =VLOOKUP(A42,'Deployment Ct Data'!A:K,11,FALSE) -> -2.248
A43: 41 | B43: POSITIVE | E43: pos | F43: 1 | I43: =F43-G43 -> 1 | J43: =VLOOKUP(A43,'Deployment Ct Data'!A:K,7,FALSE) -> 34.755 | K43: =VLOOKUP(A43,'Deployment Ct Data'!A:K,10,FALSE) -> -7.208 | L43: =VLOOKUP(A43,'Deployment Ct Data'!A:K,8,FALSE) -> 41.234 | M43: =VLOOKUP(A43,'Deployment Ct Data'!A:K,11,FALSE) -> -13.687
...

Sheet Deployment Summary Stats
A1: Date | B1: Number received | C1: Positive Pools | D1: Failed pools | E1: Inconclusive Pools | F1: Retest positive | G1: Retest failed | H1: Retest inconclusive | I1: Total Negative | J1: Day | K1: positivity rate | L1: failure rate
A2: 44214 | B2: 363 | C2: 2 | D2: 6 | E2: 0 | F2: 2 | G2: 0 | H2: 0 | I2: =B2-(SUM(F2:H2)) -> 361 | J2: aMonday | K2: =F2/B2*100 -> 0.55096419 | L2: =G2/B2*100 -> 0
A3: 44221 | B3: 324 | C3: 0 | D3: 4 | E3: 0 | F3: 0 | G3: 0 | H3: 0 | I3: =B3-(SUM(F3:H3)) -> 324 | J3: aMonday | K3: =F3/B3*100 -> 0 | L3: =G3/B3*100 -> 0
A4: 44228 | B4: 223 | C4: 0 | D4: 0 | E4: 0 | F4: 0 | G4: 0 | H4: 0 | I4: =B4-(SUM(F4:H4)) -> 223 | J4: aMonday | K4: =F4/B4*100 -> 0 | L4: =G4/B4*100 -> 0
A5: 44235 | B5: 336 | C5: 2 | D5: 4 | E5: 0 | F5: 2 | G5: 0 | H5: 1 | I5: =B5-(SUM(F5:H5)) -> 333 | J5: aMonday | K5: =F5/B5*100 -> 0.5952381 | L5: =G5/B5*100 -> 0
A6: 44242 | B6: 281 | C6: 0 | D6: 0 | E6: 0 | F6: 0 | G6: 0 | H6: 0 | I6: =B6-(SUM(F6:H6)) -> 281 | J6: aMonday | K6: =F6/B6*100 -> 0 | L6: =G6/B6*100 -> 0
A7: 44249 | B7: 353 | C7: 1 | D7: 0 | E7: 3 | F7: 1 | G7: 0 | H7: 0 | I7: =B7-(SUM(F7:H7)) -> 352 | J7: aMonday | K7: =F7/B7*100 -> 0.28328612 | L7: =G7/B7*100 -> 0
A8: 44256 | B8: 333 | C8: 5 | D8: 0 | E8: 3 | F8: 5 | G8: 0 | H8: 0 | I8: =B8-(SUM(F8:H8)) -> 328 | J8: aMonday | K8: =F8/B8*100 -> 1.5015015 | L8: =G8/B8*100 -> 0
A9: 44263 | B9: 312 | C9: 6 | D9: 7 | E9: 0 | F9: 7 | G9: 1 | H9: 0 | I9: =B9-(SUM(F9:H9)) -> 304 | J9: aMonday | K9: =F9/B9*100 -> 2.2435897 | L9: =G9/B9*100 -> 0.32051282
A10: 44270 | B10: 231 | C10: 1 | D10: 8 | E10: 1 | F10: 1 | G10: 4 | H10: 0 | I10: =B10-(SUM(F10:H10)) -> 226 | J10: aMonday | K10: =F10/B10*100 -> 0.43290043 | L10: =G10/B10*100 -> 1.7316017
A11: 44277 | B11: 307 | C11: 6 | D11: 10 | E11: 1 | F11: 7 | G11: 0 | H11: 0 | I11: =B11-(SUM(F11:H11)) -> 300 | J11: aMonday | K11: =F11/B11*100 -> 2.2801303 | L11: =G11/B11*100 -> 0
A12: 44284 | B12: 230 | C12: 1 | D12: 1 | E12: 1 | F12: 3 | G12: 0 | H12: 0 | I12: =B12-(SUM(F12:H12)) -> 227 | J12: aMonday | K12: =F12/B12*100 -> 1.3043478 | L12: =G12/B12*100 -> 0
A13: 44291 | B13: 231 | C13: 1 | D13: 1 | E13: 0 | F13: 2 | G13: 1 | H13: 0 | I13: =B13-(SUM(F13:H13)) -> 228 | J13: aMonday | K13: =F13/B13*100 -> 0.86580087 | L13: =G13/B13*100 -> 0.43290043
... A80: 44295 | B80: 499 | C80: 1 | D80: 1 | E80: 0 | F80: 1 | G80: 0 | H80: 0 | I80: =B80-(SUM(F80:H80)) -> 498 | J80: eFriday | K80: =F80/B80*100 -> 0.2004008 | L80: =G80/B80*100 -> 0
A81: 44303 | B81: 247 | C81: x | D81: x | E81: x | F81: 2 | G81: 27 | H81: 0 | I81: =B81-(SUM(F81:H81)) -> 218 | J81: eFriday | K81: =F81/B81*100 -> 0.8097166 | L81: =G81/B81*100 -> 10.931174
A82: 44309 | B82: 616 | C82: 1 | D82: 7 | E82: 3 | F82: 1 | G82: 1 | H82: 0 | I82: =B82-(SUM(F82:H82)) -> 614 | J82: eFriday | K82: =F82/B82*100 -> 0.16233766 | L82: =G82/B82*100 -> 0.16233766
A83: 44316 | B83: 443 | C83: 0 | D83: 4 | E83: 1 | F83: 0 | G83: 0 | H83: 0 | I83: =B83-(SUM(F83:H83)) -> 443 | J83: eFriday | K83: =F83/B83*100 -> 0 | L83: =G83/B83*100 -> 0
A84: 44323 | B84: 127 | C84: 0 | D84: 0 | E84: 0 | F84: 0 | G84: 0 | H84: 0 | I84: =B84-(SUM(F84:H84)) -> 127 | J84: eFriday | K84: =F84/B84*100 -> 0 | L84: =G84/B84*100 -> 0
A85: 44212 | B85: 292 | C85: 4 | D85: 30 | E85: 1 | F85: 7 | G85: 2 | H85: 0 | I85: =B85-(SUM(F85:H85)) -> 283 | J85: eSaturday | K85: =F85/B85*100 -> 2.3972603 | L85: =G85/B85*100 -> 0.68493151
A86: 44219 | B86: 358 | C86: x | D86: x | E86: x | F86: 2 | G86: 7 | H86: 0 | I86: =B86-(SUM(F86:H86)) -> 349 | J86: eSaturday | K86: =F86/B86*100 -> 0.55865922 | L86: =G86/B86*100 -> 1.9553073
A87: 44226 | B87: 286 | C87: x | D87: x | E87: x | F87: 1 | G87: 0 | H87: 0 | I87: =B87-(SUM(F87:H87)) -> 285 | J87: eSaturday | K87: =F87/B87*100 -> 0.34965035 | L87: =G87/B87*100 -> 0
A88: 44233 | B88: 296 | C88: x | D88: x | E88: x | F88: 1 | G88: 11 | H88: 0 | I88: =B88-(SUM(F88:H88)) -> 284 | J88: eSaturday | K88: =F88/B88*100 -> 0.33783784 | L88: =G88/B88*100 -> 3.7162162
A89: 44240 | B89: 215 | C89: x | D89: x | E89: x | F89: 2 | G89: 0 | H89: 1 | I89: =B89-(SUM(F89:H89)) -> 212 | J89: eSaturday | K89: =F89/B89*100 -> 0.93023256 | L89: =G89/B89*100 -> 0
A90: 44247 | B90: 300 | C90: x | D90: x | E90: x | F90: 3 | G90: 6 | H90: 1 | I90: =B90-(SUM(F90:H90)) -> 290 | J90: eSaturday | K90: =F90/B90*100 -> 1 | L90: =G90/B90*100 -> 2
A91: 44254 | B91: 295 | C91: x | D91: x | E91: x | F91: 3 | G91: 2 | H91: 1 | I91: =B91-(SUM(F91:H91)) -> 289 | J91: eSaturday | K91: =F91/B91*100 -> 1.0169492 | L91: =G91/B91*100 -> 0.6779661
A92: 44261 | B92: 297 | C92: x | D92: x | E92: x | F92: 3 | G92: 18 | H92: 0 | I92: =B92-(SUM(F92:H92)) -> 276 | J92: eSaturday | K92: =F92/B92*100 -> 1.010101 | L92: =G92/B92*100 -> 6.0606061
A93: 44268 | B93: 202 | C93: x | D93: x | E93: x | F93: 6 | G93: 4 | H93: 0 | I93: =B93-(SUM(F93:H93)) -> 192 | J93: eSaturday | K93: =F93/B93*100 -> 2.970297 | L93: =G93/B93*100 -> 1.980198
A94: 44275 | B94: 294 | C94: x | D94: x | E94: x | F94: 5 | G94: 18 | H94: 0 | I94: =B94-(SUM(F94:H94)) -> 271 | J94: eSaturday | K94: =F94/B94*100 -> 1.7006803 | L94: =G94/B94*100 -> 6.122449
A95: 44282 | B95: 255 | C95: x | D95: x | E95: x | F95: 2 | G95: 3 | H95: 0 | I95: =B95-(SUM(F95:H95)) -> 250 | J95: eSaturday | K95: =F95/B95*100 -> 0.78431373 | L95: =G95/B95*100 -> 1.1764706
A96: 44289 | B96: 224 | C96: x | D96: x | E96: x | F96: 3 | G96: 7 | H96: 0 | I96: =B96-(SUM(F96:H96)) -> 214 | J96: eSaturday | K96: =F96/B96*100 -> 1.3392857 | L96: =G96/B96*100 -> 3.125
A97: 44296 | B97: 264 | C97: x | D97: x | E97: x | F97: 0 | G97: 24 | H97: 0 | I97: =B97-(SUM(F97:H97)) -> 240 | J97: eSaturday | K97: =F97/B97*100 -> 0 | L97: =G97/B97*100 -> 9.0909091
A98: 44305 | B98: 237 | C98: 1 | D98: 3 | E98: 0 | F98: 1 | G98: 0 | H98: 0 | I98: =B98-(SUM(F98:H98)) -> 236 | J98: eSaturday | K98: =F98/B98*100 -> 0.42194093 | L98: =G98/B98*100 -> 0
A99: 44310 | B99: 274 | C99: x | D99: x | E99: x | F99: 0 | G99: 9 | H99: 0 | I99: =B99-(SUM(F99:H99)) -> 265 | J99: eSaturday | K99: =F99/B99*100 -> 0 | L99: =G99/B99*100 -> 3.2846715
A100: 44317 | B100: 199 | C100: x | D100: x | E100: x | F100: 1 | G100: 9 | H100: 0 | I100: =B100-(SUM(F100:H100)) -> 189 | J100: eSaturday | K100: =F100/B100*100 -> 0.50251256 | L100: =G100/B100*100 -> 4.5226131
A101: 44324 | B101: 71 | C101: x | D101: x | E101: x | F101: 0 | G101: 0 | H101: 1 | I101: =B101-(SUM(F101:H101)) -> 70 | J101: eSaturday | K101: =F101/B101*100 -> 0 | L101: =G101/B101*100 -> 0
A102: Sum | B102: =SUM(B2:B101) -> 44211 | C102: =SUM(C2:C101) -> 303 | D102: =SUM(D2:D101) -> 686 | E102: =SUM(E2:E101) -> 125 | F102: =SUM(F2:F101) -> 374 | G102: =SUM(G2:G101) -> 226 | H102: =SUM(H2:H101) -> 16 | I102: =SUM(I2:I101) -> 43595
F103: =F102/$B102 -> 0.0084594332 | G103: =G102/$B102 -> 0.00511185 | H103: =H102/$B102 -> 0.00036190088 | I103: =I102/$B102 -> 0.98606682

Sheet Deployment Predictive Analysis
A1: CODE | B1: Saliva | C1: Abbott | D1: HealthrackRx | E1: Other test | F1: positive | G1: negative | H1: no show | I1: Result | J1: Ct N | K1: dCt N | L1: Ct ORF1a | M1: dCt ORF1a | N1: Ct S | O1: Test Date | P1: Test Day
A2: 148 | B2: Positive | C2: pos | F2: 1 | I2: =F2-G2 -> 1 | J2: =VLOOKUP(A2,'Deployment Ct Data'!A:K,7,FALSE) -> 24.412 | K2: =VLOOKUP(A2,'Deployment Ct Data'!A:K,10,FALSE) -> 17.012 | L2: =VLOOKUP(A2,'Deployment Ct Data'!A:K,8,FALSE) -> 25.444 | M2: =VLOOKUP(A2,'Deployment Ct Data'!A:K,11,FALSE) -> 15.98 | N2: =VLOOKUP(A2,'Deployment Ct Data'!A:K,9,FALSE) -> 25.174 | O2: =VLOOKUP(A2,'Deployment Ct Data'!A:K,2,FALSE) -> 44208 | P2: =_xlfn.DAYS(O2,$O$2) -> 0
A3: 156 | B3: Positive | C3: pos | F3: 1 | I3: =F3-G3 -> 1 | J3: =VLOOKUP(A3,'Deployment Ct Data'!A:K,7,FALSE) -> 24.927 | K3: =VLOOKUP(A3,'Deployment Ct Data'!A:K,10,FALSE) -> 7.013 | L3: =VLOOKUP(A3,'Deployment Ct Data'!A:K,8,FALSE) -> 26.711 | M3: =VLOOKUP(A3,'Deployment Ct Data'!A:K,11,FALSE) -> 5.229 | N3: =VLOOKUP(A3,'Deployment Ct Data'!A:K,9,FALSE) -> 27.185 | O3: =VLOOKUP(A3,'Deployment Ct Data'!A:K,2,FALSE) -> 44209 | P3: =_xlfn.DAYS(O3,$O$2) -> 1
A4: 290 | B4: Positive | C4: pos | F4: 1 | I4: =F4-G4 -> 1 | J4: =VLOOKUP(A4,'Deployment Ct Data'!A:K,7,FALSE) -> 32.172 | K4: =VLOOKUP(A4,'Deployment Ct Data'!A:K,10,FALSE) -> -0.68 | L4: =VLOOKUP(A4,'Deployment Ct Data'!A:K,8,FALSE) -> 34.098 | M4: =VLOOKUP(A4,'Deployment Ct Data'!A:K,11,FALSE) -> -2.606 | N4: =VLOOKUP(A4,'Deployment Ct Data'!A:K,9,FALSE) -> 33.639 | O4: =VLOOKUP(A4,'Deployment Ct Data'!A:K,2,FALSE) -> 44209 | P4: =_xlfn.DAYS(O4,$O$2) -> 1
A5: 289 | B5: Positive | C5: pos | F5: 1 | I5: =F5-G5 -> 1 | J5: =VLOOKUP(A5,'Deployment Ct Data'!A:K,7,FALSE) -> 29.007 | K5: =VLOOKUP(A5,'Deployment Ct Data'!A:K,10,FALSE) -> -0.193 | L5: =VLOOKUP(A5,'Deployment Ct Data'!A:K,8,FALSE) -> 30.345 | M5: =VLOOKUP(A5,'Deployment Ct Data'!A:K,11,FALSE) -> -1.531 | N5: =VLOOKUP(A5,'Deployment Ct Data'!A:K,9,FALSE) -> 30.668 | O5: =VLOOKUP(A5,'Deployment Ct Data'!A:K,2,FALSE) -> 44210 | P5: =_xlfn.DAYS(O5,$O$2) -> 2
A6: 343 | B6: Positive | C6: pos | F6: 1 | I6: =F6-G6 -> 1 | J6: =VLOOKUP(A6,'Deployment Ct Data'!A:K,7,FALSE) -> 33.208 | K6: =VLOOKUP(A6,'Deployment Ct Data'!A:K,10,FALSE) -> -2.346 | L6: =VLOOKUP(A6,'Deployment Ct Data'!A:K,8,FALSE) -> 35.202 | M6: =VLOOKUP(A6,'Deployment Ct Data'!A:K,11,FALSE) -> -4.34 | N6: =VLOOKUP(A6,'Deployment Ct Data'!A:K,9,FALSE) -> 36.164 | O6: =VLOOKUP(A6,'Deployment Ct Data'!A:K,2,FALSE) -> 44210 | P6: =_xlfn.DAYS(O6,$O$2) -> 2
A7: 276 | B7: Positive | C7: neg | D7: pos | F7: 1 | I7: =F7-G7 -> 1 | J7: =VLOOKUP(A7,'Deployment Ct Data'!A:K,7,FALSE) -> 34.413 | K7: =VLOOKUP(A7,'Deployment Ct Data'!A:K,10,FALSE) -> -5.497 | L7: =VLOOKUP(A7,'Deployment Ct Data'!A:K,8,FALSE) -> 36.764 | M7: =VLOOKUP(A7,'Deployment Ct Data'!A:K,11,FALSE) -> -7.848 | N7: =VLOOKUP(A7,'Deployment Ct Data'!A:K,9,FALSE) -> 51 | O7: =VLOOKUP(A7,'Deployment Ct Data'!A:K,2,FALSE) -> 44210 | P7: =_xlfn.DAYS(O7,$O$2) -> 2
A8: 283 | B8: Positive | C8: pos | F8: 1 | I8: =F8-G8 -> 1 | J8: =VLOOKUP(A8,'Deployment Ct Data'!A:K,7,FALSE) -> 40.477 | K8: =VLOOKUP(A8,'Deployment Ct Data'!A:K,10,FALSE) -> -11.992 | L8: =VLOOKUP(A8,'Deployment Ct Data'!A:K,8,FALSE) -> 41.443 | M8: =VLOOKUP(A8,'Deployment Ct Data'!A:K,11,FALSE) -> -12.958 | N8: =VLOOKUP(A8,'Deployment Ct Data'!A:K,9,FALSE) -> 51 | O8: =VLOOKUP(A8,'Deployment Ct Data'!A:K,2,FALSE) -> 44210 | P8: =_xlfn.DAYS(O8,$O$2) -> 2
A9: 300 | B9: Positive | C9: pos | F9: 1 | I9: =F9-G9 -> 1 | J9: =VLOOKUP(A9,'Deployment Ct Data'!A:K,7,FALSE) -> 22.019 | K9: =VLOOKUP(A9,'Deployment Ct Data'!A:K,10,FALSE) -> 28.981 | L9: =VLOOKUP(A9,'Deployment Ct Data'!A:K,8,FALSE) -> 24.263 | M9: =VLOOKUP(A9,'Deployment Ct Data'!A:K,11,FALSE) -> 26.737 | N9: =VLOOKUP(A9,'Deployment Ct Data'!A:K,9,FALSE) -> 23.029 | O9: =VLOOKUP(A9,'Deployment Ct Data'!A:K,2,FALSE) -> 44211 | P9: =_xlfn.DAYS(O9,$O$2) -> 3
A10: 124 | B10: Positive | C10: neg | D10: pos | F10: 1 | I10: =F10-G10 -> 1 | J10: =VLOOKUP(A10,'Deployment Ct Data'!A:K,7,FALSE) -> 34.984 | K10: =VLOOKUP(A10,'Deployment Ct Data'!A:K,10,FALSE) -> -3.289 | L10: =VLOOKUP(A10,'Deployment Ct Data'!A:K,8,FALSE) -> 35.673 | M10: =VLOOKUP(A10,'Deployment Ct Data'!A:K,11,FALSE) -> -3.978 | N10: =VLOOKUP(A10,'Deployment Ct Data'!A:K,9,FALSE) -> 39.26 | O10: =VLOOKUP(A10,'Deployment Ct Data'!A:K,2,FALSE) -> 44211 | P10: =_xlfn.DAYS(O10,$O$2) -> 3
A11: 329 | B11: Positive | C11: pos | F11: 1 | I11: =F11-G11 -> 1 | J11: =VLOOKUP(A11,'Deployment Ct Data'!A:K,7,FALSE) -> 51 | K11: =VLOOKUP(A11,'Deployment Ct Data'!A:K,10,FALSE) -> 0 | L11: =VLOOKUP(A11,'Deployment Ct Data'!A:K,8,FALSE) -> 51 | M11: =VLOOKUP(A11,'Deployment Ct Data'!A:K,11,FALSE) -> 0 | N11: =VLOOKUP(A11,'Deployment Ct Data'!A:K,9,FALSE) -> 51 | O11: =VLOOKUP(A11,'Deployment Ct Data'!A:K,2,FALSE) -> 44211 | P11: =_xlfn.DAYS(O11,$O$2) -> 3
A12: 32 | B12: POSITIVE | C12: pos | F12: 1 | I12: =F12-G12 -> 1 | J12: =VLOOKUP(A12,'Deployment Ct Data'!A:K,7,FALSE) -> 29.752 | K12: =VLOOKUP(A12,'Deployment Ct Data'!A:K,10,FALSE) -> -0.572 | L12: =VLOOKUP(A12,'Deployment Ct Data'!A:K,8,FALSE) -> 30.404 | M12: =VLOOKUP(A12,'Deployment Ct Data'!A:K,11,FALSE) -> -1.224 | N12: =VLOOKUP(A12,'Deployment Ct Data'!A:K,9,FALSE) -> 30.466 | O12: =VLOOKUP(A12,'Deployment Ct Data'!A:K,2,FALSE) -> 44212 | P12: =_xlfn.DAYS(O12,$O$2) -> 4
A13: 181 | B13: POSITIVE | C13: pos | F13: 1 | I13: =F13-G13 -> 1 | J13: =VLOOKUP(A13,'Deployment Ct Data'!A:K,7,FALSE) -> 30.475 | K13: =VLOOKUP(A13,'Deployment Ct Data'!A:K,10,FALSE) -> -3.163 | L13: =VLOOKUP(A13,'Deployment Ct Data'!A:K,8,FALSE) -> 31.871 | M13: =VLOOKUP(A13,'Deployment Ct Data'!A:K,11,FALSE) -> -4.559 | N13: =VLOOKUP(A13,'Deployment Ct Data'!A:K,9,FALSE) -> 31.578 | O13: =VLOOKUP(A13,'Deployment Ct Data'!A:K,2,FALSE) -> 44212 | P13: =_xlfn.DAYS(O13,$O$2) -> 4
A14: 47 | B14: POSITIVE | C14: pos | F14: 1 | I14: =F14-G14 -> 1 | J14: =VLOOKUP(A14,'Deployment Ct Data'!A:K,7,FALSE) -> 30.955 | K14: =VLOOKUP(A14,'Deployment Ct Data'!A:K,10,FALSE) -> -2.345 | L14: =VLOOKUP(A14,'Deployment Ct Data'!A:K,8,FALSE) -> 32.765 | M14: =VLOOKUP(A14,'Deployment Ct Data'!A:K,11,FALSE) -> -4.155 | N14: =VLOOKUP(A14,'Deployment Ct Data'!A:K,9,FALSE) -> 32.524 | O14: =VLOOKUP(A14,'Deployment Ct Data'!A:K,2,FALSE) -> 44212 | P14: =_xlfn.DAYS(O14,$O$2) -> 4
A15: 302 | B15: POSITIVE | C15: pos | F15: 1 | I15: =F15-G15 -> 1 | J15: =VLOOKUP(A15,'Deployment Ct Data'!A:K,7,FALSE) -> 31.309 | K15: =VLOOKUP(A15,'Deployment Ct Data'!A:K,10,FALSE) -> 0.687 | L15: =VLOOKUP(A15,'Deployment Ct Data'!A:K,8,FALSE) -> 32.081 | M15: =VLOOKUP(A15,'Deployment Ct Data'!A:K,11,FALSE) -> -0.085 | N15: =VLOOKUP(A15,'Deployment Ct Data'!A:K,9,FALSE) -> 32.106 | O15: =VLOOKUP(A15,'Deployment Ct Data'!A:K,2,FALSE) -> 44212 | P15: =_xlfn.DAYS(O15,$O$2) -> 4
A16: 361 | B16: POSITIVE | C16: pos | F16: 1 | I16: =F16-G16 -> 1 | J16: =VLOOKUP(A16,'Deployment Ct Data'!A:K,7,FALSE) -> 42.726 | K16: =VLOOKUP(A16,'Deployment Ct Data'!A:K,10,FALSE) -> -9.588 | L16: =VLOOKUP(A16,'Deployment Ct Data'!A:K,8,FALSE) -> 41.404 | M16: =VLOOKUP(A16,'Deployment Ct Data'!A:K,11,FALSE) -> -8.266 | N16: =VLOOKUP(A16,'Deployment Ct Data'!A:K,9,FALSE) -> 51 | O16: =VLOOKUP(A16,'Deployment Ct Data'!A:K,2,FALSE) -> 44212 | P16: =_xlfn.DAYS(O16,$O$2) -> 4
A17: 296 | B17: POSITIVE | C17: pos | F17: 1 | I17: =F17-G17 -> 1 | J17: =VLOOKUP(A17,'Deployment Ct Data'!A:K,7,FALSE) -> 51 | K17: =VLOOKUP(A17,'Deployment Ct Data'!A:K,10,FALSE) -> -15.541 | L17: =VLOOKUP(A17,'Deployment Ct Data'!A:K,8,FALSE) -> 51 | M17: =VLOOKUP(A17,'Deployment Ct Data'!A:K,11,FALSE) -> -15.541 | N17: =VLOOKUP(A17,'Deployment Ct Data'!A:K,9,FALSE) -> 51 | O17: =VLOOKUP(A17,'Deployment Ct Data'!A:K,2,FALSE) -> 44212 | P17: =_xlfn.DAYS(O17,$O$2) -> 4
A18: 250 | B18: positive | E18: pos | F18: 1 | I18: =F18-G18 -> 1 | J18: =VLOOKUP(A18,'Deployment Ct Data'!A:K,7,FALSE) -> 32.905 | K18: =VLOOKUP(A18,'Deployment Ct Data'!A:K,10,FALSE) -> 6.636 | L18: =VLOOKUP(A18,'Deployment Ct Data'!A:K,8,FALSE) -> 33.186 | M18: =VLOOKUP(A18,'Deployment Ct Data'!A:K,11,FALSE) -> 6.355 | N18: =VLOOKUP(A18,'Deployment Ct Data'!A:K,9,FALSE) -> 33.782 | O18: =VLOOKUP(A18,'Deployment Ct Data'!A:K,2,FALSE) -> 44214 | P18: =_xlfn.DAYS(O18,$O$2) -> 6
A19: 314 | B19: positive | C19: pos | F19: 1 | I19: =F19-G19 -> 1 | J19: =VLOOKUP(A19,'Deployment Ct Data'!A:K,7,FALSE) -> 33.25 | K19: =VLOOKUP(A19,'Deployment Ct Data'!A:K,10,FALSE) -> -1.29 | L19: =VLOOKUP(A19,'Deployment Ct Data'!A:K,8,FALSE) -> 33.342 | M19: =VLOOKUP(A19,'Deployment Ct Data'!A:K,11,FALSE) -> -1.382 | N19: =VLOOKUP(A19,'Deployment Ct Data'!A:K,9,FALSE) -> 33.952 | O19: =VLOOKUP(A19,'Deployment Ct Data'!A:K,2,FALSE) -> 44214 | P19: =_xlfn.DAYS(O19,$O$2) -> 6
A20: 379 | B20: POSITIVE | C20: pos | F20: 1 | I20: =F20-G20 -> 1 | J20: =VLOOKUP(A20,'Deployment Ct Data'!A:K,7,FALSE) -> 25.822 | K20: =VLOOKUP(A20,'Deployment Ct Data'!A:K,10,FALSE) -> 5.151 | L20: =VLOOKUP(A20,'Deployment Ct Data'!A:K,8,FALSE) -> 30.788 | M20: =VLOOKUP(A20,'Deployment Ct Data'!A:K,11,FALSE) -> 0.185 | N20: =VLOOKUP(A20,'Deployment Ct Data'!A:K,9,FALSE) -> 28.852 | O20: =VLOOKUP(A20,'Deployment Ct Data'!A:K,2,FALSE) -> 44215 | P20: =_xlfn.DAYS(O20,$O$2) -> 7
A21: 121 | B21: POSITIVE | C21: pos | F21: 1 | I21: =F21-G21 -> 1 | J21: =VLOOKUP(A21,'Deployment Ct Data'!A:K,7,FALSE) -> 26.227 | K21: =VLOOKUP(A21,'Deployment Ct Data'!A:K,10,FALSE) -> 3.463 | L21: =VLOOKUP(A21,'Deployment Ct Data'!A:K,8,FALSE) -> 28.839 | M21: =VLOOKUP(A21,'Deployment Ct Data'!A:K,11,FALSE) -> 0.851 | N21: =VLOOKUP(A21,'Deployment Ct Data'!A:K,9,FALSE) -> 27.432 | O21: =VLOOKUP(A21,'Deployment Ct Data'!A:K,2,FALSE) -> 44215 | P21: =_xlfn.DAYS(O21,$O$2) -> 7
A22: 323 | B22: POSITIVE | C22: pos | F22: 1 | I22: =F22-G22 -> 1 | J22: =VLOOKUP(A22,'Deployment Ct Data'!A:K,7,FALSE) -> 36.346 | K22: =VLOOKUP(A22,'Deployment Ct Data'!A:K,10,FALSE) -> -7.347 | L22: =VLOOKUP(A22,'Deployment Ct Data'!A:K,8,FALSE) -> 39.453 | M22: =VLOOKUP(A22,'Deployment Ct Data'!A:K,11,FALSE) -> -10.454 | N22: =VLOOKUP(A22,'Deployment Ct Data'!A:K,9,FALSE) -> 41.953 | O22: =VLOOKUP(A22,'Deployment Ct Data'!A:K,2,FALSE) -> 44215 | P22: =_xlfn.DAYS(O22,$O$2) -> 7
A23: 161 | B23: POSITIVE | C23: pos | F23: 1 | I23: =F23-G23 -> 1 | J23: =VLOOKUP(A23,'Deployment Ct Data'!A:K,7,FALSE) -> 29.814 | K23: =VLOOKUP(A23,'Deployment Ct Data'!A:K,10,FALSE) -> 0.634 | L23: =VLOOKUP(A23,'Deployment Ct Data'!A:K,8,FALSE) -> 30.441 | M23: =VLOOKUP(A23,'Deployment Ct Data'!A:K,11,FALSE) -> 0.007 | N23: =VLOOKUP(A23,'Deployment Ct Data'!A:K,9,FALSE) -> 30.622 | O23: =VLOOKUP(A23,'Deployment Ct Data'!A:K,2,FALSE) -> 44216 | P23: =_xlfn.DAYS(O23,$O$2) -> 8
A24: 87 | B24: POSITIVE | E24: pos | F24: 1 | I24: =F24-G24 -> 1 | J24: =VLOOKUP(A24,'Deployment Ct Data'!A:K,7,FALSE) -> 27.298 | K24: =VLOOKUP(A24,'Deployment Ct Data'!A:K,10,FALSE) -> 3.002 | L24: =VLOOKUP(A24,'Deployment Ct Data'!A:K,8,FALSE) -> 28.111 | M24: =VLOOKUP(A24,'Deployment Ct Data'!A:K,11,FALSE) -> 2.189 | N24: =VLOOKUP(A24,'Deployment Ct Data'!A:K,9,FALSE) -> 29.515 | O24: =VLOOKUP(A24,'Deployment Ct Data'!A:K,2,FALSE) -> 44217 | P24: =_xlfn.DAYS(O24,$O$2) -> 9
A25: 41 | B25: POSITIVE | E25: pos | F25: 1 | I25: =F25-G25 -> 1 | J25: =VLOOKUP(A25,'Deployment Ct Data'!A:K,7,FALSE) -> 34.755 | K25: =VLOOKUP(A25,'Deployment Ct Data'!A:K,10,FALSE) -> -7.208 | L25: =VLOOKUP(A25,'Deployment Ct Data'!A:K,8,FALSE) -> 41.234 | M25: =VLOOKUP(A25,'Deployment Ct Data'!A:K,11,FALSE) -> -13.687 | N25: =VLOOKUP(A25,'Deployment Ct Data'!A:K,9,FALSE) -> 51 | O25: =VLOOKUP(A25,'Deployment Ct Data'!A:K,2,FALSE) -> 44218 | P25: =_xlfn.DAYS(O25,$O$2) -> 10
A26: 138 | B26: Positive | C26: neg | D26: pos | F26: 1 | I26: =F26-G26 -> 1 | J26: =VLOOKUP(A26,'Deployment Ct Data'!A:K,7,FALSE) -> 32.396 | K26: =VLOOKUP(A26,'Deployment Ct Data'!A:K,10,FALSE) -> 15.355 | L26: =VLOOKUP(A26,'Deployment Ct Data'!A:K,8,FALSE) -> 32.668 | M26: =VLOOKUP(A26,'Deployment Ct Data'!A:K,11,FALSE) -> 15.083 | N26: =VLOOKUP(A26,'Deployment Ct Data'!A:K,9,FALSE) -> 34.342 | O26: =VLOOKUP(A26,'Deployment Ct Data'!A:K,2,FALSE) -> 44220 | P26: =_xlfn.DAYS(O26,$O$2) -> 12
A27: 128 | B27: POSITIVE | C27: pos | F27: 1 | I27: =F27-G27 -> 1 | J27: =VLOOKUP(A27,'Deployment Ct Data'!A:K,7,FALSE) -> 37.027 | K27: =VLOOKUP(A27,'Deployment Ct Data'!A:K,10,FALSE) -> -4.855 | L27: =VLOOKUP(A27,'Deployment Ct Data'!A:K,8,FALSE) -> 46.583 | M27: =VLOOKUP(A27,'Deployment Ct Data'!A:K,11,FALSE) -> -14.411 | N27: =VLOOKUP(A27,'Deployment Ct Data'!A:K,9,FALSE) -> 51 | O27: =VLOOKUP(A27,'Deployment Ct Data'!A:K,2,FALSE) -> 44220 | P27: =_xlfn.DAYS(O27,$O$2) -> 12
A28: 347 | B28: POSITIVE | C28: pos | F28: 1 | I28: =F28-G28 -> 1 | J28: =VLOOKUP(A28,'Deployment Ct Data'!A:K,7,FALSE) -> 27.96 | K28: =VLOOKUP(A28,'Deployment Ct Data'!A:K,10,FALSE) -> 8.083 | L28: =VLOOKUP(A28,'Deployment Ct Data'!A:K,8,FALSE) -> 28.827 | M28: =VLOOKUP(A28,'Deployment Ct Data'!A:K,11,FALSE) -> 7.216 | N28: =VLOOKUP(A28,'Deployment Ct Data'!A:K,9,FALSE) -> 28.891 | O28: =VLOOKUP(A28,'Deployment Ct Data'!A:K,2,FALSE) -> 44222 | P28: =_xlfn.DAYS(O28,$O$2) -> 14
A29: 293 | B29: POSITIVE | C29: pos | F29: 1 | I29: =F29-G29 -> 1 | J29: =VLOOKUP(A29,'Deployment Ct Data'!A:K,7,FALSE) -> 35.614 | K29: =VLOOKUP(A29,'Deployment Ct Data'!A:K,10,FALSE) -> -1.479 | L29: =VLOOKUP(A29,'Deployment Ct Data'!A:K,8,FALSE) -> 44.224 | M29: =VLOOKUP(A29,'Deployment Ct Data'!A:K,11,FALSE) -> -10.089 | N29: =VLOOKUP(A29,'Deployment Ct Data'!A:K,9,FALSE) -> 51 | O29: =VLOOKUP(A29,'Deployment Ct Data'!A:K,2,FALSE) -> 44223 | P29: =_xlfn.DAYS(O29,$O$2) -> 15
A30: 178 | B30: POSITIVE | C30: pos | F30: 1 | I30: =F30-G30 -> 1 | J30: =VLOOKUP(A30,'Deployment Ct Data'!A:K,7,FALSE) -> 29.96 | K30: =VLOOKUP(A30,'Deployment Ct Data'!A:K,10,FALSE) -> 1.915 | L30: =VLOOKUP(A30,'Deployment Ct Data'!A:K,8,FALSE) -> 31.752 | M30: =VLOOKUP(A30,'Deployment Ct Data'!A:K,11,FALSE) -> 0.123 | N30: =VLOOKUP(A30,'Deployment Ct Data'!A:K,9,FALSE) -> 33.122 | O30: =VLOOKUP(A30,'Deployment Ct Data'!A:K,2,FALSE) -> 44224 | P30: =_xlfn.DAYS(O30,$O$2) -> 16
A31: 271 | B31: POSITIVE | C31: pos | F31: 1 | I31: =F31-G31 -> 1 | J31: =VLOOKUP(A31,'Deployment Ct Data'!A:K,7,FALSE) -> 22.95 | K31: =VLOOKUP(A31,'Deployment Ct Data'!A:K,10,FALSE) -> 8.433 | L31: =VLOOKUP(A31,'Deployment Ct Data'!A:K,8,FALSE) -> 23.608 | M31: =VLOOKUP(A31,'Deployment Ct Data'!A:K,11,FALSE) -> 7.775 | N31: =VLOOKUP(A31,'Deployment Ct Data'!A:K,9,FALSE) -> 23.813 | O31: =VLOOKUP(A31,'Deployment Ct Data'!A:K,2,FALSE) -> 44225 | P31: =_xlfn.DAYS(O31,$O$2) -> 17
A32: 363 | B32: POSITIVE | C32: pos | F32: 1 | I32: =F32-G32 -> 1 | J32: =VLOOKUP(A32,'Deployment Ct Data'!A:K,7,FALSE) -> 27.276 | K32: =VLOOKUP(A32,'Deployment Ct Data'!A:K,10,FALSE) -> 2.443 | L32: =VLOOKUP(A32,'Deployment Ct Data'!A:K,8,FALSE) -> 28.527 | M32: =VLOOKUP(A32,'Deployment Ct Data'!A:K,11,FALSE) -> 1.192 | N32: =VLOOKUP(A32,'Deployment Ct Data'!A:K,9,FALSE) -> 28.67 | O32: =VLOOKUP(A32,'Deployment Ct Data'!A:K,2,FALSE) -> 44225 | P32: =_xlfn.DAYS(O32,$O$2) -> 17
A33: 183 | B33: POSITIVE | C33: pos | F33: 1 | I33: =F33-G33 -> 1 | J33: =VLOOKUP(A33,'Deployment Ct Data'!A:K,7,FALSE) -> 27.78 | K33: =VLOOKUP(A33,'Deployment Ct Data'!A:K,10,FALSE) -> 2.408 | L33: =VLOOKUP(A33,'Deployment Ct Data'!A:K,8,FALSE) -> 28.877 | M33: =VLOOKUP(A33,'Deployment Ct Data'!A:K,11,FALSE) -> 1.311 | N33: =VLOOKUP(A33,'Deployment Ct Data'!A:K,9,FALSE) -> 29.422 | O33: =VLOOKUP(A33,'Deployment Ct Data'!A:K,2,FALSE) -> 44225 | P33: =_xlfn.DAYS(O33,$O$2) -> 17
A34: 63 | B34: POSITIVE | C34: pos | F34: 1 | I34: =F34-G34 -> 1 | J34: =VLOOKUP(A34,'Deployment Ct Data'!A:K,7,FALSE) -> 29.402 | K34: =VLOOKUP(A34,'Deployment Ct Data'!A:K,10,FALSE) -> 1.134 | L34: =VLOOKUP(A34,'Deployment Ct Data'!A:K,8,FALSE) -> 29.911 | M34: =VLOOKUP(A34,'Deployment Ct Data'!A:K,11,FALSE) -> 0.625 | N34: =VLOOKUP(A34,'Deployment Ct Data'!A:K,9,FALSE) -> 30.305 | O34: =VLOOKUP(A34,'Deployment Ct Data'!A:K,2,FALSE) -> 44225 | P34: =_xlfn.DAYS(O34,$O$2) -> 17
A35: 376 | B35: POSITIVE | C35: pos | F35: 1 | I35: =F35-G35 -> 1 | J35: =VLOOKUP(A35,'Deployment Ct Data'!A:K,7,FALSE) -> 29.784 | K35: =VLOOKUP(A35,'Deployment Ct Data'!A:K,10,FALSE) -> 0.123 | L35: =VLOOKUP(A35,'Deployment Ct Data'!A:K,8,FALSE) -> 30.397 | M35: =VLOOKUP(A35,'Deployment Ct Data'!A:K,11,FALSE) -> -0.49 | N35: =VLOOKUP(A35,'Deployment Ct Data'!A:K,9,FALSE) -> 30.761 | O35: =VLOOKUP(A35,'Deployment Ct Data'!A:K,2,FALSE) -> 44225 | P35: =_xlfn.DAYS(O35,$O$2) -> 17
A36: 247 | B36: POSITIVE | E36: pos | F36: 1 | I36: =F36-G36 -> 1 | J36: =VLOOKUP(A36,'Deployment Ct Data'!A:K,7,FALSE) -> 17.937 | K36: =VLOOKUP(A36,'Deployment Ct Data'!A:K,10,FALSE) -> 26.939 | L36: =VLOOKUP(A36,'Deployment Ct Data'!A:K,8,FALSE) -> 18.504 | M36: =VLOOKUP(A36,'Deployment Ct Data'!A:K,11,FALSE) -> 26.372 | N36: =VLOOKUP(A36,'Deployment Ct Data'!A:K,9,FALSE) -> 18.53 | O36: =VLOOKUP(A36,'Deployment Ct Data'!A:K,2,FALSE) -> 44229 | P36: =_xlfn.DAYS(O36,$O$2) -> 21
A37: 270 | B37: POSITIVE | C37: pos | F37: 1 | I37: =F37-G37 -> 1 | J37: =VLOOKUP(A37,'Deployment Ct Data'!A:K,7,FALSE) -> 22.044 | K37: =VLOOKUP(A37,'Deployment Ct Data'!A:K,10,FALSE) -> 20.03 | L37: =VLOOKUP(A37,'Deployment Ct Data'!A:K,8,FALSE) -> 23.081 | M37: =VLOOKUP(A37,'Deployment Ct Data'!A:K,11,FALSE) -> 18.993 | N37: =VLOOKUP(A37,'Deployment Ct Data'!A:K,9,FALSE) -> 23.581 | O37: =VLOOKUP(A37,'Deployment Ct Data'!A:K,2,FALSE) -> 44229 | P37: =_xlfn.DAYS(O37,$O$2) -> 21
A38: 180 | B38: POSITIVE | C38: pos | F38: 1 | I38: =F38-G38 -> 1 | J38: =VLOOKUP(A38,'Deployment Ct Data'!A:K,7,FALSE) -> 24.382 | K38: =VLOOKUP(A38,'Deployment Ct Data'!A:K,10,FALSE) -> 26.618 | L38: =VLOOKUP(A38,'Deployment Ct Data'!A:K,8,FALSE) -> 24.015 | M38: =VLOOKUP(A38,'Deployment Ct Data'!A:K,11,FALSE) -> 26.985 | N38: =VLOOKUP(A38,'Deployment Ct Data'!A:K,9,FALSE) -> 24.55 | O38: =VLOOKUP(A38,'Deployment Ct Data'!A:K,2,FALSE) -> 44229 | P38: =_xlfn.DAYS(O38,$O$2) -> 21
A39: 118 | B39: POSITIVE | C39: pos | F39: 1 | I39: =F39-G39 -> 1 | J39: =VLOOKUP(A39,'Deployment Ct Data'!A:K,7,FALSE) -> 24.894 | K39: =VLOOKUP(A39,'Deployment Ct Data'!A:K,10,FALSE) -> 19.552 | L39: =VLOOKUP(A39,'Deployment Ct Data'!A:K,8,FALSE) -> 26.018 | M39: =VLOOKUP(A39,'Deployment Ct Data'!A:K,11,FALSE) -> 18.428 | N39: =VLOOKUP(A39,'Deployment Ct Data'!A:K,9,FALSE) -> 25.779 | O39: =VLOOKUP(A39,'Deployment Ct Data'!A:K,2,FALSE) -> 44229 | P39: =_xlfn.DAYS(O39,$O$2) -> 21
A40: 344 | B40: POSITIVE | C40: pos | F40: 1 | I40: =F40-G40 -> 1 | J40: =VLOOKUP(A40,'Deployment Ct Data'!A:K,7,FALSE) -> 27.94 | K40: =VLOOKUP(A40,'Deployment Ct Data'!A:K,10,FALSE) -> 8.413 | L40: =VLOOKUP(A40,'Deployment Ct Data'!A:K,8,FALSE) -> 28.173 | M40: =VLOOKUP(A40,'Deployment Ct Data'!A:K,11,FALSE) -> 8.18 | N40: =VLOOKUP(A40,'Deployment Ct Data'!A:K,9,FALSE) -> 28.294 | O40: =VLOOKUP(A40,'Deployment Ct Data'!A:K,2,FALSE) -> 44229 | P40: =_xlfn.DAYS(O40,$O$2) -> 21
...

Sheet Validation Saliva Positives
A1: Data ID number | B1: Test Date | C1: Saliva | D1: First Swab Result | E1: Second Swab Result
A2: 1 | B2: 44154 | C2: positive | D2: negative | E2: referred - results unknown
A3: 2 | B3: 44154 | C3: positive | D3: positive
A4: 3 | B4: 44154 | C4: positive | D4: positive
A5: 4 | B5: 44154 | C5: positive | D5: negative | E5: referred - results unknown
A6: 5 | B6: 44154 | C6: positive | D6: negative | E6: referred - results unknown
A7: 6 | B7: 44153 | C7: positive | D7: positive
A8: 7 | B8: 44153 | C8: positive | D8: positive
A9: 8 | B9: 44153 | C9: positive | D9: positive
A10: 9 | B10: 44152 | C10: weak | D10: negative | E10: positive
A11: 10 | B11: 44152 | C11: positive | D11: positive
A12: 11 | B12: 44152 | C12: weak | D12: negative | E12: referred - no show
A13: 12 | B13: 44152 | C13: positive | D13: positive
A14: 13 | B14: 44152 | C14: weak | D14: negative | E14: referred - no show
A15: 14 | B15: 44152 | C15: positive | D15: negative | E15: positive
A16: 15 | B16: 44152 | C16: positive | D16: negative | E16: positive
A17: 16 | B17: 44151 | C17: positive | D17: positive
A18: 17 | B18: 44151 | C18: positive | D18: positive
A19: 18 | B19: 44151 | C19: positive | D19: negative | E19: positive
A20: 19 | B20: 44151 | C20: positive | D20: positive
A21: 20 | B21: 44151 | C21: positive | D21: positive
A22: 21 | B22: 44148 | C22: positive | D22: negative | E22: positive
A23: 22 | B23: 44148 | C23: positive | D23: positive
A24: 23 | B24: 44148 | C24: positive | D24: positive
A25: 24 | B25: 44148 | C25: positive | D25: positive
A26: 25 | B26: 44148 | C26: positive | D26: positive
A27: 26 | B27: 44148 | C27: positive | D27: positive
A28: 27 | B28: 44148 | C28: positive | D28: positive
A29: 28 | B29: 44148 | C29: positive | D29: positive
A30: 29 | B30: 44148 | C30: positive | D30: negative | E30: in quarantine - roommate positive
A31: 30 | B31: 44148 | C31: positive | D31: positive
A32: 31 | B32: 44148 | C32: positive | D32: positive
A33: 32 | B33: 44147 | C33: positive | D33: positive
A34: 33 | B34: 44147 | C34: positive | D34: positive
A35: 34 | B35: 44147 | C35: positive | D35: positive
A36: 35 | B36: 44146 | C36: positive | D36: positive
A37: 36 | B37: 44146 | C37: positive | D37: positive
A38: 37 | B38: 44146 | C38: positive | D38: negative | E38: in quarantine - roommate positive
A39: 38 | B39: 44146 | C39: positive | D39: positive
A40: 39 | B40: 44146 | C40: positive | D40: negative | E40: positive
...

Sheet Validation Comparative stats
A1: Samples Acquired | B1: Test Processed | C1: Total Tests | D1: Positive Tests | E1: Inconclusives | F1: Positivity Rate | G1: False negative | I1: TriHealth MU SURV | J1: Tests | K1: Positive | L1: Rate
A2: 44139 | B2: 44140 | C2: =10*16-2 -> 158 | D2: 0 | F2: =D2/C2 -> 0 | I2: 44139 | J2: 401 | K2: 0 | L2: =K2/J2 -> 0
A3: 44140 | B3: 44141 | C3: =13*16+3 -> 211 | D3: 1 | F3: =D3/C3 -> 0.0047393365 | I3: 44140 | J3: 416 | K3: 1 | L3: =K3/J3 -> 0.0024038462
A4: 44141 | B4: 44144 | C4: =22*16-2 -> 350 | D4: 3 | F4: =D4/C4 -> 0.0085714286 | G4: 2 | I4: 44141 | J4: 665 | K4: 7 | L4: =K4/J4 -> 0.010526316
A5: 44144 | B5: 44145 | C5: =14*16-3 -> 221 | D5: 6 | F5: =D5/C5 -> 0.027149321 | I5: 44144 | J5: 463 | K5: 5 | L5: =K5/J5 -> 0.010799136
A6: 44145 | B6: 44146 | C6: =9*16+2 -> 146 | D6: 1 | F6: =D6/C6 -> 0.0068493151 | I6: 44145 | J6: 317 | K6: 4 | L6: =K6/J6 -> 0.012618297
A7: 44146 | B7: 44147 | C7: =11*16+2 -> 178 | D7: 6 | F7: =D7/C7 -> 0.033707865 | I7: 44146 | J7: 453 | K7: 7 | L7: =K7/J7 -> 0.015452539
A8: 44147 | B8: 44148 | C8: =14*16+7 -> 231 | D8: 3 | F8: =D8/C8 -> 0.012987013 | I8: 44147 | J8: 432 | K8: 6 | L8: =K8/J8 -> 0.013888889
A9: 11/13 - 11/14 | B9: 44151 | C9: =23*16-1 -> 367 | D9: 11 | F9: =D9/C9 -> 0.029972752 | G9: 1 | I9: 44148 | J9: 591 | K9: 13 | L9: =K9/J9 -> 0.021996616
A10: 44151 | B10: 44152 | C10: =13*16+6 -> 214 | D10: 5 | F10: =D10/C10 -> 0.023364486 | I10: 44151 | J10: 414 | K10: 5 | L10: =K10/J10 -> 0.012077295
A11: 44152 | B11: 44153 | C11: 192 | D11: 7 | F11: =D11/C11 -> 0.036458333 | I11: 44152 | J11: 367 | K11: 7 | L11: =K11/J11 -> 0.019073569
A12: 44153 | B12: 44154 | C12: 251 | D12: 3 | F12: =D12/C12 -> 0.011952191 | I12: 44153 | J12: 470 | K12: 5 | L12: =K12/J12 -> 0.010638298
A13: 44154 | B13: 44155 | C13: 267 | D13: 5 | F13: =D13/C13 -> 0.018726592 | I13: 44154 | J13: 521 | K13: 4 | L13: =K13/J13 -> 0.0076775432
B14: Total | C14: =SUM(C2:C13) -> 2786 | D14: =SUM(D2:D13) -> 51 | F14: =D14/C14 -> 0.018305815 | I14: Total | J14: =SUM(J2:J13) -> 5510 | K14: =SUM(K2:K13) -> 64 | L14: =K14/J14 -> 0.011615245
B15: Non-zero | C15: =SUM(C3:C13) -> 2628 | D15: =SUM(D3:D13) -> 51 | F15: =D15/C15 -> 0.019406393 | I15: Non-zero | J15: =SUM(J3:J13) -> 5109 | K15: =SUM(K3:K13) -> 64 | L15: =K15/J15 -> 0.012526913
