Workbook

Sheet Deployment Ct Data
A1: Miami Coded ID | B1: Date | C1: Sample | D1: Saliva Result | E1: Referred (yes/no) | F1: Ct MS2 | G1: Ct N | H1: Ct Orf1a | I1: Ct S | J1: dCt N | K1: dCt ORF1a
A2: 148 | B2: 44208 | C2: P6 | D2: Positive | E2: yes | F2: 41.424 | G2: 24.412 | H2: 25.444 | I2: 25.174 | J2: =F2-G2 -> 17.012 | K2: =F2-H2 -> 15.98
A3: 156 | B3: 44209 | C3: O19 | D3: Positive | E3: yes | F3: 31.94 | G3: 24.927 | H3: 26.711 | I3: 27.185 | J3: =F3-G3 -> 7.013 | K3: =F3-H3 -> 5.229
A4: 290 | B4: 44209 | C4: I19 | D4: Positive | E4: yes | F4: 31.492 | G4: 32.172 | H4: 34.098 | I4: 33.639 | J4: =F4-G4 -> -0.68 | K4: =F4-H4 -> -2.606
A5: 231 | B5: 44210 | C5: K2 | D5: Positive | E5: Yes | F5: 28.847 | G5: 35.644 | H5: 37.693 | I5: 46.73 | J5: =F5-G5 -> -6.797 | K5: =F5-H5 -> -8.846
A6: 276 | B6: 44210 | C6: I1 | D6: Positive* | E6: Yes | F6: 28.916 | G6: 34.413 | H6: 36.764 | I6: 51 | J6: =F6-G6 -> -5.497 | K6: =F6-H6 -> -7.848
A7: 283 | B7: 44210 | C7: G1 | D7: Positive* | E7: Yes | F7: 28.485 | G7: 40.477 | H7: 41.443 | I7: 51 | J7: =F7-G7 -> -11.992 | K7: =F7-H7 -> -12.958
A8: 289 | B8: 44210 | C8: A2 | D8: Positive | E8: Yes | F8: 28.814 | G8: 29.007 | H8: 30.345 | I8: 30.668 | J8: =F8-G8 -> -0.193 | K8: =F8-H8 -> -1.531
A9: 343 | B9: 44210 | C9: G2 | D9: Positive | E9: Yes | F9: 30.862 | G9: 33.208 | H9: 35.202 | I9: 36.164 | J9: =F9-G9 -> -2.346 | K9: =F9-H9 -> -4.34
A10: 124 | B10: 44211 | C10: A2 | D10: Positive | E10: Yes | F10: 31.695 | G10: 34.984 | H10: 35.673 | I10: 39.26 | J10: =F10-G10 -> -3.289 | K10: =F10-H10 -> -3.978
A11: 197 | B11: 44211 | C11: C2 | D11: Positive | E11: Yes | F11: 32.618 | G11: 35.676 | H11: 39.271 | I11: 41.556 | J11: =F11-G11 -> -3.058 | K11: =F11-H11 -> -6.653
A12: 300 | B12: 44211 | C12: E2 | D12: Positive | E12: Yes | F12: 51 | G12: 22.019 | H12: 24.263 | I12: 23.029 | J12: =F12-G12 -> 28.981 | K12: =F12-H12 -> 26.737
A13: 329 | B13: 44211 | C13: K2 | D13: Inconclusive | E13: Yes | F13: 51 | G13: 51 | H13: 51 | I13: 51 | J13: =F13-G13 -> 0 | K13: =F13-H13 -> 0
... A382: 306 | B382: 44321 | C382: I2 | D382: Positive* | E382: Yes | F382: 31.981 | G382: 31.446 | H382: 32.366 | I382: 51 | J382: =F382-G382 -> 0.535 | K382: =F382-H382 -> -0.385

Sheet Deployment Dx 2
A1: CODE | B1: Saliva | C1: Abbott | D1: HealthrackRx | E1: Other test | F1: Abbott | G1: HealthTrax | H1: Other
A2: 1 | B2: POSITIVE | C2: pos | F2: =IF(C2="pos",1,0) -> 1 | G2: =IF(D2="pos",1,0) -> 0 | H2: =IF(E2="pos",1,0) -> 0
A3: 2 | B3: POSITIVE | C3: pos | F3: =IF(C3="pos",1,0) -> 1 | G3: =IF(D3="pos",1,0) -> 0 | H3: =IF(E3="pos",1,0) -> 0
A4: 4 | B4: POSITIVE | C4: pos | F4: =IF(C4="pos",1,0) -> 1 | G4: =IF(D4="pos",1,0) -> 0 | H4: =IF(E4="pos",1,0) -> 0
A5: 5 | B5: POSITIVE | C5: pos | F5: =IF(C5="pos",1,0) -> 1 | G5: =IF(D5="pos",1,0) -> 0 | H5: =IF(E5="pos",1,0) -> 0
A6: 6 | B6: POSITIVE | C6: pos | F6: =IF(C6="pos",1,0) -> 1 | G6: =IF(D6="pos",1,0) -> 0 | H6: =IF(E6="pos",1,0) -> 0
A7: 7 | B7: POSITIVE | C7: pos | F7: =IF(C7="pos",1,0) -> 1 | G7: =IF(D7="pos",1,0) -> 0 | H7: =IF(E7="pos",1,0) -> 0
A8: 8 | B8: POSITIVE | C8: pos | F8: =IF(C8="pos",1,0) -> 1 | G8: =IF(D8="pos",1,0) -> 0 | H8: =IF(E8="pos",1,0) -> 0
A9: 9 | B9: POSITIVE | C9: pos | F9: =IF(C9="pos",1,0) -> 1 | G9: =IF(D9="pos",1,0) -> 0 | H9: =IF(E9="pos",1,0) -> 0
A10: 13 | B10: POSITIVE | C10: pos | F10: =IF(C10="pos",1,0) -> 1 | G10: =IF(D10="pos",1,0) -> 0 | H10: =IF(E10="pos",1,0) -> 0
A11: 15 | B11: POSITIVE | C11: pos | F11: =IF(C11="pos",1,0) -> 1 | G11: =IF(D11="pos",1,0) -> 0 | H11: =IF(E11="pos",1,0) -> 0
A12: 16 | B12: POSITIVE | C12: pos | F12: =IF(C12="pos",1,0) -> 1 | G12: =IF(D12="pos",1,0) -> 0 | H12: =IF(E12="pos",1,0) -> 0
A13: 17 | B13: POSITIVE | C13: pos | F13: =IF(C13="pos",1,0) -> 1 | G13: =IF(D13="pos",1,0) -> 0 | H13: =IF(E13="pos",1,0) -> 0
... A291: 374 | B291: POSITVE | C291: pos | F291: =IF(C291="pos",1,0) -> 1 | G291: =IF(D291="pos",1,0) -> 0 | H291: =IF(E291="pos",1,0) -> 0
A292: 124 | B292: Positive | C292: neg | D292: pos | F292: =IF(C292="pos",1,0) -> 0 | G292: =IF(D292="pos",1,0) -> 1 | H292: =IF(E292="pos",1,0) -> 0
A293: 129 | B293: Positive | C293: neg | D293: pos | F293: =IF(C293="pos",1,0) -> 0 | G293: =IF(D293="pos",1,0) -> 1 | H293: =IF(E293="pos",1,0) -> 0
A294: 138 | B294: Positive | C294: neg | D294: pos | F294: =IF(C294="pos",1,0) -> 0 | G294: =IF(D294="pos",1,0) -> 1 | H294: =IF(E294="pos",1,0) -> 0
A295: 144 | B295: POSITIVE | C295: neg | D295: pos | F295: =IF(C295="pos",1,0) -> 0 | G295: =IF(D295="pos",1,0) -> 1 | H295: =IF(E295="pos",1,0) -> 0
A296: 226 | B296: POSITIVE | C296: neg | D296: pos | F296: =IF(C296="pos",1,0) -> 0 | G296: =IF(D296="pos",1,0) -> 1 | H296: =IF(E296="pos",1,0) -> 0
A297: 276 | B297: Positive | C297: neg | D297: pos | F297: =IF(C297="pos",1,0) -> 0 | G297: =IF(D297="pos",1,0) -> 1 | H297: =IF(E297="pos",1,0) -> 0
A298: 12 | B298: POSITIVE | E298: pos | F298: =IF(C298="pos",1,0) -> 0 | G298: =IF(D298="pos",1,0) -> 0 | H298: =IF(E298="pos",1,0) -> 1
A299: 31 | B299: POSITIVE | E299: pos | F299: =IF(C299="pos",1,0) -> 0 | G299: =IF(D299="pos",1,0) -> 0 | H299: =IF(E299="pos",1,0) -> 1
A300: 41 | B300: POSITIVE | E300: pos | F300: =IF(C300="pos",1,0) -> 0 | G300: =IF(D300="pos",1,0) -> 0 | H300: =IF(E300="pos",1,0) -> 1
A301: 87 | B301: POSITIVE | E301: pos | F301: =IF(C301="pos",1,0) -> 0 | G301: =IF(D301="pos",1,0) -> 0 | H301: =IF(E301="pos",1,0) -> 1
A302: 247 | B302: POSITIVE | E302: pos | F302: =IF(C302="pos",1,0) -> 0 | G302: =IF(D302="pos",1,0) -> 0 | H302: =IF(E302="pos",1,0) -> 1
A303: 250 | B303: positive | E303: pos | F303: =IF(C303="pos",1,0) -> 0 | G303: =IF(D303="pos",1,0) -> 0 | H303: =IF(E303="pos",1,0) -> 1
A304: 254 | B304: POSITIVE | E304: pos | F304: =IF(C304="pos",1,0) -> 0 | G304: =IF(D304="pos",1,0) -> 0 | H304: =IF(E304="pos",1,0) -> 1
A305: 332 | B305: POSITIVE | E305: pos | F305: =IF(C305="pos",1,0) -> 0 | G305: =IF(D305="pos",1,0) -> 0 | H305: =IF(E305="pos",1,0) -> 1
A306: 368 | B306: POSITIVE | E306: pos | F306: =IF(C306="pos",1,0) -> 0 | G306: =IF(D306="pos",1,0) -> 0 | H306: =IF(E306="pos",1,0) -> 1
A307: 369 | B307: POSITIVE | E307: pos | F307: =IF(C307="pos",1,0) -> 0 | G307: =IF(D307="pos",1,0) -> 0 | H307: =IF(E307="pos",1,0) -> 1
A308: 167 | B308: POSITVE | E308: pos | F308: =IF(C308="pos",1,0) -> 0 | G308: =IF(D308="pos",1,0) -> 0 | H308: =IF(E308="pos",1,0) -> 1
A309: 353 | B309: POSITIVE | C309: pos | F309: =IF(C309="pos",1,0) -> 1 | G309: =IF(D309="pos",1,0) -> 0 | H309: =IF(E309="pos",1,0) -> 0
A310: 3 | B310: POSITIVE | C310: neg | D310: neg | F310: =IF(C310="pos",1,0) -> 0 | G310: =IF(D310="pos",1,0) -> 0 | H310: =IF(E310="pos",1,0) -> 0
A311: 10 | B311: POSITIVE | C311: neg | D311: neg | F311: =IF(C311="pos",1,0) -> 0 | G311: =IF(D311="pos",1,0) -> 0 | H311: =IF(E311="pos",1,0) -> 0
A312: 11 | B312: POSITIVE | C312: neg | D312: neg | F312: =IF(C312="pos",1,0) -> 0 | G312: =IF(D312="pos",1,0) -> 0 | H312: =IF(E312="pos",1,0) -> 0
A313: 53 | B313: POSITIVE | C313: neg | D313: neg | F313: =IF(C313="pos",1,0) -> 0 | G313: =IF(D313="pos",1,0) -> 0 | H313: =IF(E313="pos",1,0) -> 0
A314: 56 | B314: POSITIVE | C314: neg | D314: neg | F314: =IF(C314="pos",1,0) -> 0 | G314: =IF(D314="pos",1,0) -> 0 | H314: =IF(E314="pos",1,0) -> 0
A315: 65 | B315: POSITIVE | C315: neg | D315: neg | F315: =IF(C315="pos",1,0) -> 0 | G315: =IF(D315="pos",1,0) -> 0 | H315: =IF(E315="pos",1,0) -> 0
A316: 68 | B316: POSITIVE | C316: neg | D316: neg | F316: =IF(C316="pos",1,0) -> 0 | G316: =IF(D316="pos",1,0) -> 0 | H316: =IF(E316="pos",1,0) -> 0
A317: 69 | B317: POSITIVE | C317: neg | D317: neg | F317: =IF(C317="pos",1,0) -> 0 | G317: =IF(D317="pos",1,0) -> 0 | H317: =IF(E317="pos",1,0) -> 0
A318: 74 | B318: POSITIVE | C318: neg | D318: neg | F318: =IF(C318="pos",1,0) -> 0 | G318: =IF(D318="pos",1,0) -> 0 | H318: =IF(E318="pos",1,0) -> 0
A319: 80 | B319: POSITIVE | C319: neg | D319: neg | F319: =IF(C319="pos",1,0) -> 0 | G319: =IF(D319="pos",1,0) -> 0 | H319: =IF(E319="pos",1,0) -> 0
A320: 81 | B320: POSITIVE | C320: neg | D320: neg | F320: =IF(C320="pos",1,0) -> 0 | G320: =IF(D320="pos",1,0) -> 0 | H320: =IF(E320="pos",1,0) -> 0
A321: 85 | B321: POSITIVE | C321: neg | D321: neg | F321: =IF(C321="pos",1,0) -> 0 | G321: =IF(D321="pos",1,0) -> 0 | H321: =IF(E321="pos",1,0) -> 0
A322: 98 | B322: POSITIVE | C322: neg | F322: =IF(C322="pos",1,0) -> 0 | G322: =IF(D322="pos",1,0) -> 0 | H322: =IF(E322="pos",1,0) -> 0
A323: 140 | B323: POSITIVE | C323: neg | D323: neg | F323: =IF(C323="pos",1,0) -> 0 | G323: =IF(D323="pos",1,0) -> 0 | H323: =IF(E323="pos",1,0) -> 0
A324: 145 | B324: POSITIVE | C324: neg | D324: neg | F324: =IF(C324="pos",1,0) -> 0 | G324: =IF(D324="pos",1,0) -> 0 | H324: =IF(E324="pos",1,0) -> 0
A325: 157 | B325: POSITIVE | C325: neg | D325: neg | F325: =IF(C325="pos",1,0) -> 0 | G325: =IF(D325="pos",1,0) -> 0 | H325: =IF(E325="pos",1,0) -> 0
A326: 159 | B326: POSITIVE | C326: neg | D326: neg | F326: =IF(C326="pos",1,0) -> 0 | G326: =IF(D326="pos",1,0) -> 0 | H326: =IF(E326="pos",1,0) -> 0
A327: 168 | B327: POSITIVE | C327: neg | D327: neg | F327: =IF(C327="pos",1,0) -> 0 | G327: =IF(D327="pos",1,0) -> 0 | H327: =IF(E327="pos",1,0) -> 0
A328: 169 | B328: POSITIVE | C328: neg | F328: =IF(C328="pos",1,0) -> 0 | G328: =IF(D328="pos",1,0) -> 0 | H328: =IF(E328="pos",1,0) -> 0
A329: 198 | B329: POSITIVE | C329: neg | D329: neg | F329: =IF(C329="pos",1,0) -> 0 | G329: =IF(D329="pos",1,0) -> 0 | H329: =IF(E329="pos",1,0) -> 0
A330: 209 | B330: POSITIVE | C330: neg | D330: neg | F330: =IF(C330="pos",1,0) -> 0 | G330: =IF(D330="pos",1,0) -> 0 | H330: =IF(E330="pos",1,0) -> 0
A331: 211 | B331: POSITIVE | C331: neg | D331: neg | F331: =IF(C331="pos",1,0) -> 0 | G331: =IF(D331="pos",1,0) -> 0 | H331: =IF(E331="pos",1,0) -> 0
A332: 224 | B332: POSITIVE | C332: neg | D332: neg | F332: =IF(C332="pos",1,0) -> 0 | G332: =IF(D332="pos",1,0) -> 0 | H332: =IF(E332="pos",1,0) -> 0
A333: 231 | B333: Positive | C333: neg | D333: neg | F333: =IF(C333="pos",1,0) -> 0 | G333: =IF(D333="pos",1,0) -> 0 | H333: =IF(E333="pos",1,0) -> 0
A334: 232 | B334: POSITIVE | C334: neg | D334: neg | F334: =IF(C334="pos",1,0) -> 0 | G334: =IF(D334="pos",1,0) -> 0 | H334: =IF(E334="pos",1,0) -> 0
A335: 241 | B335: POSITIVE | C335: neg | D335: neg | F335: =IF(C335="pos",1,0) -> 0 | G335: =IF(D335="pos",1,0) -> 0 | H335: =IF(E335="pos",1,0) -> 0
A336: 243 | B336: POSITIVE | C336: neg | D336: neg | F336: =IF(C336="pos",1,0) -> 0 | G336: =IF(D336="pos",1,0) -> 0 | H336: =IF(E336="pos",1,0) -> 0
A337: 251 | B337: POSITIVE | C337: neg | D337: neg | F337: =IF(C337="pos",1,0) -> 0 | G337: =IF(D337="pos",1,0) -> 0 | H337: =IF(E337="pos",1,0) -> 0
A338: 252 | B338: POSITIVE | C338: neg | D338: neg | F338: =IF(C338="pos",1,0) -> 0 | G338: =IF(D338="pos",1,0) -> 0 | H338: =IF(E338="pos",1,0) -> 0
A339: 272 | B339: POSITIVE | C339: neg | D339: neg | F339: =IF(C339="pos",1,0) -> 0 | G339: =IF(D339="pos",1,0) -> 0 | H339: =IF(E339="pos",1,0) -> 0
A340: 273 | B340: POSITIVE | C340: neg | D340: neg | F340: =IF(C340="pos",1,0) -> 0 | G340: =IF(D340="pos",1,0) -> 0 | H340: =IF(E340="pos",1,0) -> 0
... A343: 291 | B343: POSITIVE | C343: neg | D343: neg | F343: =IF(C343="pos",1,0) -> 0 | G343: =IF(D343="pos",1,0) -> 0 | H343: =IF(E343="pos",1,0) -> 0
A344: 298 | B344: POSITIVE | C344: neg | F344: =IF(C344="pos",1,0) -> 0 | G344: =IF(D344="pos",1,0) -> 0 | H344: =IF(E344="pos",1,0) -> 0
A345: 311 | B345: POSITIVE | C345: neg | D345: neg | F345: =IF(C345="pos",1,0) -> 0 | G345: =IF(D345="pos",1,0) -> 0 | H345: =IF(E345="pos",1,0) -> 0
A346: 319 | B346: POSITIVE | C346: neg | F346: =IF(C346="pos",1,0) -> 0 | G346: =IF(D346="pos",1,0) -> 0 | H346: =IF(E346="pos",1,0) -> 0
A347: 326 | B347: POSITIVE | C347: neg | D347: neg | F347: =IF(C347="pos",1,0) -> 0 | G347: =IF(D347="pos",1,0) -> 0 | H347: =IF(E347="pos",1,0) -> 0
A348: 331 | B348: POSITIVE | C348: neg | D348: neg | F348: =IF(C348="pos",1,0) -> 0 | G348: =IF(D348="pos",1,0) -> 0 | H348: =IF(E348="pos",1,0) -> 0
A349: 336 | B349: Positive | C349: neg | D349: neg | F349: =IF(C349="pos",1,0) -> 0 | G349: =IF(D349="pos",1,0) -> 0 | H349: =IF(E349="pos",1,0) -> 0
A350: 351 | B350: POSITIVE | C350: neg | F350: =IF(C350="pos",1,0) -> 0 | G350: =IF(D350="pos",1,0) -> 0 | H350: =IF(E350="pos",1,0) -> 0
A351: 357 | B351: POSITIVE | C351: neg | D351: neg | F351: =IF(C351="pos",1,0) -> 0 | G351: =IF(D351="pos",1,0) -> 0 | H351: =IF(E351="pos",1,0) -> 0
A352: 360 | B352: POSITIVE | C352: neg | D352: neg | F352: =IF(C352="pos",1,0) -> 0 | G352: =IF(D352="pos",1,0) -> 0 | H352: =IF(E352="pos",1,0) -> 0
A353: 377 | B353: POSITIVE | C353: neg | F353: =IF(C353="pos",1,0) -> 0 | G353: =IF(D353="pos",1,0) -> 0 | H353: =IF(E353="pos",1,0) -> 0
A354: 378 | B354: POSITIVE | C354: neg | D354: neg | F354: =IF(C354="pos",1,0) -> 0 | G354: =IF(D354="pos",1,0) -> 0 | H354: =IF(E354="pos",1,0) -> 0
A355: 14 | B355: POSITIVE | C355: no show | F355: =IF(C355="pos",1,0) -> 0 | G355: =IF(D355="pos",1,0) -> 0 | H355: =IF(E355="pos",1,0) -> 0
A356: 19 | B356: POSITIVE | C356: no show | F356: =IF(C356="pos",1,0) -> 0 | G356: =IF(D356="pos",1,0) -> 0 | H356: =IF(E356="pos",1,0) -> 0
A357: 43 | B357: POSITIVE | C357: no show | F357: =IF(C357="pos",1,0) -> 0 | G357: =IF(D357="pos",1,0) -> 0 | H357: =IF(E357="pos",1,0) -> 0
A358: 78 | B358: POSITIVE | C358: no show | D358: no show | F358: =IF(C358="pos",1,0) -> 0 | G358: =IF(D358="pos",1,0) -> 0 | H358: =IF(E358="pos",1,0) -> 0
A359: 84 | B359: POSITIVE | C359: no show | F359: =IF(C359="pos",1,0) -> 0 | G359: =IF(D359="pos",1,0) -> 0 | H359: =IF(E359="pos",1,0) -> 0
A360: 106 | B360: POSITIVE | C360: no show | F360: =IF(C360="pos",1,0) -> 0 | G360: =IF(D360="pos",1,0) -> 0 | H360: =IF(E360="pos",1,0) -> 0
A361: 108 | B361: POSITIVE | C361: no show | F361: =IF(C361="pos",1,0) -> 0 | G361: =IF(D361="pos",1,0) -> 0 | H361: =IF(E361="pos",1,0) -> 0
A362: 111 | B362: POSITIVE | C362: no show | D362: no show | F362: =IF(C362="pos",1,0) -> 0 | G362: =IF(D362="pos",1,0) -> 0 | H362: =IF(E362="pos",1,0) -> 0
A363: 114 | B363: POSITIVE | C363: no show | F363: =IF(C363="pos",1,0) -> 0 | G363: =IF(D363="pos",1,0) -> 0 | H363: =IF(E363="pos",1,0) -> 0
A364: 165 | B364: POSITIVE | C364: no show | F364: =IF(C364="pos",1,0) -> 0 | G364: =IF(D364="pos",1,0) -> 0 | H364: =IF(E364="pos",1,0) -> 0
A365: 197 | B365: Positive | C365: no show | D365: no show | F365: =IF(C365="pos",1,0) -> 0 | G365: =IF(D365="pos",1,0) -> 0 | H365: =IF(E365="pos",1,0) -> 0
A366: 206 | B366: POSITIVE | C366: no show | F366: =IF(C366="pos",1,0) -> 0 | G366: =IF(D366="pos",1,0) -> 0 | H366: =IF(E366="pos",1,0) -> 0
A367: 215 | B367: POSITIVE | C367: no show | F367: =IF(C367="pos",1,0) -> 0 | G367: =IF(D367="pos",1,0) -> 0 | H367: =IF(E367="pos",1,0) -> 0
A368: 227 | B368: POSITIVE | C368: no show | F368: =IF(C368="pos",1,0) -> 0 | G368: =IF(D368="pos",1,0) -> 0 | H368: =IF(E368="pos",1,0) -> 0
A369: 242 | B369: POSITIVE | C369: no show | F369: =IF(C369="pos",1,0) -> 0 | G369: =IF(D369="pos",1,0) -> 0 | H369: =IF(E369="pos",1,0) -> 0
A370: 244 | B370: POSITIVE | C370: no show | D370: no show | F370: =IF(C370="pos",1,0) -> 0 | G370: =IF(D370="pos",1,0) -> 0 | H370: =IF(E370="pos",1,0) -> 0
A371: 265 | B371: POSITIVE | C371: no show | F371: =IF(C371="pos",1,0) -> 0 | G371: =IF(D371="pos",1,0) -> 0 | H371: =IF(E371="pos",1,0) -> 0
A372: 303 | B372: POSITIVE | C372: no show | D372: no show | F372: =IF(C372="pos",1,0) -> 0 | G372: =IF(D372="pos",1,0) -> 0 | H372: =IF(E372="pos",1,0) -> 0
A373: 308 | B373: POSITIVE | C373: no show | D373: no show | F373: =IF(C373="pos",1,0) -> 0 | G373: =IF(D373="pos",1,0) -> 0 | H373: =IF(E373="pos",1,0) -> 0
A374: 320 | B374: POSITIVE | C374: no show | D374: no show | F374: =IF(C374="pos",1,0) -> 0 | G374: =IF(D374="pos",1,0) -> 0 | H374: =IF(E374="pos",1,0) -> 0
A375: 337 | B375: POSITIVE | C375: no show | F375: =IF(C375="pos",1,0) -> 0 | G375: =IF(D375="pos",1,0) -> 0 | H375: =IF(E375="pos",1,0) -> 0
A377: Sum | F377: =SUM(F2:F375) -> 291 | G377: =SUM(G2:G375) -> 6 | H377: =SUM(H2:H375) -> 11 | I377: =SUM(F377:H377) -> 308

Sheet Deployment Dx results
A1: CODE | B1: Saliva | C1: Abbott | D1: HealthrackRx | E1: Other test | F1: positive | G1: negative | H1: no show | I1: Result | J1: Ct N | K1: dCt N | L1: Ct ORF1a | M1: dCt ORF1a
A2: 39 | B2: INCONCLUSIVE | C2: neg | G2: 1 | I2: =F2-G2 -> -1 | J2: =VLOOKUP(A2,'Deployment Ct Data'!A:K,7,FALSE) -> 42.245 | K2: =VLOOKUP(A2,'Deployment Ct Data'!A:K,10,FALSE) -> -9.519 | L2: =VLOOKUP(A2,'Deployment Ct Data'!A:K,8,FALSE) -> 51 | M2: =VLOOKUP(A2,'Deployment Ct Data'!A:K,11,FALSE) -> -18.274
A3: 48 | B3: INCONCLUSIVE | C3: neg | D3: neg | G3: 1 | I3: =F3-G3 -> -1 | J3: =VLOOKUP(A3,'Deployment Ct Data'!A:K,7,FALSE) -> 51 | K3: =VLOOKUP(A3,'Deployment Ct Data'!A:K,10,FALSE) -> -20.202 | L3: =VLOOKUP(A3,'Deployment Ct Data'!A:K,8,FALSE) -> 41.507 | M3: =VLOOKUP(A3,'Deployment Ct Data'!A:K,11,FALSE) -> -10.709
A4: 170 | B4: INCONCLUSIVE | C4: neg | D4: neg | G4: 1 | I4: =F4-G4 -> -1 | J4: =VLOOKUP(A4,'Deployment Ct Data'!A:K,7,FALSE) -> 51 | K4: =VLOOKUP(A4,'Deployment Ct Data'!A:K,10,FALSE) -> -6.941 | L4: =VLOOKUP(A4,'Deployment Ct Data'!A:K,8,FALSE) -> 51 | M4: =VLOOKUP(A4,'Deployment Ct Data'!A:K,11,FALSE) -> -6.941
A5: 174 | B5: INCONCLUSIVE | C5: neg | D5: neg | G5: 1 | I5: =F5-G5 -> -1 | J5: =VLOOKUP(A5,'Deployment Ct Data'!A:K,7,FALSE) -> 51 | K5: =VLOOKUP(A5,'Deployment Ct Data'!A:K,10,FALSE) -> 0 | L5: =VLOOKUP(A5,'Deployment Ct Data'!A:K,8,FALSE) -> 51 | M5: =VLOOKUP(A5,'Deployment Ct Data'!A:K,11,FALSE) -> 0
A6: 189 | B6: INCONCLUSIVE | C6: neg | D6: neg | G6: 1 | I6: =F6-G6 -> -1 | J6: =VLOOKUP(A6,'Deployment Ct Data'!A:K,7,FALSE) -> 51 | K6: =VLOOKUP(A6,'Deployment Ct Data'!A:K,10,FALSE) -> -21.072 | L6: =VLOOKUP(A6,'Deployment Ct Data'!A:K,8,FALSE) -> 51 | M6: =VLOOKUP(A6,'Deployment Ct Data'!A:K,11,FALSE) -> -21.072
A7: 228 | B7: INCONCLUSIVE | C7: neg | D7: neg | G7: 1 | I7: =F7-G7 -> -1 | J7: =VLOOKUP(A7,'Deployment Ct Data'!A:K,7,FALSE) -> 51 | K7: =VLOOKUP(A7,'Deployment Ct Data'!A:K,10,FALSE) -> 0 | L7: =VLOOKUP(A7,'Deployment Ct Data'!A:K,8,FALSE) -> 51 | M7: =VLOOKUP(A7,'Deployment Ct Data'!A:K,11,FALSE) -> 0
A8: 246 | B8: INCONCLUSIVE | C8: neg | D8: neg | G8: 1 | I8: =F8-G8 -> -1 | J8: =VLOOKUP(A8,'Deployment Ct Data'!A:K,7,FALSE) -> 51 | K8: =VLOOKUP(A8,'Deployment Ct Data'!A:K,10,FALSE) -> 0 | L8: =VLOOKUP(A8,'Deployment Ct Data'!A:K,8,FALSE) -> 51 | M8: =VLOOKUP(A8,'Deployment Ct Data'!A:K,11,FALSE) -> 0
A9: 1 | B9: POSITIVE | C9: pos | F9: 1 | I9: =F9-G9 -> 1 | J9: =VLOOKUP(A9,'Deployment Ct Data'!A:K,7,FALSE) -> 26.51 | K9: =VLOOKUP(A9,'Deployment Ct Data'!A:K,10,FALSE) -> 2.772 | L9: =VLOOKUP(A9,'Deployment Ct Data'!A:K,8,FALSE) -> 27.079 | M9: =VLOOKUP(A9,'Deployment Ct Data'!A:K,11,FALSE) -> 2.203
A10: 2 | B10: POSITIVE | C10: pos | F10: 1 | I10: =F10-G10 -> 1 | J10: =VLOOKUP(A10,'Deployment Ct Data'!A:K,7,FALSE) -> 31.136 | K10: =VLOOKUP(A10,'Deployment Ct Data'!A:K,10,FALSE) -> -0.275 | L10: =VLOOKUP(A10,'Deployment Ct Data'!A:K,8,FALSE) -> 32.277 | M10: =VLOOKUP(A10,'Deployment Ct Data'!A:K,11,FALSE) -> -1.416
A11: 4 | B11: POSITIVE | C11: pos | F11: 1 | I11: =F11-G11 -> 1 | J11: =VLOOKUP(A11,'Deployment Ct Data'!A:K,7,FALSE) -> 33.435 | K11: =VLOOKUP(A11,'Deployment Ct Data'!A:K,10,FALSE) -> -1.228 | L11: =VLOOKUP(A11,'Deployment Ct Data'!A:K,8,FALSE) -> 35.711 | M11: =VLOOKUP(A11,'Deployment Ct Data'!A:K,11,FALSE) -> -3.504
A12: 5 | B12: POSITIVE | C12: pos | F12: 1 | I12: =F12-G12 -> 1 | J12: =VLOOKUP(A12,'Deployment Ct Data'!A:K,7,FALSE) -> 34.018 | K12: =VLOOKUP(A12,'Deployment Ct Data'!A:K,10,FALSE) -> -3.068 | L12: =VLOOKUP(A12,'Deployment Ct Data'!A:K,8,FALSE) -> 36.632 | M12: =VLOOKUP(A12,'Deployment Ct Data'!A:K,11,FALSE) -> -5.682
A13: 6 | B13: POSITIVE | C13: pos | F13: 1 | I13: =F13-G13 -> 1 | J13: =VLOOKUP(A13,'Deployment Ct Data'!A:K,7,FALSE) -> 25.916 | K13: =VLOOKUP(A13,'Deployment Ct Data'!A:K,10,FALSE) -> 4.828 | L13: =VLOOKUP(A13,'Deployment Ct Data'!A:K,8,FALSE) -> 28.367 | M13: =VLOOKUP(A13,'Deployment Ct Data'!A:K,11,FALSE) -> 2.377
A14: 7 | B14: POSITIVE | C14: pos | F14: 1 | I14: =F14-G14 -> 1 | J14: =VLOOKUP(A14,'Deployment Ct Data'!A:K,7,FALSE) -> 27.395 | K14: =VLOOKUP(A14,'Deployment Ct Data'!A:K,10,FALSE) -> 5.048 | L14: =VLOOKUP(A14,'Deployment Ct Data'!A:K,8,FALSE) -> 28.14 | M14: =VLOOKUP(A14,'Deployment Ct Data'!A:K,11,FALSE) -> 4.303
A15: 8 | B15: POSITIVE | C15: pos | F15: 1 | I15: =F15-G15 -> 1 | J15: =VLOOKUP(A15,'Deployment Ct Data'!A:K,7,FALSE) -> 28.336 | K15: =VLOOKUP(A15,'Deployment Ct Data'!A:K,10,FALSE) -> 4.06 | L15: =VLOOKUP(A15,'Deployment Ct Data'!A:K,8,FALSE) -> 29.514 | M15: =VLOOKUP(A15,'Deployment Ct Data'!A:K,11,FALSE) -> 2.882
A16: 9 | B16: POSITIVE | C16: pos | F16: 1 | I16: =F16-G16 -> 1 | J16: =VLOOKUP(A16,'Deployment Ct Data'!A:K,7,FALSE) -> 34.906 | K16: =VLOOKUP(A16,'Deployment Ct Data'!A:K,10,FALSE) -> -5.236 | L16: =VLOOKUP(A16,'Deployment Ct Data'!A:K,8,FALSE) -> 35.496 | M16: =VLOOKUP(A16,'Deployment Ct Data'!A:K,11,FALSE) -> -5.826
A17: 12 | B17: POSITIVE | E17: pos | F17: 1 | I17: =F17-G17 -> 1 | J17: =VLOOKUP(A17,'Deployment Ct Data'!A:K,7,FALSE) -> 31.329 | K17: =VLOOKUP(A17,'Deployment Ct Data'!A:K,10,FALSE) -> 0.437 | L17: =VLOOKUP(A17,'Deployment Ct Data'!A:K,8,FALSE) -> 32.022 | M17: =VLOOKUP(A17,'Deployment Ct Data'!A:K,11,FALSE) -> -0.256
A18: 13 | B18: POSITIVE | C18: pos | F18: 1 | I18: =F18-G18 -> 1 | J18: =VLOOKUP(A18,'Deployment Ct Data'!A:K,7,FALSE) -> 32.077 | K18: =VLOOKUP(A18,'Deployment Ct Data'!A:K,10,FALSE) -> -2.008 | L18: =VLOOKUP(A18,'Deployment Ct Data'!A:K,8,FALSE) -> 33.058 | M18: =VLOOKUP(A18,'Deployment Ct Data'!A:K,11,FALSE) -> -2.989
A19: 15 | B19: POSITIVE | C19: pos | F19: 1 | I19: =F19-G19 -> 1 | J19: =VLOOKUP(A19,'Deployment Ct Data'!A:K,7,FALSE) -> 31.967 | K19: =VLOOKUP(A19,'Deployment Ct Data'!A:K,10,FALSE) -> -2.522 | L19: =VLOOKUP(A19,'Deployment Ct Data'!A:K,8,FALSE) -> 34.849 | M19: =VLOOKUP(A19,'Deployment Ct Data'!A:K,11,FALSE) -> -5.404
A20: 16 | B20: POSITIVE | C20: pos | F20: 1 | I20: =F20-G20 -> 1 | J20: =VLOOKUP(A20,'Deployment Ct Data'!A:K,7,FALSE) -> 25.039 | K20: =VLOOKUP(A20,'Deployment Ct Data'!A:K,10,FALSE) -> 4.659 | L20: =VLOOKUP(A20,'Deployment Ct Data'!A:K,8,FALSE) -> 25.824 | M20: =VLOOKUP(A20,'Deployment Ct Data'!A:K,11,FALSE) -> 3.874
A21: 17 | B21: POSITIVE | C21: pos | F21: 1 | I21: =F21-G21 -> 1 | J21: =VLOOKUP(A21,'Deployment Ct Data'!A:K,7,FALSE) -> 31.516 | K21: =VLOOKUP(A21,'Deployment Ct Data'!A:K,10,FALSE) -> -2.479 | L21: =VLOOKUP(A21,'Deployment Ct Data'!A:K,8,FALSE) -> 32.07 | M21: =VLOOKUP(A21,'Deployment Ct Data'!A:K,11,FALSE) -> -3.033
A22: 18 | B22: POSITIVE | C22: pos | F22: 1 | I22: =F22-G22 -> 1 | J22: =VLOOKUP(A22,'Deployment Ct Data'!A:K,7,FALSE) -> 31.179 | K22: =VLOOKUP(A22,'Deployment Ct Data'!A:K,10,FALSE) -> -0.763 | L22: =VLOOKUP(A22,'Deployment Ct Data'!A:K,8,FALSE) -> 32.276 | M22: =VLOOKUP(A22,'Deployment Ct Data'!A:K,11,FALSE) -> -1.86
A23: 20 | B23: POSITIVE | C23: pos | F23: 1 | I23: =F23-G23 -> 1 | J23: =VLOOKUP(A23,'Deployment Ct Data'!A:K,7,FALSE) -> 33.408 | K23: =VLOOKUP(A23,'Deployment Ct Data'!A:K,10,FALSE) -> -3.89 | L23: =VLOOKUP(A23,'Deployment Ct Data'!A:K,8,FALSE) -> 36.874 | M23: =VLOOKUP(A23,'Deployment Ct Data'!A:K,11,FALSE) -> -7.356
A24: 21 | B24: POSITIVE | C24: pos | F24: 1 | I24: =F24-G24 -> 1 | J24: =VLOOKUP(A24,'Deployment Ct Data'!A:K,7,FALSE) -> 27.525 | K24: =VLOOKUP(A24,'Deployment Ct Data'!A:K,10,FALSE) -> 10.358 | L24: =VLOOKUP(A24,'Deployment Ct Data'!A:K,8,FALSE) -> 28.496 | M24: =VLOOKUP(A24,'Deployment Ct Data'!A:K,11,FALSE) -> 9.387
A25: 22 | B25: POSITIVE | C25: pos | F25: 1 | I25: =F25-G25 -> 1 | J25: =VLOOKUP(A25,'Deployment Ct Data'!A:K,7,FALSE) -> 29.357 | K25: =VLOOKUP(A25,'Deployment Ct Data'!A:K,10,FALSE) -> 1.29 | L25: =VLOOKUP(A25,'Deployment Ct Data'!A:K,8,FALSE) -> 30.326 | M25: =VLOOKUP(A25,'Deployment Ct Data'!A:K,11,FALSE) -> 0.321
A26: 23 | B26: POSITIVE | C26: pos | F26: 1 | I26: =F26-G26 -> 1 | J26: =VLOOKUP(A26,'Deployment Ct Data'!A:K,7,FALSE) -> 31.964 | K26: =VLOOKUP(A26,'Deployment Ct Data'!A:K,10,FALSE) -> -2.392 | L26: =VLOOKUP(A26,'Deployment Ct Data'!A:K,8,FALSE) -> 34.384 | M26: =VLOOKUP(A26,'Deployment Ct Data'!A:K,11,FALSE) -> -4.812
A27: 24 | B27: POSITIVE | C27: pos | F27: 1 | I27: =F27-G27 -> 1 | J27: =VLOOKUP(A27,'Deployment Ct Data'!A:K,7,FALSE) -> 29.275 | K27: =VLOOKUP(A27,'Deployment Ct Data'!A:K,10,FALSE) -> 8.915 | L27: =VLOOKUP(A27,'Deployment Ct Data'!A:K,8,FALSE) -> 30.124 | M27: =VLOOKUP(A27,'Deployment Ct Data'!A:K,11,FALSE) -> 8.066
A28: 25 | B28: POSITIVE | C28: pos | F28: 1 | I28: =F28-G28 -> 1 | J28: =VLOOKUP(A28,'Deployment Ct Data'!A:K,7,FALSE) -> 26.872 | K28: =VLOOKUP(A28,'Deployment Ct Data'!A:K,10,FALSE) -> 5.583 | L28: =VLOOKUP(A28,'Deployment Ct Data'!A:K,8,FALSE) -> 27.111 | M28: =VLOOKUP(A28,'Deployment Ct Data'!A:K,11,FALSE) -> 5.344
A29: 26 | B29: POSITIVE | C29: pos | F29: 1 | I29: =F29-G29 -> 1 | J29: =VLOOKUP(A29,'Deployment Ct Data'!A:K,7,FALSE) -> 16.898 | K29: =VLOOKUP(A29,'Deployment Ct Data'!A:K,10,FALSE) -> 27.735 | L29: =VLOOKUP(A29,'Deployment Ct Data'!A:K,8,FALSE) -> 19.146 | M29: =VLOOKUP(A29,'Deployment Ct Data'!A:K,11,FALSE) -> 25.487
... A33: 30 | B33: POSITIVE | C33: pos | F33: 1 | I33: =F33-G33 -> 1 | J33: =VLOOKUP(A33,'Deployment Ct Data'!A:K,7,FALSE) -> 25.33 | K33: =VLOOKUP(A33,'Deployment Ct Data'!A:K,10,FALSE) -> 6.259 | L33: =VLOOKUP(A33,'Deployment Ct Data'!A:K,8,FALSE) -> 25.739 | M33: =VLOOKUP(A33,'Deployment Ct Data'!A:K,11,FALSE) -> 5.85
A34: 31 | B34: POSITIVE | E34: pos | F34: 1 | I34: =F34-G34 -> 1 | J34: =VLOOKUP(A34,'Deployment Ct Data'!A:K,7,FALSE) -> 31.391 | K34: =VLOOKUP(A34,'Deployment Ct Data'!A:K,10,FALSE) -> -1.902 | L34: =VLOOKUP(A34,'Deployment Ct Data'!A:K,8,FALSE) -> 31.524 | M34: =VLOOKUP(A34,'Deployment Ct Data'!A:K,11,FALSE) -> -2.035
A35: 32 | B35: POSITIVE | C35: pos | F35: 1 | I35: =F35-G35 -> 1 | J35: =VLOOKUP(A35,'Deployment Ct Data'!A:K,7,FALSE) -> 29.752 | K35: =VLOOKUP(A35,'Deployment Ct Data'!A:K,10,FALSE) -> -0.572 | L35: =VLOOKUP(A35,'Deployment Ct Data'!A:K,8,FALSE) -> 30.404 | M35: =VLOOKUP(A35,'Deployment Ct Data'!A:K,11,FALSE) -> -1.224
A36: 33 | B36: POSITIVE | C36: pos | F36: 1 | I36: =F36-G36 -> 1 | J36: =VLOOKUP(A36,'Deployment Ct Data'!A:K,7,FALSE) -> 32.831 | K36: =VLOOKUP(A36,'Deployment Ct Data'!A:K,10,FALSE) -> -2.336 | L36: =VLOOKUP(A36,'Deployment Ct Data'!A:K,8,FALSE) -> 34.173 | M36: =VLOOKUP(A36,'Deployment Ct Data'!A:K,11,FALSE) -> -3.678
A37: 34 | B37: POSITIVE | C37: pos | F37: 1 | I37: =F37-G37 -> 1 | J37: =VLOOKUP(A37,'Deployment Ct Data'!A:K,7,FALSE) -> 28.536 | K37: =VLOOKUP(A37,'Deployment Ct Data'!A:K,10,FALSE) -> 0.978 | L37: =VLOOKUP(A37,'Deployment Ct Data'!A:K,8,FALSE) -> 29.441 | M37: =VLOOKUP(A37,'Deployment Ct Data'!A:K,11,FALSE) -> 0.073
A38: 35 | B38: POSITIVE | C38: pos | F38: 1 | I38: =F38-G38 -> 1 | J38: =VLOOKUP(A38,'Deployment Ct Data'!A:K,7,FALSE) -> 28.798 | K38: =VLOOKUP(A38,'Deployment Ct Data'!A:K,10,FALSE) -> 3.562 | L38: =VLOOKUP(A38,'Deployment Ct Data'!A:K,8,FALSE) -> 28.979 | M38: =VLOOKUP(A38,'Deployment Ct Data'!A:K,11,FALSE) -> 3.381
A39: 36 | B39: POSITIVE | C39: pos | F39: 1 | I39: =F39-G39 -> 1 | J39: =VLOOKUP(A39,'Deployment Ct Data'!A:K,7,FALSE) -> 29.438 | K39: =VLOOKUP(A39,'Deployment Ct Data'!A:K,10,FALSE) -> 0.246 | L39: =VLOOKUP(A39,'Deployment Ct Data'!A:K,8,FALSE) -> 29.78 | M39: =VLOOKUP(A39,'Deployment Ct Data'!A:K,11,FALSE) -> -0.096
A40: 37 | B40: POSITIVE | C40: pos | F40: 1 | I40: =F40-G40 -> 1 | J40: =VLOOKUP(A40,'Deployment Ct Data'!A:K,7,FALSE) -> 25.256 | K40: =VLOOKUP(A40,'Deployment Ct Data'!A:K,10,FALSE) -> 5.219 | L40: =VLOOKUP(A40,'Deployment Ct Data'!A:K,8,FALSE) -> 25.462 | M40: =VLOOKUP(A40,'Deployment Ct Data'!A:K,11,FALSE) -> 5.013
A41: 38 | B41: POSITIVE | C41: pos | F41: 1 | I41: =F41-G41 -> 1 | J41: =VLOOKUP(A41,'Deployment Ct Data'!A:K,7,FALSE) -> 27.403 | K41: =VLOOKUP(A41,'Deployment Ct Data'!A:K,10,FALSE) -> 3.094 | L41: =VLOOKUP(A41,'Deployment Ct Data'!A:K,8,FALSE) -> 29.266 | M41: =VLOOKUP(A41,'Deployment Ct Data'!A:K,11,FALSE) -> 1.231
A42: 40 | B42: POSITIVE | C42: pos | F42: 1 | I42: =F42-G42 -> 1 | J42: =VLOOKUP(A42,'Deployment Ct Data'!A:K,7,FALSE) -> 31.283 | K42: =VLOOKUP(A42,'Deployment Ct Data'!A:K,10,FALSE) -> -0.308 | L42: =VLOOKUP(A42,'Deployment Ct Data'!A:K,8,FALSE) -> 33.223 | M42: =VLOOKUP(A42,'Deployment Ct Data'!A:K,11,FALSE) -> -2.248
A43: 41 | B43: POSITIVE | E43: pos | F43: 1 | I43: =F43-G43 -> 1 | J43: =VLOOKUP(A43,'Deployment Ct Data'!A:K,7,FALSE) -> 34.755 | K43: =VLOOKUP(A43,'Deployment Ct Data'!A:K,10,FALSE) -> -7.208 | L43: =VLOOKUP(A43,'Deployment Ct Data'!A:K,8,FALSE) -> 41.234 | M43: =VLOOKUP(A43,'Deployment Ct Data'!A:K,11,FALSE) -> -13.687
A44: 42 | B44: POSITIVE | C44: pos | F44: 1 | I44: =F44-G44 -> 1 | J44: =VLOOKUP(A44,'Deployment Ct Data'!A:K,7,FALSE) -> 27.365 | K44: =VLOOKUP(A44,'Deployment Ct Data'!A:K,10,FALSE) -> 8.077 | L44: =VLOOKUP(A44,'Deployment Ct Data'!A:K,8,FALSE) -> 28.812 | M44: =VLOOKUP(A44,'Deployment Ct Data'!A:K,11,FALSE) -> 6.63
A45: 44 | B45: POSITIVE | C45: pos | F45: 1 | I45: =F45-G45 -> 1 | J45: =VLOOKUP(A45,'Deployment Ct Data'!A:K,7,FALSE) -> 35.178 | K45: =VLOOKUP(A45,'Deployment Ct Data'!A:K,10,FALSE) -> -0.088 | L45: =VLOOKUP(A45,'Deployment Ct Data'!A:K,8,FALSE) -> 37.969 | M45: =VLOOKUP(A45,'Deployment Ct Data'!A:K,11,FALSE) -> -2.879
A46: 45 | B46: POSITIVE | C46: pos | F46: 1 | I46: =F46-G46 -> 1 | J46: =VLOOKUP(A46,'Deployment Ct Data'!A:K,7,FALSE) -> 21.338 | K46: =VLOOKUP(A46,'Deployment Ct Data'!A:K,10,FALSE) -> 17.644 | L46: =VLOOKUP(A46,'Deployment Ct Data'!A:K,8,FALSE) -> 22.253 | M46: =VLOOKUP(A46,'Deployment Ct Data'!A:K,11,FALSE) -> 16.729
A47: 46 | B47: POSITIVE | C47: pos | F47: 1 | I47: =F47-G47 -> 1 | J47: =VLOOKUP(A47,'Deployment Ct Data'!A:K,7,FALSE) -> 29.276 | K47: =VLOOKUP(A47,'Deployment Ct Data'!A:K,10,FALSE) -> 1.413 | L47: =VLOOKUP(A47,'Deployment Ct Data'!A:K,8,FALSE) -> 30.085 | M47: =VLOOKUP(A47,'Deployment Ct Data'!A:K,11,FALSE) -> 0.604
A48: 47 | B48: POSITIVE | C48: pos | F48: 1 | I48: =F48-G48 -> 1 | J48: =VLOOKUP(A48,'Deployment Ct Data'!A:K,7,FALSE) -> 30.955 | K48: =VLOOKUP(A48,'Deployment Ct Data'!A:K,10,FALSE) -> -2.345 | L48: =VLOOKUP(A48,'Deployment Ct Data'!A:K,8,FALSE) -> 32.765 | M48: =VLOOKUP(A48,'Deployment Ct Data'!A:K,11,FALSE) -> -4.155
A49: 49 | B49: POSITIVE | C49: pos | F49: 1 | I49: =F49-G49 -> 1 | J49: =VLOOKUP(A49,'Deployment Ct Data'!A:K,7,FALSE) -> 32.531 | K49: =VLOOKUP(A49,'Deployment Ct Data'!A:K,10,FALSE) -> -3.78 | L49: =VLOOKUP(A49,'Deployment Ct Data'!A:K,8,FALSE) -> 32.739 | M49: =VLOOKUP(A49,'Deployment Ct Data'!A:K,11,FALSE) -> -3.988
A50: 50 | B50: POSITIVE | C50: pos | F50: 1 | I50: =F50-G50 -> 1 | J50: =VLOOKUP(A50,'Deployment Ct Data'!A:K,7,FALSE) -> 31.975 | K50: =VLOOKUP(A50,'Deployment Ct Data'!A:K,10,FALSE) -> -0.74 | L50: =VLOOKUP(A50,'Deployment Ct Data'!A:K,8,FALSE) -> 32.955 | M50: =VLOOKUP(A50,'Deployment Ct Data'!A:K,11,FALSE) -> -1.72
A51: 51 | B51: POSITIVE | C51: pos | F51: 1 | I51: =F51-G51 -> 1 | J51: =VLOOKUP(A51,'Deployment Ct Data'!A:K,7,FALSE) -> 29.911 | K51: =VLOOKUP(A51,'Deployment Ct Data'!A:K,10,FALSE) -> -0.526 | L51: =VLOOKUP(A51,'Deployment Ct Data'!A:K,8,FALSE) -> 30.901 | M51: =VLOOKUP(A51,'Deployment Ct Data'!A:K,11,FALSE) -> -1.516
A52: 52 | B52: POSITIVE | C52: pos | F52: 1 | I52: =F52-G52 -> 1 | J52: =VLOOKUP(A52,'Deployment Ct Data'!A:K,7,FALSE) -> 30.963 | K52: =VLOOKUP(A52,'Deployment Ct Data'!A:K,10,FALSE) -> 7.311 | L52: =VLOOKUP(A52,'Deployment Ct Data'!A:K,8,FALSE) -> 32.514 | M52: =VLOOKUP(A52,'Deployment Ct Data'!A:K,11,FALSE) -> 5.76
A53: 54 | B53: POSITIVE | C53: pos | F53: 1 | I53: =F53-G53 -> 1 | J53: =VLOOKUP(A53,'Deployment Ct Data'!A:K,7,FALSE) -> 28.99 | K53: =VLOOKUP(A53,'Deployment Ct Data'!A:K,10,FALSE) -> 3.259 | L53: =VLOOKUP(A53,'Deployment Ct Data'!A:K,8,FALSE) -> 29.477 | M53: =VLOOKUP(A53,'Deployment Ct Data'!A:K,11,FALSE) -> 2.772
A54: 55 | B54: POSITIVE | C54: pos | F54: 1 | I54: =F54-G54 -> 1 | J54: =VLOOKUP(A54,'Deployment Ct Data'!A:K,7,FALSE) -> 28.928 | K54: =VLOOKUP(A54,'Deployment Ct Data'!A:K,10,FALSE) -> 3.162 | L54: =VLOOKUP(A54,'Deployment Ct Data'!A:K,8,FALSE) -> 31.149 | M54: =VLOOKUP(A54,'Deployment Ct Data'!A:K,11,FALSE) -> 0.941
A55: 57 | B55: POSITIVE | C55: pos | F55: 1 | I55: =F55-G55 -> 1 | J55: =VLOOKUP(A55,'Deployment Ct Data'!A:K,7,FALSE) -> 31.037 | K55: =VLOOKUP(A55,'Deployment Ct Data'!A:K,10,FALSE) -> -1.853 | L55: =VLOOKUP(A55,'Deployment Ct Data'!A:K,8,FALSE) -> 31.353 | M55: =VLOOKUP(A55,'Deployment Ct Data'!A:K,11,FALSE) -> -2.169
... A75: 86 | B75: POSITIVE | C75: pos | F75: 1 | I75: =F75-G75 -> 1 | J75: =VLOOKUP(A75,'Deployment Ct Data'!A:K,7,FALSE) -> 26.57 | K75: =VLOOKUP(A75,'Deployment Ct Data'!A:K,10,FALSE) -> 4.095 | L75: =VLOOKUP(A75,'Deployment Ct Data'!A:K,8,FALSE) -> 27.578 | M75: =VLOOKUP(A75,'Deployment Ct Data'!A:K,11,FALSE) -> 3.087
A76: 87 | B76: POSITIVE | E76: pos | F76: 1 | I76: =F76-G76 -> 1 | J76: =VLOOKUP(A76,'Deployment Ct Data'!A:K,7,FALSE) -> 27.298 | K76: =VLOOKUP(A76,'Deployment Ct Data'!A:K,10,FALSE) -> 3.002 | L76: =VLOOKUP(A76,'Deployment Ct Data'!A:K,8,FALSE) -> 28.111 | M76: =VLOOKUP(A76,'Deployment Ct Data'!A:K,11,FALSE) -> 2.189
A77: 88 | B77: POSITIVE | C77: pos | F77: 1 | I77: =F77-G77 -> 1 | J77: =VLOOKUP(A77,'Deployment Ct Data'!A:K,7,FALSE) -> 29.138 | K77: =VLOOKUP(A77,'Deployment Ct Data'!A:K,10,FALSE) -> 1.05 | L77: =VLOOKUP(A77,'Deployment Ct Data'!A:K,8,FALSE) -> 30.003 | M77: =VLOOKUP(A77,'Deployment Ct Data'!A:K,11,FALSE) -> 0.185
A78: 89 | B78: POSITIVE | C78: pos | F78: 1 | I78: =F78-G78 -> 1 | J78: =VLOOKUP(A78,'Deployment Ct Data'!A:K,7,FALSE) -> 31.084 | K78: =VLOOKUP(A78,'Deployment Ct Data'!A:K,10,FALSE) -> -2.699 | L78: =VLOOKUP(A78,'Deployment Ct Data'!A:K,8,FALSE) -> 31.442 | M78: =VLOOKUP(A78,'Deployment Ct Data'!A:K,11,FALSE) -> -3.057
A79: 90 | B79: POSITIVE | C79: pos | F79: 1 | I79: =F79-G79 -> 1 | J79: =VLOOKUP(A79,'Deployment Ct Data'!A:K,7,FALSE) -> 30.33 | K79: =VLOOKUP(A79,'Deployment Ct Data'!A:K,10,FALSE) -> 0.283 | L79: =VLOOKUP(A79,'Deployment Ct Data'!A:K,8,FALSE) -> 30.738 | M79: =VLOOKUP(A79,'Deployment Ct Data'!A:K,11,FALSE) -> -0.125
A80: 91 | B80: POSITIVE | C80: pos | F80: 1 | I80: =F80-G80 -> 1 | J80: =VLOOKUP(A80,'Deployment Ct Data'!A:K,7,FALSE) -> 28.965 | K80: =VLOOKUP(A80,'Deployment Ct Data'!A:K,10,FALSE) -> 1.353 | L80: =VLOOKUP(A80,'Deployment Ct Data'!A:K,8,FALSE) -> 29.764 | M80: =VLOOKUP(A80,'Deployment Ct Data'!A:K,11,FALSE) -> 0.554
A81: 92 | B81: POSITIVE | C81: pos | F81: 1 | I81: =F81-G81 -> 1 | J81: =VLOOKUP(A81,'Deployment Ct Data'!A:K,7,FALSE) -> 26.531 | K81: =VLOOKUP(A81,'Deployment Ct Data'!A:K,10,FALSE) -> 5.863 | L81: =VLOOKUP(A81,'Deployment Ct Data'!A:K,8,FALSE) -> 27.935 | M81: =VLOOKUP(A81,'Deployment Ct Data'!A:K,11,FALSE) -> 4.459
A82: 93 | B82: POSITIVE | C82: pos | F82: 1 | I82: =F82-G82 -> 1 | J82: =VLOOKUP(A82,'Deployment Ct Data'!A:K,7,FALSE) -> 28.657 | K82: =VLOOKUP(A82,'Deployment Ct Data'!A:K,10,FALSE) -> 1.1 | L82: =VLOOKUP(A82,'Deployment Ct Data'!A:K,8,FALSE) -> 29.57 | M82: =VLOOKUP(A82,'Deployment Ct Data'!A:K,11,FALSE) -> 0.187
A83: 94 | B83: POSITIVE | C83: pos | F83: 1 | I83: =F83-G83 -> 1 | J83: =VLOOKUP(A83,'Deployment Ct Data'!A:K,7,FALSE) -> 33.632 | K83: =VLOOKUP(A83,'Deployment Ct Data'!A:K,10,FALSE) -> -1.961 | L83: =VLOOKUP(A83,'Deployment Ct Data'!A:K,8,FALSE) -> 34.422 | M83: =VLOOKUP(A83,'Deployment Ct Data'!A:K,11,FALSE) -> -2.751
A84: 95 | B84: POSITIVE | C84: pos | F84: 1 | I84: =F84-G84 -> 1 | J84: =VLOOKUP(A84,'Deployment Ct Data'!A:K,7,FALSE) -> 25.995 | K84: =VLOOKUP(A84,'Deployment Ct Data'!A:K,10,FALSE) -> 4.481 | L84: =VLOOKUP(A84,'Deployment Ct Data'!A:K,8,FALSE) -> 26.395 | M84: =VLOOKUP(A84,'Deployment Ct Data'!A:K,11,FALSE) -> 4.081
A85: 96 | B85: POSITIVE | C85: pos | F85: 1 | I85: =F85-G85 -> 1 | J85: =VLOOKUP(A85,'Deployment Ct Data'!A:K,7,FALSE) -> 26.18 | K85: =VLOOKUP(A85,'Deployment Ct Data'!A:K,10,FALSE) -> 11.75 | L85: =VLOOKUP(A85,'Deployment Ct Data'!A:K,8,FALSE) -> 27.354 | M85: =VLOOKUP(A85,'Deployment Ct Data'!A:K,11,FALSE) -> 10.576
A86: 97 | B86: POSITIVE | C86: pos | F86: 1 | I86: =F86-G86 -> 1 | J86: =VLOOKUP(A86,'Deployment Ct Data'!A:K,7,FALSE) -> 26.36 | K86: =VLOOKUP(A86,'Deployment Ct Data'!A:K,10,FALSE) -> 4.181 | L86: =VLOOKUP(A86,'Deployment Ct Data'!A:K,8,FALSE) -> 27.166 | M86: =VLOOKUP(A86,'Deployment Ct Data'!A:K,11,FALSE) -> 3.375
A87: 99 | B87: POSITIVE | C87: pos | F87: 1 | I87: =F87-G87 -> 1 | J87: =VLOOKUP(A87,'Deployment Ct Data'!A:K,7,FALSE) -> 23.016 | K87: =VLOOKUP(A87,'Deployment Ct Data'!A:K,10,FALSE) -> 9.51 | L87: =VLOOKUP(A87,'Deployment Ct Data'!A:K,8,FALSE) -> 23.995 | M87: =VLOOKUP(A87,'Deployment Ct Data'!A:K,11,FALSE) -> 8.531
A88: 100 | B88: POSITIVE | C88: pos | F88: 1 | I88: =F88-G88 -> 1 | J88: =VLOOKUP(A88,'Deployment Ct Data'!A:K,7,FALSE) -> 24.954 | K88: =VLOOKUP(A88,'Deployment Ct Data'!A:K,10,FALSE) -> 5.926 | L88: =VLOOKUP(A88,'Deployment Ct Data'!A:K,8,FALSE) -> 26.579 | M88: =VLOOKUP(A88,'Deployment Ct Data'!A:K,11,FALSE) -> 4.301
... A105: 123 | B105: POSITIVE | C105: pos | F105: 1 | I105: =F105-G105 -> 1 | J105: =VLOOKUP(A105,'Deployment Ct Data'!A:K,7,FALSE) -> 29.221 | K105: =VLOOKUP(A105,'Deployment Ct Data'!A:K,10,FALSE) -> 2.154 | L105: =VLOOKUP(A105,'Deployment Ct Data'!A:K,8,FALSE) -> 30.005 | M105: =VLOOKUP(A105,'Deployment Ct Data'!A:K,11,FALSE) -> 1.37
A106: 124 | B106: Positive | C106: neg | D106: pos | F106: 1 | I106: =F106-G106 -> 1 | J106: =VLOOKUP(A106,'Deployment Ct Data'!A:K,7,FALSE) -> 34.984 | K106: =VLOOKUP(A106,'Deployment Ct Data'!A:K,10,FALSE) -> -3.289 | L106: =VLOOKUP(A106,'Deployment Ct Data'!A:K,8,FALSE) -> 35.673 | M106: =VLOOKUP(A106,'Deployment Ct Data'!A:K,11,FALSE) -> -3.978
A107: 125 | B107: POSITIVE | C107: pos | F107: 1 | I107: =F107-G107 -> 1 | J107: =VLOOKUP(A107,'Deployment Ct Data'!A:K,7,FALSE) -> 26.668 | K107: =VLOOKUP(A107,'Deployment Ct Data'!A:K,10,FALSE) -> 2.927 | L107: =VLOOKUP(A107,'Deployment Ct Data'!A:K,8,FALSE) -> 26.547 | M107: =VLOOKUP(A107,'Deployment Ct Data'!A:K,11,FALSE) -> 3.048
A108: 126 | B108: POSITIVE | C108: pos | F108: 1 | I108: =F108-G108 -> 1 | J108: =VLOOKUP(A108,'Deployment Ct Data'!A:K,7,FALSE) -> 30.282 | K108: =VLOOKUP(A108,'Deployment Ct Data'!A:K,10,FALSE) -> -1.005 | L108: =VLOOKUP(A108,'Deployment Ct Data'!A:K,8,FALSE) -> 30.563 | M108: =VLOOKUP(A108,'Deployment Ct Data'!A:K,11,FALSE) -> -1.286
A109: 127 | B109: POSITIVE | C109: pos | F109: 1 | I109: =F109-G109 -> 1 | J109: =VLOOKUP(A109,'Deployment Ct Data'!A:K,7,FALSE) -> 46.984 | K109: =VLOOKUP(A109,'Deployment Ct Data'!A:K,10,FALSE) -> -16.333 | L109: =VLOOKUP(A109,'Deployment Ct Data'!A:K,8,FALSE) -> 38.139 | M109: =VLOOKUP(A109,'Deployment Ct Data'!A:K,11,FALSE) -> -7.488
A110: 128 | B110: POSITIVE | C110: pos | F110: 1 | I110: =F110-G110 -> 1 | J110: =VLOOKUP(A110,'Deployment Ct Data'!A:K,7,FALSE) -> 37.027 | K110: =VLOOKUP(A110,'Deployment Ct Data'!A:K,10,FALSE) -> -4.855 | L110: =VLOOKUP(A110,'Deployment Ct Data'!A:K,8,FALSE) -> 46.583 | M110: =VLOOKUP(A110,'Deployment Ct Data'!A:K,11,FALSE) -> -14.411
A111: 129 | B111: Positive | C111: neg | D111: pos | F111: 1 | I111: =F111-G111 -> 1 | J111: =VLOOKUP(A111,'Deployment Ct Data'!A:K,7,FALSE) -> 41.846 | K111: =VLOOKUP(A111,'Deployment Ct Data'!A:K,10,FALSE) -> -4.062 | L111: =VLOOKUP(A111,'Deployment Ct Data'!A:K,8,FALSE) -> 41.795 | M111: =VLOOKUP(A111,'Deployment Ct Data'!A:K,11,FALSE) -> -4.011
A112: 130 | B112: POSITIVE | C112: pos | F112: 1 | I112: =F112-G112 -> 1 | J112: =VLOOKUP(A112,'Deployment Ct Data'!A:K,7,FALSE) -> 36.089 | K112: =VLOOKUP(A112,'Deployment Ct Data'!A:K,10,FALSE) -> -2.393 | L112: =VLOOKUP(A112,'Deployment Ct Data'!A:K,8,FALSE) -> 36.273 | M112: =VLOOKUP(A112,'Deployment Ct Data'!A:K,11,FALSE) -> -2.577
A113: 131 | B113: POSITIVE | C113: pos | F113: 1 | I113: =F113-G113 -> 1 | J113: =VLOOKUP(A113,'Deployment Ct Data'!A:K,7,FALSE) -> 29.434 | K113: =VLOOKUP(A113,'Deployment Ct Data'!A:K,10,FALSE) -> 1.312 | L113: =VLOOKUP(A113,'Deployment Ct Data'!A:K,8,FALSE) -> 31.046 | M113: =VLOOKUP(A113,'Deployment Ct Data'!A:K,11,FALSE) -> -0.3
A114: 132 | B114: POSITIVE | C114: pos | F114: 1 | I114: =F114-G114 -> 1 | J114: =VLOOKUP(A114,'Deployment Ct Data'!A:K,7,FALSE) -> 37.223 | K114: =VLOOKUP(A114,'Deployment Ct Data'!A:K,10,FALSE) -> -7.35 | L114: =VLOOKUP(A114,'Deployment Ct Data'!A:K,8,FALSE) -> 36.205 | M114: =VLOOKUP(A114,'Deployment Ct Data'!A:K,11,FALSE) -> -6.332
A115: 133 | B115: POSITIVE | C115: pos | F115: 1 | I115: =F115-G115 -> 1 | J115: =VLOOKUP(A115,'Deployment Ct Data'!A:K,7,FALSE) -> 22.597 | K115: =VLOOKUP(A115,'Deployment Ct Data'!A:K,10,FALSE) -> 6.792 | L115: =VLOOKUP(A115,'Deployment Ct Data'!A:K,8,FALSE) -> 23.312 | M115: =VLOOKUP(A115,'Deployment Ct Data'!A:K,11,FALSE) -> 6.077
A116: 134 | B116: POSITIVE | C116: pos | F116: 1 | I116: =F116-G116 -> 1 | J116: =VLOOKUP(A116,'Deployment Ct Data'!A:K,7,FALSE) -> 33.998 | K116: =VLOOKUP(A116,'Deployment Ct Data'!A:K,10,FALSE) -> -3.476 | L116: =VLOOKUP(A116,'Deployment Ct Data'!A:K,8,FALSE) -> 36.816 | M116: =VLOOKUP(A116,'Deployment Ct Data'!A:K,11,FALSE) -> -6.294
A117: 135 | B117: POSITIVE | C117: pos | F117: 1 | I117: =F117-G117 -> 1 | J117: =VLOOKUP(A117,'Deployment Ct Data'!A:K,7,FALSE) -> 35.429 | K117: =VLOOKUP(A117,'Deployment Ct Data'!A:K,10,FALSE) -> -3.259 | L117: =VLOOKUP(A117,'Deployment Ct Data'!A:K,8,FALSE) -> 36.41 | M117: =VLOOKUP(A117,'Deployment Ct Data'!A:K,11,FALSE) -> -4.24
A118: 136 | B118: POSITIVE | C118: pos | F118: 1 | I118: =F118-G118 -> 1 | J118: =VLOOKUP(A118,'Deployment Ct Data'!A:K,7,FALSE) -> 27.429 | K118: =VLOOKUP(A118,'Deployment Ct Data'!A:K,10,FALSE) -> 3.063 | L118: =VLOOKUP(A118,'Deployment Ct Data'!A:K,8,FALSE) -> 28.216 | M118: =VLOOKUP(A118,'Deployment Ct Data'!A:K,11,FALSE) -> 2.276
A119: 137 | B119: POSITIVE | C119: pos | F119: 1 | I119: =F119-G119 -> 1 | J119: =VLOOKUP(A119,'Deployment Ct Data'!A:K,7,FALSE) -> 31.899 | K119: =VLOOKUP(A119,'Deployment Ct Data'!A:K,10,FALSE) -> -0.741 | L119: =VLOOKUP(A119,'Deployment Ct Data'!A:K,8,FALSE) -> 32.145 | M119: =VLOOKUP(A119,'Deployment Ct Data'!A:K,11,FALSE) -> -0.987
A120: 138 | B120: Positive | C120: neg | D120: pos | F120: 1 | I120: =F120-G120 -> 1 | J120: =VLOOKUP(A120,'Deployment Ct Data'!A:K,7,FALSE) -> 32.396 | K120: =VLOOKUP(A120,'Deployment Ct Data'!A:K,10,FALSE) -> 15.355 | L120: =VLOOKUP(A120,'Deployment Ct Data'!A:K,8,FALSE) -> 32.668 | M120: =VLOOKUP(A120,'Deployment Ct Data'!A:K,11,FALSE) -> 15.083
A121: 139 | B121: POSITIVE | C121: pos | F121: 1 | I121: =F121-G121 -> 1 | J121: =VLOOKUP(A121,'Deployment Ct Data'!A:K,7,FALSE) -> 29.498 | K121: =VLOOKUP(A121,'Deployment Ct Data'!A:K,10,FALSE) -> 1.775 | L121: =VLOOKUP(A121,'Deployment Ct Data'!A:K,8,FALSE) -> 31.227 | M121: =VLOOKUP(A121,'Deployment Ct Data'!A:K,11,FALSE) -> 0.046
A122: 141 | B122: POSITIVE | C122: pos | F122: 1 | I122: =F122-G122 -> 1 | J122: =VLOOKUP(A122,'Deployment Ct Data'!A:K,7,FALSE) -> 29.084 | K122: =VLOOKUP(A122,'Deployment Ct Data'!A:K,10,FALSE) -> 1.546 | L122: =VLOOKUP(A122,'Deployment Ct Data'!A:K,8,FALSE) -> 29.605 | M122: =VLOOKUP(A122,'Deployment Ct Data'!A:K,11,FALSE) -> 1.025
A123: 142 | B123: POSITIVE | C123: pos | F123: 1 | I123: =F123-G123 -> 1 | J123: =VLOOKUP(A123,'Deployment Ct Data'!A:K,7,FALSE) -> 21.106 | K123: =VLOOKUP(A123,'Deployment Ct Data'!A:K,10,FALSE) -> 15.226 | L123: =VLOOKUP(A123,'Deployment Ct Data'!A:K,8,FALSE) -> 22.791 | M123: =VLOOKUP(A123,'Deployment Ct Data'!A:K,11,FALSE) -> 13.541
A124: 143 | B124: POSITIVE | C124: pos | F124: 1 | I124: =F124-G124 -> 1 | J124: =VLOOKUP(A124,'Deployment Ct Data'!A:K,7,FALSE) -> 35.14 | K124: =VLOOKUP(A124,'Deployment Ct Data'!A:K,10,FALSE) -> -5.444 | L124: =VLOOKUP(A124,'Deployment Ct Data'!A:K,8,FALSE) -> 33.944 | M124: =VLOOKUP(A124,'Deployment Ct Data'!A:K,11,FALSE) -> -4.248
A125: 144 | B125: POSITIVE | C125: neg | D125: pos | F125: 1 | I125: =F125-G125 -> 1 | J125: =VLOOKUP(A125,'Deployment Ct Data'!A:K,7,FALSE) -> 38.417 | K125: =VLOOKUP(A125,'Deployment Ct Data'!A:K,10,FALSE) -> -9.393 | L125: =VLOOKUP(A125,'Deployment Ct Data'!A:K,8,FALSE) -> 35.593 | M125: =VLOOKUP(A125,'Deployment Ct Data'!A:K,11,FALSE) -> -6.569
A126: 146 | B126: POSITIVE | C126: pos | F126: 1 | I126: =F126-G126 -> 1 | J126: =VLOOKUP(A126,'Deployment Ct Data'!A:K,7,FALSE) -> 32.871 | K126: =VLOOKUP(A126,'Deployment Ct Data'!A:K,10,FALSE) -> 1.287 | L126: =VLOOKUP(A126,'Deployment Ct Data'!A:K,8,FALSE) -> 34.366 | M126: =VLOOKUP(A126,'Deployment Ct Data'!A:K,11,FALSE) -> -0.208
A127: 147 | B127: Positive | C127: pos | F127: 1 | I127: =F127-G127 -> 1 | J127: =VLOOKUP(A127,'Deployment Ct Data'!A:K,7,FALSE) -> 30.403 | K127: =VLOOKUP(A127,'Deployment Ct Data'!A:K,10,FALSE) -> 3.092 | L127: =VLOOKUP(A127,'Deployment Ct Data'!A:K,8,FALSE) -> 31.426 | M127: =VLOOKUP(A127,'Deployment Ct Data'!A:K,11,FALSE) -> 2.069
A128: 148 | B128: Positive | C128: pos | F128: 1 | I128: =F128-G128 -> 1 | J128: =VLOOKUP(A128,'Deployment Ct Data'!A:K,7,FALSE) -> 24.412 | K128: =VLOOKUP(A128,'Deployment Ct Data'!A:K,10,FALSE) -> 17.012 | L128: =VLOOKUP(A128,'Deployment Ct Data'!A:K,8,FALSE) -> 25.444 | M128: =VLOOKUP(A128,'Deployment Ct Data'!A:K,11,FALSE) -> 15.98
A129: 149 | B129: POSITIVE | C129: pos | F129: 1 | I129: =F129-G129 -> 1 | J129: =VLOOKUP(A129,'Deployment Ct Data'!A:K,7,FALSE) -> 43.01 | K129: =VLOOKUP(A129,'Deployment Ct Data'!A:K,10,FALSE) -> -10.728 | L129: =VLOOKUP(A129,'Deployment Ct Data'!A:K,8,FALSE) -> 39.959 | M129: =VLOOKUP(A129,'Deployment Ct Data'!A:K,11,FALSE) -> -7.677
A130: 150 | B130: POSITIVE | C130: pos | F130: 1 | I130: =F130-G130 -> 1 | J130: =VLOOKUP(A130,'Deployment Ct Data'!A:K,7,FALSE) -> 31.964 | K130: =VLOOKUP(A130,'Deployment Ct Data'!A:K,10,FALSE) -> -0.678 | L130: =VLOOKUP(A130,'Deployment Ct Data'!A:K,8,FALSE) -> 32.693 | M130: =VLOOKUP(A130,'Deployment Ct Data'!A:K,11,FALSE) -> -1.407
A131: 151 | B131: POSITIVE | C131: pos | F131: 1 | I131: =F131-G131 -> 1 | J131: =VLOOKUP(A131,'Deployment Ct Data'!A:K,7,FALSE) -> 32.334 | K131: =VLOOKUP(A131,'Deployment Ct Data'!A:K,10,FALSE) -> -2.382 | L131: =VLOOKUP(A131,'Deployment Ct Data'!A:K,8,FALSE) -> 33.347 | M131: =VLOOKUP(A131,'Deployment Ct Data'!A:K,11,FALSE) -> -3.395
A132: 152 | B132: POSITIVE | C132: pos | F132: 1 | I132: =F132-G132 -> 1 | J132: =VLOOKUP(A132,'Deployment Ct Data'!A:K,7,FALSE) -> 30.963 | K132: =VLOOKUP(A132,'Deployment Ct Data'!A:K,10,FALSE) -> -1.106 | L132: =VLOOKUP(A132,'Deployment Ct Data'!A:K,8,FALSE) -> 32.275 | M132: =VLOOKUP(A132,'Deployment Ct Data'!A:K,11,FALSE) -> -2.418
A133: 153 | B133: POSITIVE | C133: pos | F133: 1 | I133: =F133-G133 -> 1 | J133: =VLOOKUP(A133,'Deployment Ct Data'!A:K,7,FALSE) -> 32.986 | K133: =VLOOKUP(A133,'Deployment Ct Data'!A:K,10,FALSE) -> -1.911 | L133: =VLOOKUP(A133,'Deployment Ct Data'!A:K,8,FALSE) -> 33.999 | M133: =VLOOKUP(A133,'Deployment Ct Data'!A:K,11,FALSE) -> -2.924
A134: 154 | B134: POSITIVE | C134: pos | F134: 1 | I134: =F134-G134 -> 1 | J134: =VLOOKUP(A134,'Deployment Ct Data'!A:K,7,FALSE) -> 33.982 | K134: =VLOOKUP(A134,'Deployment Ct Data'!A:K,10,FALSE) -> -3.509 | L134: =VLOOKUP(A134,'Deployment Ct Data'!A:K,8,FALSE) -> 51 | M134: =VLOOKUP(A134,'Deployment Ct Data'!A:K,11,FALSE) -> -20.527
A135: 155 | B135: POSITIVE | C135: pos | F135: 1 | I135: =F135-G135 -> 1 | J135: =VLOOKUP(A135,'Deployment Ct Data'!A:K,7,FALSE) -> 26.83 | K135: =VLOOKUP(A135,'Deployment Ct Data'!A:K,10,FALSE) -> 2.75 | L135: =VLOOKUP(A135,'Deployment Ct Data'!A:K,8,FALSE) -> 27.98 | M135: =VLOOKUP(A135,'Deployment Ct Data'!A:K,11,FALSE) -> 1.6
A136: 156 | B136: Positive | C136: pos | F136: 1 | I136: =F136-G136 -> 1 | J136: =VLOOKUP(A136,'Deployment Ct Data'!A:K,7,FALSE) -> 24.927 | K136: =VLOOKUP(A136,'Deployment Ct Data'!A:K,10,FALSE) -> 7.013 | L136: =VLOOKUP(A136,'Deployment Ct Data'!A:K,8,FALSE) -> 26.711 | M136: =VLOOKUP(A136,'Deployment Ct Data'!A:K,11,FALSE) -> 5.229
A137: 158 | B137: POSITIVE | C137: pos | F137: 1 | I137: =F137-G137 -> 1 | J137: =VLOOKUP(A137,'Deployment Ct Data'!A:K,7,FALSE) -> 26.411 | K137: =VLOOKUP(A137,'Deployment Ct Data'!A:K,10,FALSE) -> 7.756 | L137: =VLOOKUP(A137,'Deployment Ct Data'!A:K,8,FALSE) -> 27.058 | M137: =VLOOKUP(A137,'Deployment Ct Data'!A:K,11,FALSE) -> 7.109
... A188: 225 | B188: POSITIVE | C188: pos | F188: 1 | I188: =F188-G188 -> 1 | J188: =VLOOKUP(A188,'Deployment Ct Data'!A:K,7,FALSE) -> 44.934 | K188: =VLOOKUP(A188,'Deployment Ct Data'!A:K,10,FALSE) -> -12.444 | L188: =VLOOKUP(A188,'Deployment Ct Data'!A:K,8,FALSE) -> 36.799 | M188: =VLOOKUP(A188,'Deployment Ct Data'!A:K,11,FALSE) -> -4.309
...

Sheet Deployment Summary Stats
A1: Date | B1: Number received | C1: Positive Pools | D1: Failed pools | E1: Inconclusive Pools | F1: Retest positive | G1: Retest failed | H1: Retest inconclusive | I1: Total Negative | J1: Day | K1: positivity rate | L1: failure rate
A2: 44214 | B2: 363 | C2: 2 | D2: 6 | E2: 0 | F2: 2 | G2: 0 | H2: 0 | I2: =B2-(SUM(F2:H2)) -> 361 | J2: aMonday | K2: =F2/B2*100 -> 0.55096419 | L2: =G2/B2*100 -> 0
A3: 44221 | B3: 324 | C3: 0 | D3: 4 | E3: 0 | F3: 0 | G3: 0 | H3: 0 | I3: =B3-(SUM(F3:H3)) -> 324 | J3: aMonday | K3: =F3/B3*100 -> 0 | L3: =G3/B3*100 -> 0
A4: 44228 | B4: 223 | C4: 0 | D4: 0 | E4: 0 | F4: 0 | G4: 0 | H4: 0 | I4: =B4-(SUM(F4:H4)) -> 223 | J4: aMonday | K4: =F4/B4*100 -> 0 | L4: =G4/B4*100 -> 0
A5: 44235 | B5: 336 | C5: 2 | D5: 4 | E5: 0 | F5: 2 | G5: 0 | H5: 1 | I5: =B5-(SUM(F5:H5)) -> 333 | J5: aMonday | K5: =F5/B5*100 -> 0.5952381 | L5: =G5/B5*100 -> 0
A6: 44242 | B6: 281 | C6: 0 | D6: 0 | E6: 0 | F6: 0 | G6: 0 | H6: 0 | I6: =B6-(SUM(F6:H6)) -> 281 | J6: aMonday | K6: =F6/B6*100 -> 0 | L6: =G6/B6*100 -> 0
A7: 44249 | B7: 353 | C7: 1 | D7: 0 | E7: 3 | F7: 1 | G7: 0 | H7: 0 | I7: =B7-(SUM(F7:H7)) -> 352 | J7: aMonday | K7: =F7/B7*100 -> 0.28328612 | L7: =G7/B7*100 -> 0
A8: 44256 | B8: 333 | C8: 5 | D8: 0 | E8: 3 | F8: 5 | G8: 0 | H8: 0 | I8: =B8-(SUM(F8:H8)) -> 328 | J8: aMonday | K8: =F8/B8*100 -> 1.5015015 | L8: =G8/B8*100 -> 0
A9: 44263 | B9: 312 | C9: 6 | D9: 7 | E9: 0 | F9: 7 | G9: 1 | H9: 0 | I9: =B9-(SUM(F9:H9)) -> 304 | J9: aMonday | K9: =F9/B9*100 -> 2.2435897 | L9: =G9/B9*100 -> 0.32051282
A10: 44270 | B10: 231 | C10: 1 | D10: 8 | E10: 1 | F10: 1 | G10: 4 | H10: 0 | I10: =B10-(SUM(F10:H10)) -> 226 | J10: aMonday | K10: =F10/B10*100 -> 0.43290043 | L10: =G10/B10*100 -> 1.7316017
A11: 44277 | B11: 307 | C11: 6 | D11: 10 | E11: 1 | F11: 7 | G11: 0 | H11: 0 | I11: =B11-(SUM(F11:H11)) -> 300 | J11: aMonday | K11: =F11/B11*100 -> 2.2801303 | L11: =G11/B11*100 -> 0
A12: 44284 | B12: 230 | C12: 1 | D12: 1 | E12: 1 | F12: 3 | G12: 0 | H12: 0 | I12: =B12-(SUM(F12:H12)) -> 227 | J12: aMonday | K12: =F12/B12*100 -> 1.3043478 | L12: =G12/B12*100 -> 0
A13: 44291 | B13: 231 | C13: 1 | D13: 1 | E13: 0 | F13: 2 | G13: 1 | H13: 0 | I13: =B13-(SUM(F13:H13)) -> 228 | J13: aMonday | K13: =F13/B13*100 -> 0.86580087 | L13: =G13/B13*100 -> 0.43290043
... A80: 44295 | B80: 499 | C80: 1 | D80: 1 | E80: 0 | F80: 1 | G80: 0 | H80: 0 | I80: =B80-(SUM(F80:H80)) -> 498 | J80: eFriday | K80: =F80/B80*100 -> 0.2004008 | L80: =G80/B80*100 -> 0
A81: 44303 | B81: 247 | C81: x | D81: x | E81: x | F81: 2 | G81: 27 | H81: 0 | I81: =B81-(SUM(F81:H81)) -> 218 | J81: eFriday | K81: =F81/B81*100 -> 0.8097166 | L81: =G81/B81*100 -> 10.931174
A82: 44309 | B82: 616 | C82: 1 | D82: 7 | E82: 3 | F82: 1 | G82: 1 | H82: 0 | I82: =B82-(SUM(F82:H82)) -> 614 | J82: eFriday | K82: =F82/B82*100 -> 0.16233766 | L82: =G82/B82*100 -> 0.16233766
A83: 44316 | B83: 443 | C83: 0 | D83: 4 | E83: 1 | F83: 0 | G83: 0 | H83: 0 | I83: =B83-(SUM(F83:H83)) -> 443 | J83: eFriday | K83: =F83/B83*100 -> 0 | L83: =G83/B83*100 -> 0
A84: 44323 | B84: 127 | C84: 0 | D84: 0 | E84: 0 | F84: 0 | G84: 0 | H84: 0 | I84: =B84-(SUM(F84:H84)) -> 127 | J84: eFriday | K84: =F84/B84*100 -> 0 | L84: =G84/B84*100 -> 0
A85: 44212 | B85: 292 | C85: 4 | D85: 30 | E85: 1 | F85: 7 | G85: 2 | H85: 0 | I85: =B85-(SUM(F85:H85)) -> 283 | J85: eSaturday | K85: =F85/B85*100 -> 2.3972603 | L85: =G85/B85*100 -> 0.68493151
A86: 44219 | B86: 358 | C86: x | D86: x | E86: x | F86: 2 | G86: 7 | H86: 0 | I86: =B86-(SUM(F86:H86)) -> 349 | J86: eSaturday | K86: =F86/B86*100 -> 0.55865922 | L86: =G86/B86*100 -> 1.9553073
A87: 44226 | B87: 286 | C87: x | D87: x | E87: x | F87: 1 | G87: 0 | H87: 0 | I87: =B87-(SUM(F87:H87)) -> 285 | J87: eSaturday | K87: =F87/B87*100 -> 0.34965035 | L87: =G87/B87*100 -> 0
A88: 44233 | B88: 296 | C88: x | D88: x | E88: x | F88: 1 | G88: 11 | H88: 0 | I88: =B88-(SUM(F88:H88)) -> 284 | J88: eSaturday | K88: =F88/B88*100 -> 0.33783784 | L88: =G88/B88*100 -> 3.7162162
A89: 44240 | B89: 215 | C89: x | D89: x | E89: x | F89: 2 | G89: 0 | H89: 1 | I89: =B89-(SUM(F89:H89)) -> 212 | J89: eSaturday | K89: =F89/B89*100 -> 0.93023256 | L89: =G89/B89*100 -> 0
A90: 44247 | B90: 300 | C90: x | D90: x | E90: x | F90: 3 | G90: 6 | H90: 1 | I90: =B90-(SUM(F90:H90)) -> 290 | J90: eSaturday | K90: =F90/B90*100 -> 1 | L90: =G90/B90*100 -> 2
A91: 44254 | B91: 295 | C91: x | D91: x | E91: x | F91: 3 | G91: 2 | H91: 1 | I91: =B91-(SUM(F91:H91)) -> 289 | J91: eSaturday | K91: =F91/B91*100 -> 1.0169492 | L91: =G91/B91*100 -> 0.6779661
A92: 44261 | B92: 297 | C92: x | D92: x | E92: x | F92: 3 | G92: 18 | H92: 0 | I92: =B92-(SUM(F92:H92)) -> 276 | J92: eSaturday | K92: =F92/B92*100 -> 1.010101 | L92: =G92/B92*100 -> 6.0606061
A93: 44268 | B93: 202 | C93: x | D93: x | E93: x | F93: 6 | G93: 4 | H93: 0 | I93: =B93-(SUM(F93:H93)) -> 192 | J93: eSaturday | K93: =F93/B93*100 -> 2.970297 | L93: =G93/B93*100 -> 1.980198
A94: 44275 | B94: 294 | C94: x | D94: x | E94: x | F94: 5 | G94: 18 | H94: 0 | I94: =B94-(SUM(F94:H94)) -> 271 | J94: eSaturday | K94: =F94/B94*100 -> 1.7006803 | L94: =G94/B94*100 -> 6.122449
A95: 44282 | B95: 255 | C95: x | D95: x | E95: x | F95: 2 | G95: 3 | H95: 0 | I95: =B95-(SUM(F95:H95)) -> 250 | J95: eSaturday | K95: =F95/B95*100 -> 0.78431373 | L95: =G95/B95*100 -> 1.1764706
A96: 44289 | B96: 224 | C96: x | D96: x | E96: x | F96: 3 | G96: 7 | H96: 0 | I96: =B96-(SUM(F96:H96)) -> 214 | J96: eSaturday | K96: =F96/B96*100 -> 1.3392857 | L96: =G96/B96*100 -> 3.125
A97: 44296 | B97: 264 | C97: x | D97: x | E97: x | F97: 0 | G97: 24 | H97: 0 | I97: =B97-(SUM(F97:H97)) -> 240 | J97: eSaturday | K97: =F97/B97*100 -> 0 | L97: =G97/B97*100 -> 9.0909091
A98: 44305 | B98: 237 | C98: 1 | D98: 3 | E98: 0 | F98: 1 | G98: 0 | H98: 0 | I98: =B98-(SUM(F98:H98)) -> 236 | J98: eSaturday | K98: =F98/B98*100 -> 0.42194093 | L98: =G98/B98*100 -> 0
A99: 44310 | B99: 274 | C99: x | D99: x | E99: x | F99: 0 | G99: 9 | H99: 0 | I99: =B99-(SUM(F99:H99)) -> 265 | J99: eSaturday | K99: =F99/B99*100 -> 0 | L99: =G99/B99*100 -> 3.2846715
A100: 44317 | B100: 199 | C100: x | D100: x | E100: x | F100: 1 | G100: 9 | H100: 0 | I100: =B100-(SUM(F100:H100)) -> 189 | J100: eSaturday | K100: =F100/B100*100 -> 0.50251256 | L100: =G100/B100*100 -> 4.5226131
A101: 44324 | B101: 71 | C101: x | D101: x | E101: x | F101: 0 | G101: 0 | H101: 1 | I101: =B101-(SUM(F101:H101)) -> 70 | J101: eSaturday | K101: =F101/B101*100 -> 0 | L101: =G101/B101*100 -> 0
A102: Sum | B102: =SUM(B2:B101) -> 44211 | C102: =SUM(C2:C101) -> 303 | D102: =SUM(D2:D101) -> 686 | E102: =SUM(E2:E101) -> 125 | F102: =SUM(F2:F101) -> 374 | G102: =SUM(G2:G101) -> 226 | H102: =SUM(H2:H101) -> 16 | I102: =SUM(I2:I101) -> 43595
F103: =F102/$B102 -> 0.0084594332 | G103: =G102/$B102 -> 0.00511185 | H103: =H102/$B102 -> 0.00036190088 | I103: =I102/$B102 -> 0.98606682

Sheet Deployment Predictive Analysis
A1: CODE | B1: Saliva | C1: Abbott | D1: HealthrackRx | E1: Other test | F1: positive | G1: negative | H1: no show | I1: Result | J1: Ct N | K1: dCt N | L1: Ct ORF1a | M1: dCt ORF1a | N1: Ct S | O1: Test Date | P1: Test Day
A2: 148 | B2: Positive | C2: pos | F2: 1 | I2: =F2-G2 -> 1 | J2: =VLOOKUP(A2,'Deployment Ct Data'!A:K,7,FALSE) -> 24.412 | K2: =VLOOKUP(A2,'Deployment Ct Data'!A:K,10,FALSE) -> 17.012 | L2: =VLOOKUP(A2,'Deployment Ct Data'!A:K,8,FALSE) -> 25.444 | M2: =VLOOKUP(A2,'Deployment Ct Data'!A:K,11,FALSE) -> 15.98 | N2: =VLOOKUP(A2,'Deployment Ct Data'!A:K,9,FALSE) -> 25.174 | O2: =VLOOKUP(A2,'Deployment Ct Data'!A:K,2,FALSE) -> 44208 | P2: =_xlfn.DAYS(O2,$O$2) -> 0
A3: 156 | B3: Positive | C3: pos | F3: 1 | I3: =F3-G3 -> 1 | J3: =VLOOKUP(A3,'Deployment Ct Data'!A:K,7,FALSE) -> 24.927 | K3: =VLOOKUP(A3,'Deployment Ct Data'!A:K,10,FALSE) -> 7.013 | L3: =VLOOKUP(A3,'Deployment Ct Data'!A:K,8,FALSE) -> 26.711 | M3: =VLOOKUP(A3,'Deployment Ct Data'!A:K,11,FALSE) -> 5.229 | N3: =VLOOKUP(A3,'Deployment Ct Data'!A:K,9,FALSE) -> 27.185 | O3: =VLOOKUP(A3,'Deployment Ct Data'!A:K,2,FALSE) -> 44209 | P3: =_xlfn.DAYS(O3,$O$2) -> 1
A4: 290 | B4: Positive | C4: pos | F4: 1 | I4: =F4-G4 -> 1 | J4: =VLOOKUP(A4,'Deployment Ct Data'!A:K,7,FALSE) -> 32.172 | K4: =VLOOKUP(A4,'Deployment Ct Data'!A:K,10,FALSE) -> -0.68 | L4: =VLOOKUP(A4,'Deployment Ct Data'!A:K,8,FALSE) -> 34.098 | M4: =VLOOKUP(A4,'Deployment Ct Data'!A:K,11,FALSE) -> -2.606 | N4: =VLOOKUP(A4,'Deployment Ct Data'!A:K,9,FALSE) -> 33.639 | O4: =VLOOKUP(A4,'Deployment Ct Data'!A:K,2,FALSE) -> 44209 | P4: =_xlfn.DAYS(O4,$O$2) -> 1
A5: 289 | B5: Positive | C5: pos | F5: 1 | I5: =F5-G5 -> 1 | J5: =VLOOKUP(A5,'Deployment Ct Data'!A:K,7,FALSE) -> 29.007 | K5: =VLOOKUP(A5,'Deployment Ct Data'!A:K,10,FALSE) -> -0.193 | L5: =VLOOKUP(A5,'Deployment Ct Data'!A:K,8,FALSE) -> 30.345 | M5: =VLOOKUP(A5,'Deployment Ct Data'!A:K,11,FALSE) -> -1.531 | N5: =VLOOKUP(A5,'Deployment Ct Data'!A:K,9,FALSE) -> 30.668 | O5: =VLOOKUP(A5,'Deployment Ct Data'!A:K,2,FALSE) -> 44210 | P5: =_xlfn.DAYS(O5,$O$2) -> 2
A6: 343 | B6: Positive | C6: pos | F6: 1 | I6: =F6-G6 -> 1 | J6: =VLOOKUP(A6,'Deployment Ct Data'!A:K,7,FALSE) -> 33.208 | K6: =VLOOKUP(A6,'Deployment Ct Data'!A:K,10,FALSE) -> -2.346 | L6: =VLOOKUP(A6,'Deployment Ct Data'!A:K,8,FALSE) -> 35.202 | M6: =VLOOKUP(A6,'Deployment Ct Data'!A:K,11,FALSE) -> -4.34 | N6: =VLOOKUP(A6,'Deployment Ct Data'!A:K,9,FALSE) -> 36.164 | O6: =VLOOKUP(A6,'Deployment Ct Data'!A:K,2,FALSE) -> 44210 | P6: =_xlfn.DAYS(O6,$O$2) -> 2
A7: 276 | B7: Positive | C7: neg | D7: pos | F7: 1 | I7: =F7-G7 -> 1 | J7: =VLOOKUP(A7,'Deployment Ct Data'!A:K,7,FALSE) -> 34.413 | K7: =VLOOKUP(A7,'Deployment Ct Data'!A:K,10,FALSE) -> -5.497 | L7: =VLOOKUP(A7,'Deployment Ct Data'!A:K,8,FALSE) -> 36.764 | M7: =VLOOKUP(A7,'Deployment Ct Data'!A:K,11,FALSE) -> -7.848 | N7: =VLOOKUP(A7,'Deployment Ct Data'!A:K,9,FALSE) -> 51 | O7: =VLOOKUP(A7,'Deployment Ct Data'!A:K,2,FALSE) -> 44210 | P7: =_xlfn.DAYS(O7,$O$2) -> 2
A8: 283 | B8: Positive | C8: pos | F8: 1 | I8: =F8-G8 -> 1 | J8: =VLOOKUP(A8,'Deployment Ct Data'!A:K,7,FALSE) -> 40.477 | K8: =VLOOKUP(A8,'Deployment Ct Data'!A:K,10,FALSE) -> -11.992 | L8: =VLOOKUP(A8,'Deployment Ct Data'!A:K,8,FALSE) -> 41.443 | M8: =VLOOKUP(A8,'Deployment Ct Data'!A:K,11,FALSE) -> -12.958 | N8: =VLOOKUP(A8,'Deployment Ct Data'!A:K,9,FALSE) -> 51 | O8: =VLOOKUP(A8,'Deployment Ct Data'!A:K,2,FALSE) -> 44210 | P8: =_xlfn.DAYS(O8,$O$2) -> 2
A9: 300 | B9: Positive | C9: pos | F9: 1 | I9: =F9-G9 -> 1 | J9: =VLOOKUP(A9,'Deployment Ct Data'!A:K,7,FALSE) -> 22.019 | K9: =VLOOKUP(A9,'Deployment Ct Data'!A:K,10,FALSE) -> 28.981 | L9: =VLOOKUP(A9,'Deployment Ct Data'!A:K,8,FALSE) -> 24.263 | M9: =VLOOKUP(A9,'Deployment Ct Data'!A:K,11,FALSE) -> 26.737 | N9: =VLOOKUP(A9,'Deployment Ct Data'!A:K,9,FALSE) -> 23.029 | O9: =VLOOKUP(A9,'Deployment Ct Data'!A:K,2,FALSE) -> 44211 | P9: =_xlfn.DAYS(O9,$O$2) -> 3
A10: 124 | B10: Positive | C10: neg | D10: pos | F10: 1 | I10: =F10-G10 -> 1 | J10: =VLOOKUP(A10,'Deployment Ct Data'!A:K,7,FALSE) -> 34.984 | K10: =VLOOKUP(A10,'Deployment Ct Data'!A:K,10,FALSE) -> -3.289 | L10: =VLOOKUP(A10,'Deployment Ct Data'!A:K,8,FALSE) -> 35.673 | M10: =VLOOKUP(A10,'Deployment Ct Data'!A:K,11,FALSE) -> -3.978 | N10: =VLOOKUP(A10,'Deployment Ct Data'!A:K,9,FALSE) -> 39.26 | O10: =VLOOKUP(A10,'Deployment Ct Data'!A:K,2,FALSE) -> 44211 | P10: =_xlfn.DAYS(O10,$O$2) -> 3
A11: 329 | B11: Positive | C11: pos | F11: 1 | I11: =F11-G11 -> 1 | J11: =VLOOKUP(A11,'Deployment Ct Data'!A:K,7,FALSE) -> 51 | K11: =VLOOKUP(A11,'Deployment Ct Data'!A:K,10,FALSE) -> 0 | L11: =VLOOKUP(A11,'Deployment Ct Data'!A:K,8,FALSE) -> 51 | M11: =VLOOKUP(A11,'Deployment Ct Data'!A:K,11,FALSE) -> 0 | N11: =VLOOKUP(A11,'Deployment Ct Data'!A:K,9,FALSE) -> 51 | O11: =VLOOKUP(A11,'Deployment Ct Data'!A:K,2,FALSE) -> 44211 | P11: =_xlfn.DAYS(O11,$O$2) -> 3
A12: 32 | B12: POSITIVE | C12: pos | F12: 1 | I12: =F12-G12 -> 1 | J12: =VLOOKUP(A12,'Deployment Ct Data'!A:K,7,FALSE) -> 29.752 | K12: =VLOOKUP(A12,'Deployment Ct Data'!A:K,10,FALSE) -> -0.572 | L12: =VLOOKUP(A12,'Deployment Ct Data'!A:K,8,FALSE) -> 30.404 | M12: =VLOOKUP(A12,'Deployment Ct Data'!A:K,11,FALSE) -> -1.224 | N12: =VLOOKUP(A12,'Deployment Ct Data'!A:K,9,FALSE) -> 30.466 | O12: =VLOOKUP(A12,'Deployment Ct Data'!A:K,2,FALSE) -> 44212 | P12: =_xlfn.DAYS(O12,$O$2) -> 4
A13: 181 | B13: POSITIVE | C13: pos | F13: 1 | I13: =F13-G13 -> 1 | J13: =VLOOKUP(A13,'Deployment Ct Data'!A:K,7,FALSE) -> 30.475 | K13: =VLOOKUP(A13,'Deployment Ct Data'!A:K,10,FALSE) -> -3.163 | L13: =VLOOKUP(A13,'Deployment Ct Data'!A:K,8,FALSE) -> 31.871 | M13: =VLOOKUP(A13,'Deployment Ct Data'!A:K,11,FALSE) -> -4.559 | N13: =VLOOKUP(A13,'Deployment Ct Data'!A:K,9,FALSE) -> 31.578 | O13: =VLOOKUP(A13,'Deployment Ct Data'!A:K,2,FALSE) -> 44212 | P13: =_xlfn.DAYS(O13,$O$2) -> 4
A14: 47 | B14: POSITIVE | C14: pos | F14: 1 | I14: =F14-G14 -> 1 | J14: =VLOOKUP(A14,'Deployment Ct Data'!A:K,7,FALSE) -> 30.955 | K14: =VLOOKUP(A14,'Deployment Ct Data'!A:K,10,FALSE) -> -2.345 | L14: =VLOOKUP(A14,'Deployment Ct Data'!A:K,8,FALSE) -> 32.765 | M14: =VLOOKUP(A14,'Deployment Ct Data'!A:K,11,FALSE) -> -4.155 | N14: =VLOOKUP(A14,'Deployment Ct Data'!A:K,9,FALSE) -> 32.524 | O14: =VLOOKUP(A14,'Deployment Ct Data'!A:K,2,FALSE) -> 44212 | P14: =_xlfn.DAYS(O14,$O$2) -> 4
A15: 302 | B15: POSITIVE | C15: pos | F15: 1 | I15: =F15-G15 -> 1 | J15: =VLOOKUP(A15,'Deployment Ct Data'!A:K,7,FALSE) -> 31.309 | K15: =VLOOKUP(A15,'Deployment Ct Data'!A:K,10,FALSE) -> 0.687 | L15: =VLOOKUP(A15,'Deployment Ct Data'!A:K,8,FALSE) -> 32.081 | M15: =VLOOKUP(A15,'Deployment Ct Data'!A:K,11,FALSE) -> -0.085 | N15: =VLOOKUP(A15,'Deployment Ct Data'!A:K,9,FALSE) -> 32.106 | O15: =VLOOKUP(A15,'Deployment Ct Data'!A:K,2,FALSE) -> 44212 | P15: =_xlfn.DAYS(O15,$O$2) -> 4
A16: 361 | B16: POSITIVE | C16: pos | F16: 1 | I16: =F16-G16 -> 1 | J16: =VLOOKUP(A16,'Deployment Ct Data'!A:K,7,FALSE) -> 42.726 | K16: =VLOOKUP(A16,'Deployment Ct Data'!A:K,10,FALSE) -> -9.588 | L16: =VLOOKUP(A16,'Deployment Ct Data'!A:K,8,FALSE) -> 41.404 | M16: =VLOOKUP(A16,'Deployment Ct Data'!A:K,11,FALSE) -> -8.266 | N16: =VLOOKUP(A16,'Deployment Ct Data'!A:K,9,FALSE) -> 51 | O16: =VLOOKUP(A16,'Deployment Ct Data'!A:K,2,FALSE) -> 44212 | P16: =_xlfn.DAYS(O16,$O$2) -> 4
A17: 296 | B17: POSITIVE | C17: pos | F17: 1 | I17: =F17-G17 -> 1 | J17: =VLOOKUP(A17,'Deployment Ct Data'!A:K,7,FALSE) -> 51 | K17: =VLOOKUP(A17,'Deployment Ct Data'!A:K,10,FALSE) -> -15.541 | L17: =VLOOKUP(A17,'Deployment Ct Data'!A:K,8,FALSE) -> 51 | M17: =VLOOKUP(A17,'Deployment Ct Data'!A:K,11,FALSE) -> -15.541 | N17: =VLOOKUP(A17,'Deployment Ct Data'!A:K,9,FALSE) -> 51 | O17: =VLOOKUP(A17,'Deployment Ct Data'!A:K,2,FALSE) -> 44212 | P17: =_xlfn.DAYS(O17,$O$2) -> 4
A18: 250 | B18: positive | E18: pos | F18: 1 | I18: =F18-G18 -> 1 | J18: =VLOOKUP(A18,'Deployment Ct Data'!A:K,7,FALSE) -> 32.905 | K18: =VLOOKUP(A18,'Deployment Ct Data'!A:K,10,FALSE) -> 6.636 | L18: =VLOOKUP(A18,'Deployment Ct Data'!A:K,8,FALSE) -> 33.186 | M18: =VLOOKUP(A18,'Deployment Ct Data'!A:K,11,FALSE) -> 6.355 | N18: =VLOOKUP(A18,'Deployment Ct Data'!A:K,9,FALSE) -> 33.782 | O18: =VLOOKUP(A18,'Deployment Ct Data'!A:K,2,FALSE) -> 44214 | P18: =_xlfn.DAYS(O18,$O$2) -> 6
A19: 314 | B19: positive | C19: pos | F19: 1 | I19: =F19-G19 -> 1 | J19: =VLOOKUP(A19,'Deployment Ct Data'!A:K,7,FALSE) -> 33.25 | K19: =VLOOKUP(A19,'Deployment Ct Data'!A:K,10,FALSE) -> -1.29 | L19: =VLOOKUP(A19,'Deployment Ct Data'!A:K,8,FALSE) -> 33.342 | M19: =VLOOKUP(A19,'Deployment Ct Data'!A:K,11,FALSE) -> -1.382 | N19: =VLOOKUP(A19,'Deployment Ct Data'!A:K,9,FALSE) -> 33.952 | O19: =VLOOKUP(A19,'Deployment Ct Data'!A:K,2,FALSE) -> 44214 | P19: =_xlfn.DAYS(O19,$O$2) -> 6
A20: 379 | B20: POSITIVE | C20: pos | F20: 1 | I20: =F20-G20 -> 1 | J20: =VLOOKUP(A20,'Deployment Ct Data'!A:K,7,FALSE) -> 25.822 | K20: =VLOOKUP(A20,'Deployment Ct Data'!A:K,10,FALSE) -> 5.151 | L20: =VLOOKUP(A20,'Deployment Ct Data'!A:K,8,FALSE) -> 30.788 | M20: =VLOOKUP(A20,'Deployment Ct Data'!A:K,11,FALSE) -> 0.185 | N20: =VLOOKUP(A20,'Deployment Ct Data'!A:K,9,FALSE) -> 28.852 | O20: =VLOOKUP(A20,'Deployment Ct Data'!A:K,2,FALSE) -> 44215 | P20: =_xlfn.DAYS(O20,$O$2) -> 7
A21: 121 | B21: POSITIVE | C21: pos | F21: 1 | I21: =F21-G21 -> 1 | J21: =VLOOKUP(A21,'Deployment Ct Data'!A:K,7,FALSE) -> 26.227 | K21: =VLOOKUP(A21,'Deployment Ct Data'!A:K,10,FALSE) -> 3.463 | L21: =VLOOKUP(A21,'Deployment Ct Data'!A:K,8,FALSE) -> 28.839 | M21: =VLOOKUP(A21,'Deployment Ct Data'!A:K,11,FALSE) -> 0.851 | N21: =VLOOKUP(A21,'Deployment Ct Data'!A:K,9,FALSE) -> 27.432 | O21: =VLOOKUP(A21,'Deployment Ct Data'!A:K,2,FALSE) -> 44215 | P21: =_xlfn.DAYS(O21,$O$2) -> 7
A22: 323 | B22: POSITIVE | C22: pos | F22: 1 | I22: =F22-G22 -> 1 | J22: =VLOOKUP(A22,'Deployment Ct Data'!A:K,7,FALSE) -> 36.346 | K22: =VLOOKUP(A22,'Deployment Ct Data'!A:K,10,FALSE) -> -7.347 | L22: =VLOOKUP(A22,'Deployment Ct Data'!A:K,8,FALSE) -> 39.453 | M22: =VLOOKUP(A22,'Deployment Ct Data'!A:K,11,FALSE) -> -10.454 | N22: =VLOOKUP(A22,'Deployment Ct Data'!A:K,9,FALSE) -> 41.953 | O22: =VLOOKUP(A22,'Deployment Ct Data'!A:K,2,FALSE) -> 44215 | P22: =_xlfn.DAYS(O22,$O$2) -> 7
A23: 161 | B23: POSITIVE | C23: pos | F23: 1 | I23: =F23-G23 -> 1 | J23: =VLOOKUP(A23,'Deployment Ct Data'!A:K,7,FALSE) -> 29.814 | K23: =VLOOKUP(A23,'Deployment Ct Data'!A:K,10,FALSE) -> 0.634 | L23: =VLOOKUP(A23,'Deployment Ct Data'!A:K,8,FALSE) -> 30.441 | M23: =VLOOKUP(A23,'Deployment Ct Data'!A:K,11,FALSE) -> 0.007 | N23: =VLOOKUP(A23,'Deployment Ct Data'!A:K,9,FALSE) -> 30.622 | O23: =VLOOKUP(A23,'Deployment Ct Data'!A:K,2,FALSE) -> 44216 | P23: =_xlfn.DAYS(O23,$O$2) -> 8
A24: 87 | B24: POSITIVE | E24: pos | F24: 1 | I24: =F24-G24 -> 1 | J24: =VLOOKUP(A24,'Deployment Ct Data'!A:K,7,FALSE) -> 27.298 | K24: =VLOOKUP(A24,'Deployment Ct Data'!A:K,10,FALSE) -> 3.002 | L24: =VLOOKUP(A24,'Deployment Ct Data'!A:K,8,FALSE) -> 28.111 | M24: =VLOOKUP(A24,'Deployment Ct Data'!A:K,11,FALSE) -> 2.189 | N24: =VLOOKUP(A24,'Deployment Ct Data'!A:K,9,FALSE) -> 29.515 | O24: =VLOOKUP(A24,'Deployment Ct Data'!A:K,2,FALSE) -> 44217 | P24: =_xlfn.DAYS(O24,$O$2) -> 9
A25: 41 | B25: POSITIVE | E25: pos | F25: 1 | I25: =F25-G25 -> 1 | J25: =VLOOKUP(A25,'Deployment Ct Data'!A:K,7,FALSE) -> 34.755 | K25: =VLOOKUP(A25,'Deployment Ct Data'!A:K,10,FALSE) -> -7.208 | L25: =VLOOKUP(A25,'Deployment Ct Data'!A:K,8,FALSE) -> 41.234 | M25: =VLOOKUP(A25,'Deployment Ct Data'!A:K,11,FALSE) -> -13.687 | N25: =VLOOKUP(A25,'Deployment Ct Data'!A:K,9,FALSE) -> 51 | O25: =VLOOKUP(A25,'Deployment Ct Data'!A:K,2,FALSE) -> 44218 | P25: =_xlfn.DAYS(O25,$O$2) -> 10
A26: 138 | B26: Positive | C26: neg | D26: pos | F26: 1 | I26: =F26-G26 -> 1 | J26: =VLOOKUP(A26,'Deployment Ct Data'!A:K,7,FALSE) -> 32.396 | K26: =VLOOKUP(A26,'Deployment Ct Data'!A:K,10,FALSE) -> 15.355 | L26: =VLOOKUP(A26,'Deployment Ct Data'!A:K,8,FALSE) -> 32.668 | M26: =VLOOKUP(A26,'Deployment Ct Data'!A:K,11,FALSE) -> 15.083 | N26: =VLOOKUP(A26,'Deployment Ct Data'!A:K,9,FALSE) -> 34.342 | O26: =VLOOKUP(A26,'Deployment Ct Data'!A:K,2,FALSE) -> 44220 | P26: =_xlfn.DAYS(O26,$O$2) -> 12
A27: 128 | B27: POSITIVE | C27: pos | F27: 1 | I27: =F27-G27 -> 1 | J27: =VLOOKUP(A27,'Deployment Ct Data'!A:K,7,FALSE) -> 37.027 | K27: =VLOOKUP(A27,'Deployment Ct Data'!A:K,10,FALSE) -> -4.855 | L27: =VLOOKUP(A27,'Deployment Ct Data'!A:K,8,FALSE) -> 46.583 | M27: =VLOOKUP(A27,'Deployment Ct Data'!A:K,11,FALSE) -> -14.411 | N27: =VLOOKUP(A27,'Deployment Ct Data'!A:K,9,FALSE) -> 51 | O27: =VLOOKUP(A27,'Deployment Ct Data'!A:K,2,FALSE) -> 44220 | P27: =_xlfn.DAYS(O27,$O$2) -> 12
A28: 347 | B28: POSITIVE | C28: pos | F28: 1 | I28: =F28-G28 -> 1 | J28: =VLOOKUP(A28,'Deployment Ct Data'!A:K,7,FALSE) -> 27.96 | K28: =VLOOKUP(A28,'Deployment Ct Data'!A:K,10,FALSE) -> 8.083 | L28: =VLOOKUP(A28,'Deployment Ct Data'!A:K,8,FALSE) -> 28.827 | M28: =VLOOKUP(A28,'Deployment Ct Data'!A:K,11,FALSE) -> 7.216 | N28: =VLOOKUP(A28,'Deployment Ct Data'!A:K,9,FALSE) -> 28.891 | O28: =VLOOKUP(A28,'Deployment Ct Data'!A:K,2,FALSE) -> 44222 | P28: =_xlfn.DAYS(O28,$O$2) -> 14
A29: 293 | B29: POSITIVE | C29: pos | F29: 1 | I29: =F29-G29 -> 1 | J29: =VLOOKUP(A29,'Deployment Ct Data'!A:K,7,FALSE) -> 35.614 | K29: =VLOOKUP(A29,'Deployment Ct Data'!A:K,10,FALSE) -> -1.479 | L29: =VLOOKUP(A29,'Deployment Ct Data'!A:K,8,FALSE) -> 44.224 | M29: =VLOOKUP(A29,'Deployment Ct Data'!A:K,11,FALSE) -> -10.089 | N29: =VLOOKUP(A29,'Deployment Ct Data'!A:K,9,FALSE) -> 51 | O29: =VLOOKUP(A29,'Deployment Ct Data'!A:K,2,FALSE) -> 44223 | P29: =_xlfn.DAYS(O29,$O$2) -> 15
A30: 178 | B30: POSITIVE | C30: pos | F30: 1 | I30: =F30-G30 -> 1 | J30: =VLOOKUP(A30,'Deployment Ct Data'!A:K,7,FALSE) -> 29.96 | K30: =VLOOKUP(A30,'Deployment Ct Data'!A:K,10,FALSE) -> 1.915 | L30: =VLOOKUP(A30,'Deployment Ct Data'!A:K,8,FALSE) -> 31.752 | M30: =VLOOKUP(A30,'Deployment Ct Data'!A:K,11,FALSE) -> 0.123 | N30: =VLOOKUP(A30,'Deployment Ct Data'!A:K,9,FALSE) -> 33.122 | O30: =VLOOKUP(A30,'Deployment Ct Data'!A:K,2,FALSE) -> 44224 | P30: =_xlfn.DAYS(O30,$O$2) -> 16
A31: 271 | B31: POSITIVE | C31: pos | F31: 1 | I31: =F31-G31 -> 1 | J31: =VLOOKUP(A31,'Deployment Ct Data'!A:K,7,FALSE) -> 22.95 | K31: =VLOOKUP(A31,'Deployment Ct Data'!A:K,10,FALSE) -> 8.433 | L31: =VLOOKUP(A31,'Deployment Ct Data'!A:K,8,FALSE) -> 23.608 | M31: =VLOOKUP(A31,'Deployment Ct Data'!A:K,11,FALSE) -> 7.775 | N31: =VLOOKUP(A31,'Deployment Ct Data'!A:K,9,FALSE) -> 23.813 | O31: =VLOOKUP(A31,'Deployment Ct Data'!A:K,2,FALSE) -> 44225 | P31: =_xlfn.DAYS(O31,$O$2) -> 17
A32: 363 | B32: POSITIVE | C32: pos | F32: 1 | I32: =F32-G32 -> 1 | J32: =VLOOKUP(A32,'Deployment Ct Data'!A:K,7,FALSE) -> 27.276 | K32: =VLOOKUP(A32,'Deployment Ct Data'!A:K,10,FALSE) -> 2.443 | L32: =VLOOKUP(A32,'Deployment Ct Data'!A:K,8,FALSE) -> 28.527 | M32: =VLOOKUP(A32,'Deployment Ct Data'!A:K,11,FALSE) -> 1.192 | N32: =VLOOKUP(A32,'Deployment Ct Data'!A:K,9,FALSE) -> 28.67 | O32: =VLOOKUP(A32,'Deployment Ct Data'!A:K,2,FALSE) -> 44225 | P32: =_xlfn.DAYS(O32,$O$2) -> 17
A33: 183 | B33: POSITIVE | C33: pos | F33: 1 | I33: =F33-G33 -> 1 | J33: =VLOOKUP(A33,'Deployment Ct Data'!A:K,7,FALSE) -> 27.78 | K33: =VLOOKUP(A33,'Deployment Ct Data'!A:K,10,FALSE) -> 2.408 | L33: =VLOOKUP(A33,'Deployment Ct Data'!A:K,8,FALSE) -> 28.877 | M33: =VLOOKUP(A33,'Deployment Ct Data'!A:K,11,FALSE) -> 1.311 | N33: =VLOOKUP(A33,'Deployment Ct Data'!A:K,9,FALSE) -> 29.422 | O33: =VLOOKUP(A33,'Deployment Ct Data'!A:K,2,FALSE) -> 44225 | P33: =_xlfn.DAYS(O33,$O$2) -> 17
A34: 63 | B34: POSITIVE | C34: pos | F34: 1 | I34: =F34-G34 -> 1 | J34: =VLOOKUP(A34,'Deployment Ct Data'!A:K,7,FALSE) -> 29.402 | K34: =VLOOKUP(A34,'Deployment Ct Data'!A:K,10,FALSE) -> 1.134 | L34: =VLOOKUP(A34,'Deployment Ct Data'!A:K,8,FALSE) -> 29.911 | M34: =VLOOKUP(A34,'Deployment Ct Data'!A:K,11,FALSE) -> 0.625 | N34: =VLOOKUP(A34,'Deployment Ct Data'!A:K,9,FALSE) -> 30.305 | O34: =VLOOKUP(A34,'Deployment Ct Data'!A:K,2,FALSE) -> 44225 | P34: =_xlfn.DAYS(O34,$O$2) -> 17
A35: 376 | B35: POSITIVE | C35: pos | F35: 1 | I35: =F35-G35 -> 1 | J35: =VLOOKUP(A35,'Deployment Ct Data'!A:K,7,FALSE) -> 29.784 | K35: =VLOOKUP(A35,'Deployment Ct Data'!A:K,10,FALSE) -> 0.123 | L35: =VLOOKUP(A35,'Deployment Ct Data'!A:K,8,FALSE) -> 30.397 | M35: =VLOOKUP(A35,'Deployment Ct Data'!A:K,11,FALSE) -> -0.49 | N35: =VLOOKUP(A35,'Deployment Ct Data'!A:K,9,FALSE) -> 30.761 | O35: =VLOOKUP(A35,'Deployment Ct Data'!A:K,2,FALSE) -> 44225 | P35: =_xlfn.DAYS(O35,$O$2) -> 17
A36: 247 | B36: POSITIVE | E36: pos | F36: 1 | I36: =F36-G36 -> 1 | J36: =VLOOKUP(A36,'Deployment Ct Data'!A:K,7,FALSE) -> 17.937 | K36: =VLOOKUP(A36,'Deployment Ct Data'!A:K,10,FALSE) -> 26.939 | L36: =VLOOKUP(A36,'Deployment Ct Data'!A:K,8,FALSE) -> 18.504 | M36: =VLOOKUP(A36,'Deployment Ct Data'!A:K,11,FALSE) -> 26.372 | N36: =VLOOKUP(A36,'Deployment Ct Data'!A:K,9,FALSE) -> 18.53 | O36: =VLOOKUP(A36,'Deployment Ct Data'!A:K,2,FALSE) -> 44229 | P36: =_xlfn.DAYS(O36,$O$2) -> 21
A37: 270 | B37: POSITIVE | C37: pos | F37: 1 | I37: =F37-G37 -> 1 | J37: =VLOOKUP(A37,'Deployment Ct Data'!A:K,7,FALSE) -> 22.044 | K37: =VLOOKUP(A37,'Deployment Ct Data'!A:K,10,FALSE) -> 20.03 | L37: =VLOOKUP(A37,'Deployment Ct Data'!A:K,8,FALSE) -> 23.081 | M37: =VLOOKUP(A37,'Deployment Ct Data'!A:K,11,FALSE) -> 18.993 | N37: =VLOOKUP(A37,'Deployment Ct Data'!A:K,9,FALSE) -> 23.581 | O37: =VLOOKUP(A37,'Deployment Ct Data'!A:K,2,FALSE) -> 44229 | P37: =_xlfn.DAYS(O37,$O$2) -> 21
A38: 180 | B38: POSITIVE | C38: pos | F38: 1 | I38: =F38-G38 -> 1 | J38: =VLOOKUP(A38,'Deployment Ct Data'!A:K,7,FALSE) -> 24.382 | K38: =VLOOKUP(A38,'Deployment Ct Data'!A:K,10,FALSE) -> 26.618 | L38: =VLOOKUP(A38,'Deployment Ct Data'!A:K,8,FALSE) -> 24.015 | M38: =VLOOKUP(A38,'Deployment Ct Data'!A:K,11,FALSE) -> 26.985 | N38: =VLOOKUP(A38,'Deployment Ct Data'!A:K,9,FALSE) -> 24.55 | O38: =VLOOKUP(A38,'Deployment Ct Data'!A:K,2,FALSE) -> 44229 | P38: =_xlfn.DAYS(O38,$O$2) -> 21
A39: 118 | B39: POSITIVE | C39: pos | F39: 1 | I39: =F39-G39 -> 1 | J39: =VLOOKUP(A39,'Deployment Ct Data'!A:K,7,FALSE) -> 24.894 | K39: =VLOOKUP(A39,'Deployment Ct Data'!A:K,10,FALSE) -> 19.552 | L39: =VLOOKUP(A39,'Deployment Ct Data'!A:K,8,FALSE) -> 26.018 | M39: =VLOOKUP(A39,'Deployment Ct Data'!A:K,11,FALSE) -> 18.428 | N39: =VLOOKUP(A39,'Deployment Ct Data'!A:K,9,FALSE) -> 25.779 | O39: =VLOOKUP(A39,'Deployment Ct Data'!A:K,2,FALSE) -> 44229 | P39: =_xlfn.DAYS(O39,$O$2) -> 21
A40: 344 | B40: POSITIVE | C40: pos | F40: 1 | I40: =F40-G40 -> 1 | J40: =VLOOKUP(A40,'Deployment Ct Data'!A:K,7,FALSE) -> 27.94 | K40: =VLOOKUP(A40,'Deployment Ct Data'!A:K,10,FALSE) -> 8.413 | L40: =VLOOKUP(A40,'Deployment Ct Data'!A:K,8,FALSE) -> 28.173 | M40: =VLOOKUP(A40,'Deployment Ct Data'!A:K,11,FALSE) -> 8.18 | N40: =VLOOKUP(A40,'Deployment Ct Data'!A:K,9,FALSE) -> 28.294 | O40: =VLOOKUP(A40,'Deployment Ct Data'!A:K,2,FALSE) -> 44229 | P40: =_xlfn.DAYS(O40,$O$2) -> 21
A41: 35 | B41: POSITIVE | C41: pos | F41: 1 | I41: =F41-G41 -> 1 | J41: =VLOOKUP(A41,'Deployment Ct Data'!A:K,7,FALSE) -> 28.798 | K41: =VLOOKUP(A41,'Deployment Ct Data'!A:K,10,FALSE) -> 3.562 | L41: =VLOOKUP(A41,'Deployment Ct Data'!A:K,8,FALSE) -> 28.979 | M41: =VLOOKUP(A41,'Deployment Ct Data'!A:K,11,FALSE) -> 3.381 | N41: =VLOOKUP(A41,'Deployment Ct Data'!A:K,9,FALSE) -> 29.06 | O41: =VLOOKUP(A41,'Deployment Ct Data'!A:K,2,FALSE) -> 44229 | P41: =_xlfn.DAYS(O41,$O$2) -> 21
A42: 202 | B42: POSITIVE | C42: pos | F42: 1 | I42: =F42-G42 -> 1 | J42: =VLOOKUP(A42,'Deployment Ct Data'!A:K,7,FALSE) -> 29.452 | K42: =VLOOKUP(A42,'Deployment Ct Data'!A:K,10,FALSE) -> 3.294 | L42: =VLOOKUP(A42,'Deployment Ct Data'!A:K,8,FALSE) -> 29.842 | M42: =VLOOKUP(A42,'Deployment Ct Data'!A:K,11,FALSE) -> 2.904 | N42: =VLOOKUP(A42,'Deployment Ct Data'!A:K,9,FALSE) -> 30.051 | O42: =VLOOKUP(A42,'Deployment Ct Data'!A:K,2,FALSE) -> 44229 | P42: =_xlfn.DAYS(O42,$O$2) -> 21
A43: 327 | B43: POSITIVE | C43: pos | F43: 1 | I43: =F43-G43 -> 1 | J43: =VLOOKUP(A43,'Deployment Ct Data'!A:K,7,FALSE) -> 29.525 | K43: =VLOOKUP(A43,'Deployment Ct Data'!A:K,10,FALSE) -> 4.126 | L43: =VLOOKUP(A43,'Deployment Ct Data'!A:K,8,FALSE) -> 29.526 | M43: =VLOOKUP(A43,'Deployment Ct Data'!A:K,11,FALSE) -> 4.125 | N43: =VLOOKUP(A43,'Deployment Ct Data'!A:K,9,FALSE) -> 29.786 | O43: =VLOOKUP(A43,'Deployment Ct Data'!A:K,2,FALSE) -> 44229 | P43: =_xlfn.DAYS(O43,$O$2) -> 21
A44: 187 | B44: POSITIVE | C44: pos | F44: 1 | I44: =F44-G44 -> 1 | J44: =VLOOKUP(A44,'Deployment Ct Data'!A:K,7,FALSE) -> 30.851 | K44: =VLOOKUP(A44,'Deployment Ct Data'!A:K,10,FALSE) -> 2.397 | L44: =VLOOKUP(A44,'Deployment Ct Data'!A:K,8,FALSE) -> 31.323 | M44: =VLOOKUP(A44,'Deployment Ct Data'!A:K,11,FALSE) -> 1.925 | N44: =VLOOKUP(A44,'Deployment Ct Data'!A:K,9,FALSE) -> 31.635 | O44: =VLOOKUP(A44,'Deployment Ct Data'!A:K,2,FALSE) -> 44229 | P44: =_xlfn.DAYS(O44,$O$2) -> 21
A45: 233 | B45: POSITIVE | C45: pos | F45: 1 | I45: =F45-G45 -> 1 | J45: =VLOOKUP(A45,'Deployment Ct Data'!A:K,7,FALSE) -> 31.205 | K45: =VLOOKUP(A45,'Deployment Ct Data'!A:K,10,FALSE) -> 4.017 | L45: =VLOOKUP(A45,'Deployment Ct Data'!A:K,8,FALSE) -> 31.86 | M45: =VLOOKUP(A45,'Deployment Ct Data'!A:K,11,FALSE) -> 3.362 | N45: =VLOOKUP(A45,'Deployment Ct Data'!A:K,9,FALSE) -> 31.521 | O45: =VLOOKUP(A45,'Deployment Ct Data'!A:K,2,FALSE) -> 44229 | P45: =_xlfn.DAYS(O45,$O$2) -> 21
A46: 66 | B46: POSITIVE | C46: pos | F46: 1 | I46: =F46-G46 -> 1 | J46: =VLOOKUP(A46,'Deployment Ct Data'!A:K,7,FALSE) -> 32.554 | K46: =VLOOKUP(A46,'Deployment Ct Data'!A:K,10,FALSE) -> 1.712 | L46: =VLOOKUP(A46,'Deployment Ct Data'!A:K,8,FALSE) -> 33.762 | M46: =VLOOKUP(A46,'Deployment Ct Data'!A:K,11,FALSE) -> 0.504 | N46: =VLOOKUP(A46,'Deployment Ct Data'!A:K,9,FALSE) -> 35.01 | O46: =VLOOKUP(A46,'Deployment Ct Data'!A:K,2,FALSE) -> 44229 | P46: =_xlfn.DAYS(O46,$O$2) -> 21
A47: 333 | B47: POSITIVE | C47: pos | F47: 1 | I47: =F47-G47 -> 1 | J47: =VLOOKUP(A47,'Deployment Ct Data'!A:K,7,FALSE) -> 30.668 | K47: =VLOOKUP(A47,'Deployment Ct Data'!A:K,10,FALSE) -> -0.973 | L47: =VLOOKUP(A47,'Deployment Ct Data'!A:K,8,FALSE) -> 31.403 | M47: =VLOOKUP(A47,'Deployment Ct Data'!A:K,11,FALSE) -> -1.708 | N47: =VLOOKUP(A47,'Deployment Ct Data'!A:K,9,FALSE) -> 33.083 | O47: =VLOOKUP(A47,'Deployment Ct Data'!A:K,2,FALSE) -> 44230 | P47: =_xlfn.DAYS(O47,$O$2) -> 22
A48: 2 | B48: POSITIVE | C48: pos | F48: 1 | I48: =F48-G48 -> 1 | J48: =VLOOKUP(A48,'Deployment Ct Data'!A:K,7,FALSE) -> 31.136 | K48: =VLOOKUP(A48,'Deployment Ct Data'!A:K,10,FALSE) -> -0.275 | L48: =VLOOKUP(A48,'Deployment Ct Data'!A:K,8,FALSE) -> 32.277 | M48: =VLOOKUP(A48,'Deployment Ct Data'!A:K,11,FALSE) -> -1.416 | N48: =VLOOKUP(A48,'Deployment Ct Data'!A:K,9,FALSE) -> 31.989 | O48: =VLOOKUP(A48,'Deployment Ct Data'!A:K,2,FALSE) -> 44230 | P48: =_xlfn.DAYS(O48,$O$2) -> 22
... A78: 214 | B78: POSITIVE | C78: pos | F78: 1 | I78: =F78-G78 -> 1 | J78: =VLOOKUP(A78,'Deployment Ct Data'!A:K,7,FALSE) -> 30.436 | K78: =VLOOKUP(A78,'Deployment Ct Data'!A:K,10,FALSE) -> 0.182 | L78: =VLOOKUP(A78,'Deployment Ct Data'!A:K,8,FALSE) -> 31.114 | M78: =VLOOKUP(A78,'Deployment Ct Data'!A:K,11,FALSE) -> -0.496 | N78: =VLOOKUP(A78,'Deployment Ct Data'!A:K,9,FALSE) -> 30.026 | O78: =VLOOKUP(A78,'Deployment Ct Data'!A:K,2,FALSE) -> 44238 | P78: =_xlfn.DAYS(O78,$O$2) -> 30
A79: 226 | B79: POSITIVE | C79: neg | D79: pos | F79: 1 | I79: =F79-G79 -> 1 | J79: =VLOOKUP(A79,'Deployment Ct Data'!A:K,7,FALSE) -> 33.681 | K79: =VLOOKUP(A79,'Deployment Ct Data'!A:K,10,FALSE) -> -3.697 | L79: =VLOOKUP(A79,'Deployment Ct Data'!A:K,8,FALSE) -> 34.994 | M79: =VLOOKUP(A79,'Deployment Ct Data'!A:K,11,FALSE) -> -5.01 | N79: =VLOOKUP(A79,'Deployment Ct Data'!A:K,9,FALSE) -> 36.644 | O79: =VLOOKUP(A79,'Deployment Ct Data'!A:K,2,FALSE) -> 44239 | P79: =_xlfn.DAYS(O79,$O$2) -> 31
A80: 16 | B80: POSITIVE | C80: pos | F80: 1 | I80: =F80-G80 -> 1 | J80: =VLOOKUP(A80,'Deployment Ct Data'!A:K,7,FALSE) -> 25.039 | K80: =VLOOKUP(A80,'Deployment Ct Data'!A:K,10,FALSE) -> 4.659 | L80: =VLOOKUP(A80,'Deployment Ct Data'!A:K,8,FALSE) -> 25.824 | M80: =VLOOKUP(A80,'Deployment Ct Data'!A:K,11,FALSE) -> 3.874 | N80: =VLOOKUP(A80,'Deployment Ct Data'!A:K,9,FALSE) -> 25.941 | O80: =VLOOKUP(A80,'Deployment Ct Data'!A:K,2,FALSE) -> 44240 | P80: =_xlfn.DAYS(O80,$O$2) -> 32
A81: 4 | B81: POSITIVE | C81: pos | F81: 1 | I81: =F81-G81 -> 1 | J81: =VLOOKUP(A81,'Deployment Ct Data'!A:K,7,FALSE) -> 33.435 | K81: =VLOOKUP(A81,'Deployment Ct Data'!A:K,10,FALSE) -> -1.228 | L81: =VLOOKUP(A81,'Deployment Ct Data'!A:K,8,FALSE) -> 35.711 | M81: =VLOOKUP(A81,'Deployment Ct Data'!A:K,11,FALSE) -> -3.504 | N81: =VLOOKUP(A81,'Deployment Ct Data'!A:K,9,FALSE) -> 35.993 | O81: =VLOOKUP(A81,'Deployment Ct Data'!A:K,2,FALSE) -> 44240 | P81: =_xlfn.DAYS(O81,$O$2) -> 32
A82: 120 | B82: POSITIVE | C82: pos | F82: 1 | I82: =F82-G82 -> 1 | J82: =VLOOKUP(A82,'Deployment Ct Data'!A:K,7,FALSE) -> 20.167 | K82: =VLOOKUP(A82,'Deployment Ct Data'!A:K,10,FALSE) -> 15.676 | L82: =VLOOKUP(A82,'Deployment Ct Data'!A:K,8,FALSE) -> 20.991 | M82: =VLOOKUP(A82,'Deployment Ct Data'!A:K,11,FALSE) -> 14.852 | N82: =VLOOKUP(A82,'Deployment Ct Data'!A:K,9,FALSE) -> 20.951 | O82: =VLOOKUP(A82,'Deployment Ct Data'!A:K,2,FALSE) -> 44244 | P82: =_xlfn.DAYS(O82,$O$2) -> 36
A83: 50 | B83: POSITIVE | C83: pos | F83: 1 | I83: =F83-G83 -> 1 | J83: =VLOOKUP(A83,'Deployment Ct Data'!A:K,7,FALSE) -> 31.975 | K83: =VLOOKUP(A83,'Deployment Ct Data'!A:K,10,FALSE) -> -0.74 | L83: =VLOOKUP(A83,'Deployment Ct Data'!A:K,8,FALSE) -> 32.955 | M83: =VLOOKUP(A83,'Deployment Ct Data'!A:K,11,FALSE) -> -1.72 | N83: =VLOOKUP(A83,'Deployment Ct Data'!A:K,9,FALSE) -> 32.497 | O83: =VLOOKUP(A83,'Deployment Ct Data'!A:K,2,FALSE) -> 44244 | P83: =_xlfn.DAYS(O83,$O$2) -> 36
A84: 287 | B84: POSITIVE | C84: pos | F84: 1 | I84: =F84-G84 -> 1 | J84: =VLOOKUP(A84,'Deployment Ct Data'!A:K,7,FALSE) -> 29.208 | K84: =VLOOKUP(A84,'Deployment Ct Data'!A:K,10,FALSE) -> 1.032 | L84: =VLOOKUP(A84,'Deployment Ct Data'!A:K,8,FALSE) -> 29.953 | M84: =VLOOKUP(A84,'Deployment Ct Data'!A:K,11,FALSE) -> 0.287 | N84: =VLOOKUP(A84,'Deployment Ct Data'!A:K,9,FALSE) -> 29.965 | O84: =VLOOKUP(A84,'Deployment Ct Data'!A:K,2,FALSE) -> 44245 | P84: =_xlfn.DAYS(O84,$O$2) -> 37
A85: 259 | B85: POSITIVE | C85: pos | F85: 1 | I85: =F85-G85 -> 1 | J85: =VLOOKUP(A85,'Deployment Ct Data'!A:K,7,FALSE) -> 33.017 | K85: =VLOOKUP(A85,'Deployment Ct Data'!A:K,10,FALSE) -> -3.22 | L85: =VLOOKUP(A85,'Deployment Ct Data'!A:K,8,FALSE) -> 33.124 | M85: =VLOOKUP(A85,'Deployment Ct Data'!A:K,11,FALSE) -> -3.327 | N85: =VLOOKUP(A85,'Deployment Ct Data'!A:K,9,FALSE) -> 33.477 | O85: =VLOOKUP(A85,'Deployment Ct Data'!A:K,2,FALSE) -> 44245 | P85: =_xlfn.DAYS(O85,$O$2) -> 37
A86: 312 | B86: POSITIVE | C86: pos | F86: 1 | I86: =F86-G86 -> 1 | J86: =VLOOKUP(A86,'Deployment Ct Data'!A:K,7,FALSE) -> 26.17 | K86: =VLOOKUP(A86,'Deployment Ct Data'!A:K,10,FALSE) -> 6.049 | L86: =VLOOKUP(A86,'Deployment Ct Data'!A:K,8,FALSE) -> 27.273 | M86: =VLOOKUP(A86,'Deployment Ct Data'!A:K,11,FALSE) -> 4.946 | N86: =VLOOKUP(A86,'Deployment Ct Data'!A:K,9,FALSE) -> 26.658 | O86: =VLOOKUP(A86,'Deployment Ct Data'!A:K,2,FALSE) -> 44246 | P86: =_xlfn.DAYS(O86,$O$2) -> 38
A87: 292 | B87: POSITIVE | C87: pos | F87: 1 | I87: =F87-G87 -> 1 | J87: =VLOOKUP(A87,'Deployment Ct Data'!A:K,7,FALSE) -> 31.675 | K87: =VLOOKUP(A87,'Deployment Ct Data'!A:K,10,FALSE) -> -2.607 | L87: =VLOOKUP(A87,'Deployment Ct Data'!A:K,8,FALSE) -> 33.63 | M87: =VLOOKUP(A87,'Deployment Ct Data'!A:K,11,FALSE) -> -4.562 | N87: =VLOOKUP(A87,'Deployment Ct Data'!A:K,9,FALSE) -> 32.745 | O87: =VLOOKUP(A87,'Deployment Ct Data'!A:K,2,FALSE) -> 44246 | P87: =_xlfn.DAYS(O87,$O$2) -> 38
A88: 30 | B88: POSITIVE | C88: pos | F88: 1 | I88: =F88-G88 -> 1 | J88: =VLOOKUP(A88,'Deployment Ct Data'!A:K,7,FALSE) -> 25.33 | K88: =VLOOKUP(A88,'Deployment Ct Data'!A:K,10,FALSE) -> 6.259 | L88: =VLOOKUP(A88,'Deployment Ct Data'!A:K,8,FALSE) -> 25.739 | M88: =VLOOKUP(A88,'Deployment Ct Data'!A:K,11,FALSE) -> 5.85 | N88: =VLOOKUP(A88,'Deployment Ct Data'!A:K,9,FALSE) -> 25.594 | O88: =VLOOKUP(A88,'Deployment Ct Data'!A:K,2,FALSE) -> 44247 | P88: =_xlfn.DAYS(O88,$O$2) -> 39
A89: 59 | B89: POSITIVE | C89: pos | F89: 1 | I89: =F89-G89 -> 1 | J89: =VLOOKUP(A89,'Deployment Ct Data'!A:K,7,FALSE) -> 31.128 | K89: =VLOOKUP(A89,'Deployment Ct Data'!A:K,10,FALSE) -> 5.984 | L89: =VLOOKUP(A89,'Deployment Ct Data'!A:K,8,FALSE) -> 32.942 | M89: =VLOOKUP(A89,'Deployment Ct Data'!A:K,11,FALSE) -> 4.17 | N89: =VLOOKUP(A89,'Deployment Ct Data'!A:K,9,FALSE) -> 32.091 | O89: =VLOOKUP(A89,'Deployment Ct Data'!A:K,2,FALSE) -> 44247 | P89: =_xlfn.DAYS(O89,$O$2) -> 39
A90: 15 | B90: POSITIVE | C90: pos | F90: 1 | I90: =F90-G90 -> 1 | J90: =VLOOKUP(A90,'Deployment Ct Data'!A:K,7,FALSE) -> 31.967 | K90: =VLOOKUP(A90,'Deployment Ct Data'!A:K,10,FALSE) -> -2.522 | L90: =VLOOKUP(A90,'Deployment Ct Data'!A:K,8,FALSE) -> 34.849 | M90: =VLOOKUP(A90,'Deployment Ct Data'!A:K,11,FALSE) -> -5.404 | N90: =VLOOKUP(A90,'Deployment Ct Data'!A:K,9,FALSE) -> 34.764 | O90: =VLOOKUP(A90,'Deployment Ct Data'!A:K,2,FALSE) -> 44247 | P90: =_xlfn.DAYS(O90,$O$2) -> 39
A91: 297 | B91: POSITIVE | C91: pos | F91: 1 | I91: =F91-G91 -> 1 | J91: =VLOOKUP(A91,'Deployment Ct Data'!A:K,7,FALSE) -> 36.819 | K91: =VLOOKUP(A91,'Deployment Ct Data'!A:K,10,FALSE) -> -5.447 | L91: =VLOOKUP(A91,'Deployment Ct Data'!A:K,8,FALSE) -> 38.848 | M91: =VLOOKUP(A91,'Deployment Ct Data'!A:K,11,FALSE) -> -7.476 | N91: =VLOOKUP(A91,'Deployment Ct Data'!A:K,9,FALSE) -> 42.839 | O91: =VLOOKUP(A91,'Deployment Ct Data'!A:K,2,FALSE) -> 44249 | P91: =_xlfn.DAYS(O91,$O$2) -> 41
... A131: 155 | B131: POSITIVE | C131: pos | F131: 1 | I131: =F131-G131 -> 1 | J131: =VLOOKUP(A131,'Deployment Ct Data'!A:K,7,FALSE) -> 26.83 | K131: =VLOOKUP(A131,'Deployment Ct Data'!A:K,10,FALSE) -> 2.75 | L131: =VLOOKUP(A131,'Deployment Ct Data'!A:K,8,FALSE) -> 27.98 | M131: =VLOOKUP(A131,'Deployment Ct Data'!A:K,11,FALSE) -> 1.6 | N131: =VLOOKUP(A131,'Deployment Ct Data'!A:K,9,FALSE) -> 27.142 | O131: =VLOOKUP(A131,'Deployment Ct Data'!A:K,2,FALSE) -> 44253 | P131: =_xlfn.DAYS(O131,$O$2) -> 45
A132: 332 | B132: POSITIVE | E132: pos | F132: 1 | I132: =F132-G132 -> 1 | J132: =VLOOKUP(A132,'Deployment Ct Data'!A:K,7,FALSE) -> 26.983 | K132: =VLOOKUP(A132,'Deployment Ct Data'!A:K,10,FALSE) -> 1.83 | L132: =VLOOKUP(A132,'Deployment Ct Data'!A:K,8,FALSE) -> 27.825 | M132: =VLOOKUP(A132,'Deployment Ct Data'!A:K,11,FALSE) -> 0.988 | N132: =VLOOKUP(A132,'Deployment Ct Data'!A:K,9,FALSE) -> 27.664 | O132: =VLOOKUP(A132,'Deployment Ct Data'!A:K,2,FALSE) -> 44253 | P132: =_xlfn.DAYS(O132,$O$2) -> 45
A133: 264 | B133: POSITIVE | C133: pos | F133: 1 | I133: =F133-G133 -> 1 | J133: =VLOOKUP(A133,'Deployment Ct Data'!A:K,7,FALSE) -> 27.463 | K133: =VLOOKUP(A133,'Deployment Ct Data'!A:K,10,FALSE) -> 2.183 | L133: =VLOOKUP(A133,'Deployment Ct Data'!A:K,8,FALSE) -> 28.39 | M133: =VLOOKUP(A133,'Deployment Ct Data'!A:K,11,FALSE) -> 1.256 | N133: =VLOOKUP(A133,'Deployment Ct Data'!A:K,9,FALSE) -> 27.903 | O133: =VLOOKUP(A133,'Deployment Ct Data'!A:K,2,FALSE) -> 44253 | P133: =_xlfn.DAYS(O133,$O$2) -> 45
A134: 184 | B134: POSITIVE | C134: pos | F134: 1 | I134: =F134-G134 -> 1 | J134: =VLOOKUP(A134,'Deployment Ct Data'!A:K,7,FALSE) -> 28.421 | K134: =VLOOKUP(A134,'Deployment Ct Data'!A:K,10,FALSE) -> 1.814 | L134: =VLOOKUP(A134,'Deployment Ct Data'!A:K,8,FALSE) -> 29.974 | M134: =VLOOKUP(A134,'Deployment Ct Data'!A:K,11,FALSE) -> 0.261 | N134: =VLOOKUP(A134,'Deployment Ct Data'!A:K,9,FALSE) -> 29.651 | O134: =VLOOKUP(A134,'Deployment Ct Data'!A:K,2,FALSE) -> 44253 | P134: =_xlfn.DAYS(O134,$O$2) -> 45
A135: 341 | B135: POSITIVE | C135: pos | F135: 1 | I135: =F135-G135 -> 1 | J135: =VLOOKUP(A135,'Deployment Ct Data'!A:K,7,FALSE) -> 29.397 | K135: =VLOOKUP(A135,'Deployment Ct Data'!A:K,10,FALSE) -> -0.637 | L135: =VLOOKUP(A135,'Deployment Ct Data'!A:K,8,FALSE) -> 30.993 | M135: =VLOOKUP(A135,'Deployment Ct Data'!A:K,11,FALSE) -> -2.233 | N135: =VLOOKUP(A135,'Deployment Ct Data'!A:K,9,FALSE) -> 30.142 | O135: =VLOOKUP(A135,'Deployment Ct Data'!A:K,2,FALSE) -> 44253 | P135: =_xlfn.DAYS(O135,$O$2) -> 45
A136: 217 | B136: POSITIVE | C136: pos | F136: 1 | I136: =F136-G136 -> 1 | J136: =VLOOKUP(A136,'Deployment Ct Data'!A:K,7,FALSE) -> 30.921 | K136: =VLOOKUP(A136,'Deployment Ct Data'!A:K,10,FALSE) -> -0.259 | L136: =VLOOKUP(A136,'Deployment Ct Data'!A:K,8,FALSE) -> 32.018 | M136: =VLOOKUP(A136,'Deployment Ct Data'!A:K,11,FALSE) -> -1.356 | N136: =VLOOKUP(A136,'Deployment Ct Data'!A:K,9,FALSE) -> 31.386 | O136: =VLOOKUP(A136,'Deployment Ct Data'!A:K,2,FALSE) -> 44253 | P136: =_xlfn.DAYS(O136,$O$2) -> 45
A137: 164 | B137: POSITIVE | C137: pos | F137: 1 | I137: =F137-G137 -> 1 | J137: =VLOOKUP(A137,'Deployment Ct Data'!A:K,7,FALSE) -> 29.948 | K137: =VLOOKUP(A137,'Deployment Ct Data'!A:K,10,FALSE) -> 0.492 | L137: =VLOOKUP(A137,'Deployment Ct Data'!A:K,8,FALSE) -> 31.45 | M137: =VLOOKUP(A137,'Deployment Ct Data'!A:K,11,FALSE) -> -1.01 | N137: =VLOOKUP(A137,'Deployment Ct Data'!A:K,9,FALSE) -> 31.024 | O137: =VLOOKUP(A137,'Deployment Ct Data'!A:K,2,FALSE) -> 44254 | P137: =_xlfn.DAYS(O137,$O$2) -> 46
A138: 113 | B138: POSITVE | C138: pos | F138: 1 | I138: =F138-G138 -> 1 | J138: =VLOOKUP(A138,'Deployment Ct Data'!A:K,7,FALSE) -> 25.985 | K138: =VLOOKUP(A138,'Deployment Ct Data'!A:K,10,FALSE) -> 2.44 | L138: =VLOOKUP(A138,'Deployment Ct Data'!A:K,8,FALSE) -> 26.213 | M138: =VLOOKUP(A138,'Deployment Ct Data'!A:K,11,FALSE) -> 2.212 | N138: =VLOOKUP(A138,'Deployment Ct Data'!A:K,9,FALSE) -> 26.123 | O138: =VLOOKUP(A138,'Deployment Ct Data'!A:K,2,FALSE) -> 44256 | P138: =_xlfn.DAYS(O138,$O$2) -> 48
A139: 204 | B139: POSITVE | C139: pos | F139: 1 | I139: =F139-G139 -> 1 | J139: =VLOOKUP(A139,'Deployment Ct Data'!A:K,7,FALSE) -> 27.107 | K139: =VLOOKUP(A139,'Deployment Ct Data'!A:K,10,FALSE) -> 2.473 | L139: =VLOOKUP(A139,'Deployment Ct Data'!A:K,8,FALSE) -> 27.653 | M139: =VLOOKUP(A139,'Deployment Ct Data'!A:K,11,FALSE) -> 1.927 | N139: =VLOOKUP(A139,'Deployment Ct Data'!A:K,9,FALSE) -> 27.713 | O139: =VLOOKUP(A139,'Deployment Ct Data'!A:K,2,FALSE) -> 44256 | P139: =_xlfn.DAYS(O139,$O$2) -> 48
A140: 103 | B140: POSITVE | C140: pos | F140: 1 | I140: =F140-G140 -> 1 | J140: =VLOOKUP(A140,'Deployment Ct Data'!A:K,7,FALSE) -> 31.42 | K140: =VLOOKUP(A140,'Deployment Ct Data'!A:K,10,FALSE) -> -0.908 | L140: =VLOOKUP(A140,'Deployment Ct Data'!A:K,8,FALSE) -> 31.993 | M140: =VLOOKUP(A140,'Deployment Ct Data'!A:K,11,FALSE) -> -1.481 | N140: =VLOOKUP(A140,'Deployment Ct Data'!A:K,9,FALSE) -> 32.323 | O140: =VLOOKUP(A140,'Deployment Ct Data'!A:K,2,FALSE) -> 44256 | P140: =_xlfn.DAYS(O140,$O$2) -> 48
A141: 374 | B141: POSITVE | C141: pos | F141: 1 | I141: =F141-G141 -> 1 | J141: =VLOOKUP(A141,'Deployment Ct Data'!A:K,7,FALSE) -> 31.465 | K141: =VLOOKUP(A141,'Deployment Ct Data'!A:K,10,FALSE) -> -3.216 | L141: =VLOOKUP(A141,'Deployment Ct Data'!A:K,8,FALSE) -> 32.414 | M141: =VLOOKUP(A141,'Deployment Ct Data'!A:K,11,FALSE) -> -4.165 | N141: =VLOOKUP(A141,'Deployment Ct Data'!A:K,9,FALSE) -> 32.527 | O141: =VLOOKUP(A141,'Deployment Ct Data'!A:K,2,FALSE) -> 44256 | P141: =_xlfn.DAYS(O141,$O$2) -> 48
A142: 167 | B142: POSITVE | E142: pos | F142: 1 | I142: =F142-G142 -> 1 | J142: =VLOOKUP(A142,'Deployment Ct Data'!A:K,7,FALSE) -> 32.353 | K142: =VLOOKUP(A142,'Deployment Ct Data'!A:K,10,FALSE) -> -3.515 | L142: =VLOOKUP(A142,'Deployment Ct Data'!A:K,8,FALSE) -> 32.672 | M142: =VLOOKUP(A142,'Deployment Ct Data'!A:K,11,FALSE) -> -3.834 | N142: =VLOOKUP(A142,'Deployment Ct Data'!A:K,9,FALSE) -> 32.823 | O142: =VLOOKUP(A142,'Deployment Ct Data'!A:K,2,FALSE) -> 44256 | P142: =_xlfn.DAYS(O142,$O$2) -> 48
A143: 112 | B143: POSITIVE | C143: pos | F143: 1 | I143: =F143-G143 -> 1 | J143: =VLOOKUP(A143,'Deployment Ct Data'!A:K,7,FALSE) -> 25.737 | K143: =VLOOKUP(A143,'Deployment Ct Data'!A:K,10,FALSE) -> 3.432 | L143: =VLOOKUP(A143,'Deployment Ct Data'!A:K,8,FALSE) -> 26.93 | M143: =VLOOKUP(A143,'Deployment Ct Data'!A:K,11,FALSE) -> 2.239 | N143: =VLOOKUP(A143,'Deployment Ct Data'!A:K,9,FALSE) -> 26.253 | O143: =VLOOKUP(A143,'Deployment Ct Data'!A:K,2,FALSE) -> 44257 | P143: =_xlfn.DAYS(O143,$O$2) -> 49
A144: 304 | B144: POSITIVE | C144: pos | F144: 1 | I144: =F144-G144 -> 1 | J144: =VLOOKUP(A144,'Deployment Ct Data'!A:K,7,FALSE) -> 28.711 | K144: =VLOOKUP(A144,'Deployment Ct Data'!A:K,10,FALSE) -> -0.296 | L144: =VLOOKUP(A144,'Deployment Ct Data'!A:K,8,FALSE) -> 29.078 | M144: =VLOOKUP(A144,'Deployment Ct Data'!A:K,11,FALSE) -> -0.663 | N144: =VLOOKUP(A144,'Deployment Ct Data'!A:K,9,FALSE) -> 29.367 | O144: =VLOOKUP(A144,'Deployment Ct Data'!A:K,2,FALSE) -> 44257 | P144: =_xlfn.DAYS(O144,$O$2) -> 49
A145: 230 | B145: POSITIVE | C145: pos | F145: 1 | I145: =F145-G145 -> 1 | J145: =VLOOKUP(A145,'Deployment Ct Data'!A:K,7,FALSE) -> 29.96 | K145: =VLOOKUP(A145,'Deployment Ct Data'!A:K,10,FALSE) -> -0.856 | L145: =VLOOKUP(A145,'Deployment Ct Data'!A:K,8,FALSE) -> 30.74 | M145: =VLOOKUP(A145,'Deployment Ct Data'!A:K,11,FALSE) -> -1.636 | N145: =VLOOKUP(A145,'Deployment Ct Data'!A:K,9,FALSE) -> 31.256 | O145: =VLOOKUP(A145,'Deployment Ct Data'!A:K,2,FALSE) -> 44257 | P145: =_xlfn.DAYS(O145,$O$2) -> 49
A146: 126 | B146: POSITIVE | C146: pos | F146: 1 | I146: =F146-G146 -> 1 | J146: =VLOOKUP(A146,'Deployment Ct Data'!A:K,7,FALSE) -> 30.282 | K146: =VLOOKUP(A146,'Deployment Ct Data'!A:K,10,FALSE) -> -1.005 | L146: =VLOOKUP(A146,'Deployment Ct Data'!A:K,8,FALSE) -> 30.563 | M146: =VLOOKUP(A146,'Deployment Ct Data'!A:K,11,FALSE) -> -1.286 | N146: =VLOOKUP(A146,'Deployment Ct Data'!A:K,9,FALSE) -> 31.22 | O146: =VLOOKUP(A146,'Deployment Ct Data'!A:K,2,FALSE) -> 44257 | P146: =_xlfn.DAYS(O146,$O$2) -> 49
A147: 57 | B147: POSITIVE | C147: pos | F147: 1 | I147: =F147-G147 -> 1 | J147: =VLOOKUP(A147,'Deployment Ct Data'!A:K,7,FALSE) -> 31.037 | K147: =VLOOKUP(A147,'Deployment Ct Data'!A:K,10,FALSE) -> -1.853 | L147: =VLOOKUP(A147,'Deployment Ct Data'!A:K,8,FALSE) -> 31.353 | M147: =VLOOKUP(A147,'Deployment Ct Data'!A:K,11,FALSE) -> -2.169 | N147: =VLOOKUP(A147,'Deployment Ct Data'!A:K,9,FALSE) -> 32.254 | O147: =VLOOKUP(A147,'Deployment Ct Data'!A:K,2,FALSE) -> 44257 | P147: =_xlfn.DAYS(O147,$O$2) -> 49
A148: 370 | B148: POSITIVE | C148: pos | F148: 1 | I148: =F148-G148 -> 1 | J148: =VLOOKUP(A148,'Deployment Ct Data'!A:K,7,FALSE) -> 31.717 | K148: =VLOOKUP(A148,'Deployment Ct Data'!A:K,10,FALSE) -> -2.861 | L148: =VLOOKUP(A148,'Deployment Ct Data'!A:K,8,FALSE) -> 33.306 | M148: =VLOOKUP(A148,'Deployment Ct Data'!A:K,11,FALSE) -> -4.45 | N148: =VLOOKUP(A148,'Deployment Ct Data'!A:K,9,FALSE) -> 33.775 | O148: =VLOOKUP(A148,'Deployment Ct Data'!A:K,2,FALSE) -> 44257 | P148: =_xlfn.DAYS(O148,$O$2) -> 49
A149: 254 | B149: POSITIVE | E149: pos | F149: 1 | I149: =F149-G149 -> 1 | J149: =VLOOKUP(A149,'Deployment Ct Data'!A:K,7,FALSE) -> 32.187 | K149: =VLOOKUP(A149,'Deployment Ct Data'!A:K,10,FALSE) -> -2.838 | L149: =VLOOKUP(A149,'Deployment Ct Data'!A:K,8,FALSE) -> 32.732 | M149: =VLOOKUP(A149,'Deployment Ct Data'!A:K,11,FALSE) -> -3.383 | N149: =VLOOKUP(A149,'Deployment Ct Data'!A:K,9,FALSE) -> 32.971 | O149: =VLOOKUP(A149,'Deployment Ct Data'!A:K,2,FALSE) -> 44257 | P149: =_xlfn.DAYS(O149,$O$2) -> 49
A150: 176 | B150: POSITIVE | C150: pos | F150: 1 | I150: =F150-G150 -> 1 | J150: =VLOOKUP(A150,'Deployment Ct Data'!A:K,7,FALSE) -> 32.223 | K150: =VLOOKUP(A150,'Deployment Ct Data'!A:K,10,FALSE) -> -2.238 | L150: =VLOOKUP(A150,'Deployment Ct Data'!A:K,8,FALSE) -> 32.499 | M150: =VLOOKUP(A150,'Deployment Ct Data'!A:K,11,FALSE) -> -2.514 | N150: =VLOOKUP(A150,'Deployment Ct Data'!A:K,9,FALSE) -> 33.015 | O150: =VLOOKUP(A150,'Deployment Ct Data'!A:K,2,FALSE) -> 44257 | P150: =_xlfn.DAYS(O150,$O$2) -> 49
A151: 49 | B151: POSITIVE | C151: pos | F151: 1 | I151: =F151-G151 -> 1 | J151: =VLOOKUP(A151,'Deployment Ct Data'!A:K,7,FALSE) -> 32.531 | K151: =VLOOKUP(A151,'Deployment Ct Data'!A:K,10,FALSE) -> -3.78 | L151: =VLOOKUP(A151,'Deployment Ct Data'!A:K,8,FALSE) -> 32.739 | M151: =VLOOKUP(A151,'Deployment Ct Data'!A:K,11,FALSE) -> -3.988 | N151: =VLOOKUP(A151,'Deployment Ct Data'!A:K,9,FALSE) -> 32.974 | O151: =VLOOKUP(A151,'Deployment Ct Data'!A:K,2,FALSE) -> 44257 | P151: =_xlfn.DAYS(O151,$O$2) -> 49
A152: 219 | B152: POSITIVE | C152: pos | F152: 1 | I152: =F152-G152 -> 1 | J152: =VLOOKUP(A152,'Deployment Ct Data'!A:K,7,FALSE) -> 33.178 | K152: =VLOOKUP(A152,'Deployment Ct Data'!A:K,10,FALSE) -> -4.766 | L152: =VLOOKUP(A152,'Deployment Ct Data'!A:K,8,FALSE) -> 33.333 | M152: =VLOOKUP(A152,'Deployment Ct Data'!A:K,11,FALSE) -> -4.921 | N152: =VLOOKUP(A152,'Deployment Ct Data'!A:K,9,FALSE) -> 33.796 | O152: =VLOOKUP(A152,'Deployment Ct Data'!A:K,2,FALSE) -> 44257 | P152: =_xlfn.DAYS(O152,$O$2) -> 49
A153: 203 | B153: POSITIVE | C153: pos | F153: 1 | I153: =F153-G153 -> 1 | J153: =VLOOKUP(A153,'Deployment Ct Data'!A:K,7,FALSE) -> 33.309 | K153: =VLOOKUP(A153,'Deployment Ct Data'!A:K,10,FALSE) -> -3.825 | L153: =VLOOKUP(A153,'Deployment Ct Data'!A:K,8,FALSE) -> 34.822 | M153: =VLOOKUP(A153,'Deployment Ct Data'!A:K,11,FALSE) -> -5.338 | N153: =VLOOKUP(A153,'Deployment Ct Data'!A:K,9,FALSE) -> 35.334 | O153: =VLOOKUP(A153,'Deployment Ct Data'!A:K,2,FALSE) -> 44257 | P153: =_xlfn.DAYS(O153,$O$2) -> 49
A154: 73 | B154: POSITIVE | C154: pos | F154: 1 | I154: =F154-G154 -> 1 | J154: =VLOOKUP(A154,'Deployment Ct Data'!A:K,7,FALSE) -> 33.865 | K154: =VLOOKUP(A154,'Deployment Ct Data'!A:K,10,FALSE) -> -3.088 | L154: =VLOOKUP(A154,'Deployment Ct Data'!A:K,8,FALSE) -> 35.088 | M154: =VLOOKUP(A154,'Deployment Ct Data'!A:K,11,FALSE) -> -4.311 | N154: =VLOOKUP(A154,'Deployment Ct Data'!A:K,9,FALSE) -> 35.142 | O154: =VLOOKUP(A154,'Deployment Ct Data'!A:K,2,FALSE) -> 44257 | P154: =_xlfn.DAYS(O154,$O$2) -> 49
A155: 154 | B155: POSITIVE | C155: pos | F155: 1 | I155: =F155-G155 -> 1 | J155: =VLOOKUP(A155,'Deployment Ct Data'!A:K,7,FALSE) -> 33.982 | K155: =VLOOKUP(A155,'Deployment Ct Data'!A:K,10,FALSE) -> -3.509 | L155: =VLOOKUP(A155,'Deployment Ct Data'!A:K,8,FALSE) -> 51 | M155: =VLOOKUP(A155,'Deployment Ct Data'!A:K,11,FALSE) -> -20.527 | N155: =VLOOKUP(A155,'Deployment Ct Data'!A:K,9,FALSE) -> 37.444 | O155: =VLOOKUP(A155,'Deployment Ct Data'!A:K,2,FALSE) -> 44257 | P155: =_xlfn.DAYS(O155,$O$2) -> 49
A156: 210 | B156: POSITIVE | C156: pos | F156: 1 | I156: =F156-G156 -> 1 | J156: =VLOOKUP(A156,'Deployment Ct Data'!A:K,7,FALSE) -> 34.441 | K156: =VLOOKUP(A156,'Deployment Ct Data'!A:K,10,FALSE) -> -6.196 | L156: =VLOOKUP(A156,'Deployment Ct Data'!A:K,8,FALSE) -> 35.291 | M156: =VLOOKUP(A156,'Deployment Ct Data'!A:K,11,FALSE) -> -7.046 | N156: =VLOOKUP(A156,'Deployment Ct Data'!A:K,9,FALSE) -> 35.89 | O156: =VLOOKUP(A156,'Deployment Ct Data'!A:K,2,FALSE) -> 44257 | P156: =_xlfn.DAYS(O156,$O$2) -> 49
A157: 28 | B157: POSITIVE | C157: pos | F157: 1 | I157: =F157-G157 -> 1 | J157: =VLOOKUP(A157,'Deployment Ct Data'!A:K,7,FALSE) -> 35.733 | K157: =VLOOKUP(A157,'Deployment Ct Data'!A:K,10,FALSE) -> -6.99 | L157: =VLOOKUP(A157,'Deployment Ct Data'!A:K,8,FALSE) -> 36.79 | M157: =VLOOKUP(A157,'Deployment Ct Data'!A:K,11,FALSE) -> -8.047 | N157: =VLOOKUP(A157,'Deployment Ct Data'!A:K,9,FALSE) -> 45.154 | O157: =VLOOKUP(A157,'Deployment Ct Data'!A:K,2,FALSE) -> 44257 | P157: =_xlfn.DAYS(O157,$O$2) -> 49
A158: 173 | B158: POSITIVE | C158: pos | F158: 1 | I158: =F158-G158 -> 1 | J158: =VLOOKUP(A158,'Deployment Ct Data'!A:K,7,FALSE) -> 37.691 | K158: =VLOOKUP(A158,'Deployment Ct Data'!A:K,10,FALSE) -> -8.409 | L158: =VLOOKUP(A158,'Deployment Ct Data'!A:K,8,FALSE) -> 41.469 | M158: =VLOOKUP(A158,'Deployment Ct Data'!A:K,11,FALSE) -> -12.187 | N158: =VLOOKUP(A158,'Deployment Ct Data'!A:K,9,FALSE) -> 47.153 | O158: =VLOOKUP(A158,'Deployment Ct Data'!A:K,2,FALSE) -> 44257 | P158: =_xlfn.DAYS(O158,$O$2) -> 49
A159: 212 | B159: POSITIVE | C159: pos | F159: 1 | I159: =F159-G159 -> 1 | J159: =VLOOKUP(A159,'Deployment Ct Data'!A:K,7,FALSE) -> 24.938 | K159: =VLOOKUP(A159,'Deployment Ct Data'!A:K,10,FALSE) -> 7.52 | L159: =VLOOKUP(A159,'Deployment Ct Data'!A:K,8,FALSE) -> 25.383 | M159: =VLOOKUP(A159,'Deployment Ct Data'!A:K,11,FALSE) -> 7.075 | N159: =VLOOKUP(A159,'Deployment Ct Data'!A:K,9,FALSE) -> 25.282 | O159: =VLOOKUP(A159,'Deployment Ct Data'!A:K,2,FALSE) -> 44258 | P159: =_xlfn.DAYS(O159,$O$2) -> 50
A160: 205 | B160: POSITIVE | C160: pos | F160: 1 | I160: =F160-G160 -> 1 | J160: =VLOOKUP(A160,'Deployment Ct Data'!A:K,7,FALSE) -> 25.953 | K160: =VLOOKUP(A160,'Deployment Ct Data'!A:K,10,FALSE) -> 4.071 | L160: =VLOOKUP(A160,'Deployment Ct Data'!A:K,8,FALSE) -> 26.292 | M160: =VLOOKUP(A160,'Deployment Ct Data'!A:K,11,FALSE) -> 3.732 | N160: =VLOOKUP(A160,'Deployment Ct Data'!A:K,9,FALSE) -> 26.481 | O160: =VLOOKUP(A160,'Deployment Ct Data'!A:K,2,FALSE) -> 44258 | P160: =_xlfn.DAYS(O160,$O$2) -> 50
A161: 321 | B161: POSITIVE | C161: pos | F161: 1 | I161: =F161-G161 -> 1 | J161: =VLOOKUP(A161,'Deployment Ct Data'!A:K,7,FALSE) -> 26.266 | K161: =VLOOKUP(A161,'Deployment Ct Data'!A:K,10,FALSE) -> 8.975 | L161: =VLOOKUP(A161,'Deployment Ct Data'!A:K,8,FALSE) -> 28.218 | M161: =VLOOKUP(A161,'Deployment Ct Data'!A:K,11,FALSE) -> 7.023 | N161: =VLOOKUP(A161,'Deployment Ct Data'!A:K,9,FALSE) -> 26.963 | O161: =VLOOKUP(A161,'Deployment Ct Data'!A:K,2,FALSE) -> 44258 | P161: =_xlfn.DAYS(O161,$O$2) -> 50
... A173: 136 | B173: POSITIVE | C173: pos | F173: 1 | I173: =F173-G173 -> 1 | J173: =VLOOKUP(A173,'Deployment Ct Data'!A:K,7,FALSE) -> 27.429 | K173: =VLOOKUP(A173,'Deployment Ct Data'!A:K,10,FALSE) -> 3.063 | L173: =VLOOKUP(A173,'Deployment Ct Data'!A:K,8,FALSE) -> 28.216 | M173: =VLOOKUP(A173,'Deployment Ct Data'!A:K,11,FALSE) -> 2.276 | N173: =VLOOKUP(A173,'Deployment Ct Data'!A:K,9,FALSE) -> 28.039 | O173: =VLOOKUP(A173,'Deployment Ct Data'!A:K,2,FALSE) -> 44259 | P173: =_xlfn.DAYS(O173,$O$2) -> 51
A174: 368 | B174: POSITIVE | E174: pos | F174: 1 | I174: =F174-G174 -> 1 | J174: =VLOOKUP(A174,'Deployment Ct Data'!A:K,7,FALSE) -> 29.073 | K174: =VLOOKUP(A174,'Deployment Ct Data'!A:K,10,FALSE) -> 0.069 | L174: =VLOOKUP(A174,'Deployment Ct Data'!A:K,8,FALSE) -> 29.627 | M174: =VLOOKUP(A174,'Deployment Ct Data'!A:K,11,FALSE) -> -0.485 | N174: =VLOOKUP(A174,'Deployment Ct Data'!A:K,9,FALSE) -> 30.013 | O174: =VLOOKUP(A174,'Deployment Ct Data'!A:K,2,FALSE) -> 44259 | P174: =_xlfn.DAYS(O174,$O$2) -> 51
A175: 282 | B175: POSITIVE | C175: pos | F175: 1 | I175: =F175-G175 -> 1 | J175: =VLOOKUP(A175,'Deployment Ct Data'!A:K,7,FALSE) -> 31.48 | K175: =VLOOKUP(A175,'Deployment Ct Data'!A:K,10,FALSE) -> -1.653 | L175: =VLOOKUP(A175,'Deployment Ct Data'!A:K,8,FALSE) -> 31.863 | M175: =VLOOKUP(A175,'Deployment Ct Data'!A:K,11,FALSE) -> -2.036 | N175: =VLOOKUP(A175,'Deployment Ct Data'!A:K,9,FALSE) -> 33.147 | O175: =VLOOKUP(A175,'Deployment Ct Data'!A:K,2,FALSE) -> 44259 | P175: =_xlfn.DAYS(O175,$O$2) -> 51
A176: 234 | B176: POSITIVE | C176: pos | F176: 1 | I176: =F176-G176 -> 1 | J176: =VLOOKUP(A176,'Deployment Ct Data'!A:K,7,FALSE) -> 31.914 | K176: =VLOOKUP(A176,'Deployment Ct Data'!A:K,10,FALSE) -> -2.941 | L176: =VLOOKUP(A176,'Deployment Ct Data'!A:K,8,FALSE) -> 32.594 | M176: =VLOOKUP(A176,'Deployment Ct Data'!A:K,11,FALSE) -> -3.621 | N176: =VLOOKUP(A176,'Deployment Ct Data'!A:K,9,FALSE) -> 33.385 | O176: =VLOOKUP(A176,'Deployment Ct Data'!A:K,2,FALSE) -> 44259 | P176: =_xlfn.DAYS(O176,$O$2) -> 51
A177: 220 | B177: POSITIVE | C177: pos | F177: 1 | I177: =F177-G177 -> 1 | J177: =VLOOKUP(A177,'Deployment Ct Data'!A:K,7,FALSE) -> 35.222 | K177: =VLOOKUP(A177,'Deployment Ct Data'!A:K,10,FALSE) -> -6.328 | L177: =VLOOKUP(A177,'Deployment Ct Data'!A:K,8,FALSE) -> 35.947 | M177: =VLOOKUP(A177,'Deployment Ct Data'!A:K,11,FALSE) -> -7.053 | N177: =VLOOKUP(A177,'Deployment Ct Data'!A:K,9,FALSE) -> 51 | O177: =VLOOKUP(A177,'Deployment Ct Data'!A:K,2,FALSE) -> 44259 | P177: =_xlfn.DAYS(O177,$O$2) -> 51
A178: 362 | B178: POSITIVE | C178: pos | F178: 1 | I178: =F178-G178 -> 1 | J178: =VLOOKUP(A178,'Deployment Ct Data'!A:K,7,FALSE) -> 37.205 | K178: =VLOOKUP(A178,'Deployment Ct Data'!A:K,10,FALSE) -> -5.061 | L178: =VLOOKUP(A178,'Deployment Ct Data'!A:K,8,FALSE) -> 35.969 | M178: =VLOOKUP(A178,'Deployment Ct Data'!A:K,11,FALSE) -> -3.825 | N178: =VLOOKUP(A178,'Deployment Ct Data'!A:K,9,FALSE) -> 51 | O178: =VLOOKUP(A178,'Deployment Ct Data'!A:K,2,FALSE) -> 44259 | P178: =_xlfn.DAYS(O178,$O$2) -> 51
A179: 267 | B179: POSITIVE | C179: pos | F179: 1 | I179: =F179-G179 -> 1 | J179: =VLOOKUP(A179,'Deployment Ct Data'!A:K,7,FALSE) -> 26.144 | K179: =VLOOKUP(A179,'Deployment Ct Data'!A:K,10,FALSE) -> 4.14 | L179: =VLOOKUP(A179,'Deployment Ct Data'!A:K,8,FALSE) -> 26.454 | M179: =VLOOKUP(A179,'Deployment Ct Data'!A:K,11,FALSE) -> 3.83 | N179: =VLOOKUP(A179,'Deployment Ct Data'!A:K,9,FALSE) -> 26.92 | O179: =VLOOKUP(A179,'Deployment Ct Data'!A:K,2,FALSE) -> 44260 | P179: =_xlfn.DAYS(O179,$O$2) -> 52
...

Sheet Validation Saliva Positives
A1: Data ID number | B1: Test Date | C1: Saliva | D1: First Swab Result | E1: Second Swab Result
A2: 1 | B2: 44154 | C2: positive | D2: negative | E2: referred - results unknown
A3: 2 | B3: 44154 | C3: positive | D3: positive
A4: 3 | B4: 44154 | C4: positive | D4: positive
A5: 4 | B5: 44154 | C5: positive | D5: negative | E5: referred - results unknown
A6: 5 | B6: 44154 | C6: positive | D6: negative | E6: referred - results unknown
A7: 6 | B7: 44153 | C7: positive | D7: positive
A8: 7 | B8: 44153 | C8: positive | D8: positive
A9: 8 | B9: 44153 | C9: positive | D9: positive
A10: 9 | B10: 44152 | C10: weak | D10: negative | E10: positive
A11: 10 | B11: 44152 | C11: positive | D11: positive
A12: 11 | B12: 44152 | C12: weak | D12: negative | E12: referred - no show
A13: 12 | B13: 44152 | C13: positive | D13: positive
A14: 13 | B14: 44152 | C14: weak | D14: negative | E14: referred - no show
A15: 14 | B15: 44152 | C15: positive | D15: negative | E15: positive
A16: 15 | B16: 44152 | C16: positive | D16: negative | E16: positive
A17: 16 | B17: 44151 | C17: positive | D17: positive
A18: 17 | B18: 44151 | C18: positive | D18: positive
A19: 18 | B19: 44151 | C19: positive | D19: negative | E19: positive
A20: 19 | B20: 44151 | C20: positive | D20: positive
A21: 20 | B21: 44151 | C21: positive | D21: positive
A22: 21 | B22: 44148 | C22: positive | D22: negative | E22: positive
A23: 22 | B23: 44148 | C23: positive | D23: positive
A24: 23 | B24: 44148 | C24: positive | D24: positive
A25: 24 | B25: 44148 | C25: positive | D25: positive
A26: 25 | B26: 44148 | C26: positive | D26: positive
A27: 26 | B27: 44148 | C27: positive | D27: positive
A28: 27 | B28: 44148 | C28: positive | D28: positive
A29: 28 | B29: 44148 | C29: positive | D29: positive
A30: 29 | B30: 44148 | C30: positive | D30: negative | E30: in quarantine - roommate positive
A31: 30 | B31: 44148 | C31: positive | D31: positive
A32: 31 | B32: 44148 | C32: positive | D32: positive
A33: 32 | B33: 44147 | C33: positive | D33: positive
A34: 33 | B34: 44147 | C34: positive | D34: positive
A35: 34 | B35: 44147 | C35: positive | D35: positive
A36: 35 | B36: 44146 | C36: positive | D36: positive
A37: 36 | B37: 44146 | C37: positive | D37: positive
A38: 37 | B38: 44146 | C38: positive | D38: negative | E38: in quarantine - roommate positive
A39: 38 | B39: 44146 | C39: positive | D39: positive
A40: 39 | B40: 44146 | C40: positive | D40: negative | E40: positive
A41: 40 | B41: 44146 | C41: positive | D41: positive
A42: 41 | B42: 44145 | C42: positive | D42: negative | E42: positive
A43: 42 | B43: 44144 | C43: positive | D43: negative | E43: positive
A44: 43 | B44: 44144 | C44: positive | D44: positive
A45: 44 | B45: 44144 | C45: positive | D45: positive
A46: 45 | B46: 44144 | C46: positive | D46: negative | E46: positive
A47: 46 | B47: 44144 | C47: positive | D47: Positive
A48: 47 | B48: 44144 | C48: positive | D48: negative | E48: referred - no show
A49: 48 | B49: 44141 | C49: positive | D49: negative | E49: positive
A50: 49 | B50: 44141 | C50: positive | D50: postive
A51: 50 | B51: 44141 | C51: positive | D51: postive
A52: 51 | B52: 44140 | C52: positive | D52: negative | E52: Positive

Sheet Validation Comparative stats
A1: Samples Acquired | B1: Test Processed | C1: Total Tests | D1: Positive Tests | E1: Inconclusives | F1: Positivity Rate | G1: False negative | I1: TriHealth MU SURV | J1: Tests | K1: Positive | L1: Rate
A2: 44139 | B2: 44140 | C2: =10*16-2 -> 158 | D2: 0 | F2: =D2/C2 -> 0 | I2: 44139 | J2: 401 | K2: 0 | L2: =K2/J2 -> 0
A3: 44140 | B3: 44141 | C3: =13*16+3 -> 211 | D3: 1 | F3: =D3/C3 -> 0.0047393365 | I3: 44140 | J3: 416 | K3: 1 | L3: =K3/J3 -> 0.0024038462
A4: 44141 | B4: 44144 | C4: =22*16-2 -> 350 | D4: 3 | F4: =D4/C4 -> 0.0085714286 | G4: 2 | I4: 44141 | J4: 665 | K4: 7 | L4: =K4/J4 -> 0.010526316
A5: 44144 | B5: 44145 | C5: =14*16-3 -> 221 | D5: 6 | F5: =D5/C5 -> 0.027149321 | I5: 44144 | J5: 463 | K5: 5 | L5: =K5/J5 -> 0.010799136
A6: 44145 | B6: 44146 | C6: =9*16+2 -> 146 | D6: 1 | F6: =D6/C6 -> 0.0068493151 | I6: 44145 | J6: 317 | K6: 4 | L6: =K6/J6 -> 0.012618297
A7: 44146 | B7: 44147 | C7: =11*16+2 -> 178 | D7: 6 | F7: =D7/C7 -> 0.033707865 | I7: 44146 | J7: 453 | K7: 7 | L7: =K7/J7 -> 0.015452539
A8: 44147 | B8: 44148 | C8: =14*16+7 -> 231 | D8: 3 | F8: =D8/C8 -> 0.012987013 | I8: 44147 | J8: 432 | K8: 6 | L8: =K8/J8 -> 0.013888889
A9: 11/13 - 11/14 | B9: 44151 | C9: =23*16-1 -> 367 | D9: 11 | F9: =D9/C9 -> 0.029972752 | G9: 1 | I9: 44148 | J9: 591 | K9: 13 | L9: =K9/J9 -> 0.021996616
A10: 44151 | B10: 44152 | C10: =13*16+6 -> 214 | D10: 5 | F10: =D10/C10 -> 0.023364486 | I10: 44151 | J10: 414 | K10: 5 | L10: =K10/J10 -> 0.012077295
A11: 44152 | B11: 44153 | C11: 192 | D11: 7 | F11: =D11/C11 -> 0.036458333 | I11: 44152 | J11: 367 | K11: 7 | L11: =K11/J11 -> 0.019073569
A12: 44153 | B12: 44154 | C12: 251 | D12: 3 | F12: =D12/C12 -> 0.011952191 | I12: 44153 | J12: 470 | K12: 5 | L12: =K12/J12 -> 0.010638298
A13: 44154 | B13: 44155 | C13: 267 | D13: 5 | F13: =D13/C13 -> 0.018726592 | I13: 44154 | J13: 521 | K13: 4 | L13: =K13/J13 -> 0.0076775432
B14: Total | C14: =SUM(C2:C13) -> 2786 | D14: =SUM(D2:D13) -> 51 | F14: =D14/C14 -> 0.018305815 | I14: Total | J14: =SUM(J2:J13) -> 5510 | K14: =SUM(K2:K13) -> 64 | L14: =K14/J14 -> 0.011615245
B15: Non-zero | C15: =SUM(C3:C13) -> 2628 | D15: =SUM(D3:D13) -> 51 | F15: =D15/C15 -> 0.019406393 | I15: Non-zero | J15: =SUM(J3:J13) -> 5109 | K15: =SUM(K3:K13) -> 64 | L15: =K15/J15 -> 0.012526913
